From mboxrd@z Thu Jan  1 00:00:00 1970
Return-Path: <test-report-bounces@dpdk.org>
Received: from mails.dpdk.org (mails.dpdk.org [217.70.189.124])
	by inbox.dpdk.org (Postfix) with ESMTP id 1B08F43FCD
	for <public@inbox.dpdk.org>; Tue,  7 May 2024 20:12:44 +0200 (CEST)
Received: from mails.dpdk.org (localhost [127.0.0.1])
	by mails.dpdk.org (Postfix) with ESMTP id 1327E43460;
	Tue,  7 May 2024 20:12:44 +0200 (CEST)
Received: from mail-ot1-f98.google.com (mail-ot1-f98.google.com
 [209.85.210.98]) by mails.dpdk.org (Postfix) with ESMTP id B4AEC402DF
 for <test-report@dpdk.org>; Tue,  7 May 2024 20:12:42 +0200 (CEST)
Received: by mail-ot1-f98.google.com with SMTP id
 46e09a7af769-6ed3587b93bso2135370a34.1
 for <test-report@dpdk.org>; Tue, 07 May 2024 11:12:42 -0700 (PDT)
DKIM-Signature: v=1; a=rsa-sha256; c=relaxed/relaxed;
 d=iol.unh.edu; s=unh-iol; t=1715105562; x=1715710362; darn=dpdk.org;
 h=references:in-reply-to:cc:to:from:subject:message-id:date:from:to
 :cc:subject:date:message-id:reply-to;
 bh=GAL21Xz7QBX8mSSTnrJG5qkdIwe+oTfjeUb7FmdPsR4=;
 b=AQFBLiWdbe4jnXIlnfs5QvZzcNEj/Scv2cgSkelhiCYQAHOmydRNftVbq2rjPw3AVu
 LLJMWXwa7dWzXoYmSVE+LQbB8/wob1QcoCbuVidqca8fXEcIlJc15cvtsru0XMzO8x/m
 y6i8u9/sF1bEEUiIC7JAkWTVA7nJJ5CinPR8o=
X-Google-DKIM-Signature: v=1; a=rsa-sha256; c=relaxed/relaxed;
 d=1e100.net; s=20230601; t=1715105562; x=1715710362;
 h=references:in-reply-to:cc:to:from:subject:message-id:date
 :x-gm-message-state:from:to:cc:subject:date:message-id:reply-to;
 bh=GAL21Xz7QBX8mSSTnrJG5qkdIwe+oTfjeUb7FmdPsR4=;
 b=otnvPjmrkdvR5b+zPBTHy4tsklaUTFIXoMtg1yTJLa0vYCqFi//pT0emt5riCQfSLK
 XSdbrndpo5JGU/BHS8KJ65DWfmq145eHXVhfLNUSKqy+Rt7yx8J2Akhw/Su7mD4s5IDy
 Sqg/7bdITyQpXMlSF99WxhZRIV/a+zymVp6IGwp2Kkbnv9dFJzJcyUXelfL3VBW6b26M
 I+Tb2NIj4p4k8ETAAEu/0UiExTC5i59ouLGscMavO3ONhc/zgQiD7wDITvPuZaqwevJN
 d7jjihKel72EgknDv99borZyktefq3/2KW2jhk2npauNZHgyywlBpmCiKwVHAApcd9w1
 847A==
X-Gm-Message-State: AOJu0YyXxWC8zWKFb+MBJ/5v+TpfmLwe79mOPfV4QlmyzGJc2MUqnVmI
 mkK2qdIwhrj88oNs7d8dpLIeFfrWqmBwwSoxeh5B/l5eLKtiMAhaq0s9oOvCBe0Iw06s3+PT/kF
 lvsI7RuFtFk4GUfjatgbDWjEc1nji8O37iYwgEPRy7q2eyk3+uzHMD9Um
X-Google-Smtp-Source: AGHT+IFUA2lRNe1BaBICdcn32tqocT+kqKNhm23cSEWzUFFjjNcz6mUTIW/gQ0aaJBmb4yRTj4P+Q0/zUcDX
X-Received: by 2002:a05:6808:4:b0:3c8:65ee:6795 with SMTP id
 5614622812f47-3c9852b70f5mr313329b6e.22.1715105560472; 
 Tue, 07 May 2024 11:12:40 -0700 (PDT)
Received: from postal.iol.unh.edu (postal.iol.unh.edu.
 [2606:4100:3880:1234::84]) by smtp-relay.gmail.com with ESMTPS id
 h2-20020a0ceec2000000b0069d748bbd74sm832089qvs.42.2024.05.07.11.12.40
 (version=TLS1_2 cipher=ECDHE-ECDSA-AES128-GCM-SHA256 bits=128/128);
 Tue, 07 May 2024 11:12:40 -0700 (PDT)
X-Relaying-Domain: iol.unh.edu
Date: Tue, 07 May 2024 11:12:40 -0700 (PDT)
Message-ID: <663a6f18.0c0a0220.94c00.2a05SMTPIN_ADDED_MISSING@mx.google.com>
Received: from [172.21.0.6] (unknown [172.18.0.240])
 by postal.iol.unh.edu (Postfix) with ESMTP id 30D75605C373;
 Tue,  7 May 2024 14:12:40 -0400 (EDT)
Subject: |SUCCESS| pw139964-139988 [PATCH] [v2,25/25] net/axgbe: modify debug
From: dpdklab@iol.unh.edu
To: Test Report <test-report@dpdk.org>
Cc: dpdk-test-reports@iol.unh.edu
In-Reply-To: <20240507124305.2318-25-venkatkumar.ande@amd.com>
References: <20240507124305.2318-25-venkatkumar.ande@amd.com>
Content-Type: text/plain
X-BeenThere: test-report@dpdk.org
X-Mailman-Version: 2.1.29
Precedence: list
List-Id: automatic DPDK test reports <test-report.dpdk.org>
List-Unsubscribe: <https://mails.dpdk.org/options/test-report>,
 <mailto:test-report-request@dpdk.org?subject=unsubscribe>
List-Archive: <http://mails.dpdk.org/archives/test-report/>
List-Post: <mailto:test-report@dpdk.org>
List-Help: <mailto:test-report-request@dpdk.org?subject=help>
List-Subscribe: <https://mails.dpdk.org/listinfo/test-report>,
 <mailto:test-report-request@dpdk.org?subject=subscribe>
Errors-To: test-report-bounces@dpdk.org

Test-Label: iol-compile-amd64-testing
Test-Status: SUCCESS
http://dpdk.org/patch/139988

_Testing PASS_

Submitter: Venkat Kumar Ande <venkatkumar.ande@amd.com>
Date: Tuesday, May 07 2024 12:43:05 
DPDK git baseline: Repo:dpdk
  Branch: master
  CommitID:baa8e2c6b4d7ce289e891b9c96fb3193311c0f01

139964-139988 --> testing pass

Test environment and result as below:

+---------------------+--------------------+-------------------+----------------------+
|     Environment     | dpdk_meson_compile | dpdk_msvc_compile | dpdk_mingw64_compile |
+=====================+====================+===================+======================+
| FreeBSD 13.3        | PASS               | SKIPPED           | SKIPPED              |
+---------------------+--------------------+-------------------+----------------------+
| Windows Server 2019 | PASS               | SKIPPED           | PASS                 |
+---------------------+--------------------+-------------------+----------------------+
| FreeBSD 14.0        | PASS               | SKIPPED           | SKIPPED              |
+---------------------+--------------------+-------------------+----------------------+
| Windows Server 2022 | PASS               | PASS              | PASS                 |
+---------------------+--------------------+-------------------+----------------------+
| CentOS Stream 9     | PASS               | SKIPPED           | SKIPPED              |
+---------------------+--------------------+-------------------+----------------------+


FreeBSD 13.3
	Kernel: 13.3-RELEASE-p1
	Compiler: clang 17.0.6

Windows Server 2019
	Kernel: 10.0.17763
	Compiler: clang 14.0 and gcc 8.1.0 (MinGW)

FreeBSD 14.0
	Kernel: 14.0
	Compiler: clang 16.0.6

Windows Server 2022
	Kernel: 10.0.20348.2031
	Compiler: clang 15.0.7, gcc 8.1.0 (MinGW), and MSVC VS 17.9

CentOS Stream 9
	Kernel: 5.4.0-167-generic
	Compiler: gcc 11.4.1 20230605

To view detailed results, visit:
https://lab.dpdk.org/results/dashboard/patchsets/29923/

UNH-IOL DPDK Community Lab

To manage your email subscriptions, visit: 
https://lab.dpdk.org/results/dashboard/preferences/subscriptions/