From mboxrd@z Thu Jan  1 00:00:00 1970
Return-Path: <test-report-bounces@dpdk.org>
Received: from mails.dpdk.org (mails.dpdk.org [217.70.189.124])
	by inbox.dpdk.org (Postfix) with ESMTP id D62C043FCF
	for <public@inbox.dpdk.org>; Tue,  7 May 2024 20:35:57 +0200 (CEST)
Received: from mails.dpdk.org (localhost [127.0.0.1])
	by mails.dpdk.org (Postfix) with ESMTP id D215D43460;
	Tue,  7 May 2024 20:35:57 +0200 (CEST)
Received: from mail-qk1-f225.google.com (mail-qk1-f225.google.com
 [209.85.222.225])
 by mails.dpdk.org (Postfix) with ESMTP id 23D8E402DF
 for <test-report@dpdk.org>; Tue,  7 May 2024 20:35:56 +0200 (CEST)
Received: by mail-qk1-f225.google.com with SMTP id
 af79cd13be357-792940cc710so258465585a.2
 for <test-report@dpdk.org>; Tue, 07 May 2024 11:35:56 -0700 (PDT)
DKIM-Signature: v=1; a=rsa-sha256; c=relaxed/relaxed;
 d=iol.unh.edu; s=unh-iol; t=1715106955; x=1715711755; darn=dpdk.org;
 h=references:in-reply-to:cc:to:from:subject:message-id:date:from:to
 :cc:subject:date:message-id:reply-to;
 bh=84OJfbOYGCq0ngodxxqLy08SYxXIbiPm1rCEv9jyhMs=;
 b=TK9sfAFh6vBYoapXrIZ0nulQgTvG0Vvb50L2pPKdhJQE6saFUSKoIBzsOWvz+O99qt
 l08At+VWHXSq/QKv8/XpHMp/uuOfzKHL9N1iWs+teJQ1aRSXbYl4ZMytDlZKKxBaqEgA
 Ann5bc4QlxCU77+mQgFMuLnro1UKaI7Mue2NQ=
X-Google-DKIM-Signature: v=1; a=rsa-sha256; c=relaxed/relaxed;
 d=1e100.net; s=20230601; t=1715106955; x=1715711755;
 h=references:in-reply-to:cc:to:from:subject:message-id:date
 :x-gm-message-state:from:to:cc:subject:date:message-id:reply-to;
 bh=84OJfbOYGCq0ngodxxqLy08SYxXIbiPm1rCEv9jyhMs=;
 b=DuYb7k4kAsGz0DuXaXDz6av8WVhBHRFNW5u8qve9tITQi28Kyseh2BYRqjCRcPQPAG
 uESDmZNM9+AHLchDIEFxCM20RvsofDINflcuAp6hAKEJRSK4Tprl9FDj/n5HHXwaA5v3
 sd62LFNVrnFfdkSPhtAt5pbRwWjTd0BELlsW5jVzILIaauOdCOCIxqhf7RAa9PClLXHF
 AdlQgrCTWAytygUFVLXce6JyQRw4wtUK7Fh9BP8y9V5lHbA4sV10EbQQ1+rxaxwtTRzr
 csVJmbnGR91jD1cuOpv/qQYru2WgBeLvbrNqxOjQzx84Xoy2pmfQd8mAPe9gHlxfBSTZ
 nzXA==
X-Gm-Message-State: AOJu0Yy9d3DRqCdeLzIlMrT3dz/G7cqGOJAWm1mzSsAtelAZxN/3pr10
 e46n6iIYith36Ro39+6N213WgGSl8p+IRmiGM01D+zX+046yHShdGE0tKdOmgUUDLvFsGZ5AoNq
 8meI7NGIMPKxM+VVbqELYYkpbDs5z3kvaaP2fgQBb+ckFyBFp
X-Google-Smtp-Source: AGHT+IGe1p6a6uY6qjLEpSYnOwtMADLcOhMzCSWazFMVKEo2f+beQ68pU7pFFKllUMkfJCO6ybCFScUZuvbw
X-Received: by 2002:ad4:5962:0:b0:6a0:69ef:a264 with SMTP id
 6a1803df08f44-6a15144354fmr5639586d6.23.1715106955544; 
 Tue, 07 May 2024 11:35:55 -0700 (PDT)
Received: from postal.iol.unh.edu (postal.iol.unh.edu.
 [2606:4100:3880:1234::84]) by smtp-relay.gmail.com with ESMTPS id
 n20-20020ad444b4000000b006a0f58494a9sm830743qvt.6.2024.05.07.11.35.55
 (version=TLS1_2 cipher=ECDHE-ECDSA-AES128-GCM-SHA256 bits=128/128);
 Tue, 07 May 2024 11:35:55 -0700 (PDT)
X-Relaying-Domain: iol.unh.edu
Date: Tue, 07 May 2024 11:35:55 -0700 (PDT)
Message-ID: <663a748b.d40a0220.c9106.2571SMTPIN_ADDED_MISSING@mx.google.com>
Received: from [172.17.0.4] (unknown [172.18.0.217])
 by postal.iol.unh.edu (Postfix) with ESMTP id 4154C605C373;
 Tue,  7 May 2024 14:35:55 -0400 (EDT)
Subject: |SUCCESS| pw139964-139988 [PATCH] [v2,25/25] net/axgbe: modify debug
From: dpdklab@iol.unh.edu
To: Test Report <test-report@dpdk.org>
Cc: Venkat Kumar Ande <venkatkumar.ande@amd.com>
In-Reply-To: <20240507124305.2318-25-venkatkumar.ande@amd.com>
References: <20240507124305.2318-25-venkatkumar.ande@amd.com>
Content-Type: text/plain
X-BeenThere: test-report@dpdk.org
X-Mailman-Version: 2.1.29
Precedence: list
List-Id: automatic DPDK test reports <test-report.dpdk.org>
List-Unsubscribe: <https://mails.dpdk.org/options/test-report>,
 <mailto:test-report-request@dpdk.org?subject=unsubscribe>
List-Archive: <http://mails.dpdk.org/archives/test-report/>
List-Post: <mailto:test-report@dpdk.org>
List-Help: <mailto:test-report-request@dpdk.org?subject=help>
List-Subscribe: <https://mails.dpdk.org/listinfo/test-report>,
 <mailto:test-report-request@dpdk.org?subject=subscribe>
Errors-To: test-report-bounces@dpdk.org

Test-Label: iol-unit-amd64-testing
Test-Status: SUCCESS
http://dpdk.org/patch/139988

_Testing PASS_

Submitter: Venkat Kumar Ande <venkatkumar.ande@amd.com>
Date: Tuesday, May 07 2024 12:43:05 
DPDK git baseline: Repo:dpdk
  Branch: master
  CommitID:baa8e2c6b4d7ce289e891b9c96fb3193311c0f01

139964-139988 --> testing pass

Test environment and result as below:

+---------------------+----------------+
|     Environment     | dpdk_unit_test |
+=====================+================+
| CentOS Stream 8     | PASS           |
+---------------------+----------------+
| Windows Server 2019 | PASS           |
+---------------------+----------------+
| CentOS Stream 9     | PASS           |
+---------------------+----------------+
| Debian Bullseye     | PASS           |
+---------------------+----------------+


CentOS Stream 8
	Kernel: 5.4.0-167-generic
	Compiler: gcc 8.5.0 20210514

Windows Server 2019
	Kernel: 10.0.17763
	Compiler: clang 14.0 and gcc 8.1.0 (MinGW)

CentOS Stream 9
	Kernel: 5.4.0-167-generic
	Compiler: gcc 11.4.1 20230605

Debian Bullseye
	Kernel: 5.4.0-167-generic
	Compiler: gcc 10.2.1-6

To view detailed results, visit:
https://lab.dpdk.org/results/dashboard/patchsets/29923/

UNH-IOL DPDK Community Lab

To manage your email subscriptions, visit: 
https://lab.dpdk.org/results/dashboard/preferences/subscriptions/