From: dpdklab@iol.unh.edu
To: Test Report <test-report@dpdk.org>
Cc: dpdk-test-reports@iol.unh.edu
Subject: |SUCCESS| pw139996 [PATCH] [v4] devtools: add .clang-format file
Date: Wed, 08 May 2024 15:13:51 -0700 (PDT) [thread overview]
Message-ID: <663bf91f.170a0220.4511c.0269SMTPIN_ADDED_MISSING@mx.google.com> (raw)
In-Reply-To: <20240508211934.1143124-1-aomeryamac@gmail.com>
Test-Label: iol-abi-testing
Test-Status: SUCCESS
http://dpdk.org/patch/139996
_Testing PASS_
Submitter: Abdullah Omer Yamac <aomeryamac@gmail.com>
Date: Wednesday, May 08 2024 21:19:34
DPDK git baseline: Repo:dpdk
Branch: master
CommitID:7e06c0de1952d3109a5b0c4779d7e7d8059c9d78
139996 --> testing pass
Test environment and result as below:
+-----------------+----------+
| Environment | abi_test |
+=================+==========+
| CentOS Stream 8 | PASS |
+-----------------+----------+
| Fedora 39 | PASS |
+-----------------+----------+
| Ubuntu 22.04 | PASS |
+-----------------+----------+
| Fedora 38 | PASS |
+-----------------+----------+
| RHEL8 | PASS |
+-----------------+----------+
| Debian Bullseye | PASS |
+-----------------+----------+
| CentOS Stream 9 | PASS |
+-----------------+----------+
| Fedora 37 | PASS |
+-----------------+----------+
CentOS Stream 8
Kernel: 5.4.0-167-generic
Compiler: gcc 8.5.0 20210514
Fedora 39
Kernel: Depends on container host
Compiler: gcc 13.2.1
Ubuntu 22.04
Kernel: 5.4.0-167-generic
Compiler: gcc 11.4.0
Fedora 38
Kernel: Depends on container host
Compiler: clang 16.0.6
RHEL8
Kernel: 5.4.0-167-generic
Compiler: gcc 8.5.0 20210514 (Red Hat 8.5.0-20)
Debian Bullseye
Kernel: 5.4.0-167-generic
Compiler: gcc 10.2.1-6
CentOS Stream 9
Kernel: 5.4.0-167-generic
Compiler: gcc 11.4.1 20230605
Fedora 37
Kernel: Depends on container host system
Compiler: gcc 12.3.1
To view detailed results, visit:
https://lab.dpdk.org/results/dashboard/patchsets/29928/
UNH-IOL DPDK Community Lab
To manage your email subscriptions, visit:
https://lab.dpdk.org/results/dashboard/preferences/subscriptions/
next prev parent reply other threads:[~2024-05-08 22:13 UTC|newest]
Thread overview: 89+ messages / expand[flat|nested] mbox.gz Atom feed top
[not found] <20240508211934.1143124-1-aomeryamac@gmail.com>
2024-05-08 20:54 ` |SUCCESS| pw139996 [PATCH v4] " qemudev
2024-05-08 20:59 ` qemudev
2024-05-08 21:19 ` checkpatch
2024-05-08 21:59 ` |SUCCESS| pw139996 [PATCH] [v4] " dpdklab
2024-05-08 22:00 ` dpdklab
2024-05-08 22:00 ` dpdklab
2024-05-08 22:00 ` dpdklab
2024-05-08 22:00 ` dpdklab
2024-05-08 22:01 ` dpdklab
2024-05-08 22:01 ` dpdklab
2024-05-08 22:01 ` dpdklab
2024-05-08 22:02 ` dpdklab
2024-05-08 22:02 ` dpdklab
2024-05-08 22:02 ` dpdklab
2024-05-08 22:02 ` dpdklab
2024-05-08 22:02 ` dpdklab
2024-05-08 22:03 ` dpdklab
2024-05-08 22:03 ` dpdklab
2024-05-08 22:03 ` dpdklab
2024-05-08 22:04 ` dpdklab
2024-05-08 22:04 ` dpdklab
2024-05-08 22:04 ` dpdklab
2024-05-08 22:04 ` dpdklab
2024-05-08 22:05 ` dpdklab
2024-05-08 22:05 ` dpdklab
2024-05-08 22:05 ` dpdklab
2024-05-08 22:06 ` dpdklab
2024-05-08 22:06 ` dpdklab
2024-05-08 22:06 ` dpdklab
2024-05-08 22:07 ` dpdklab
2024-05-08 22:07 ` dpdklab
2024-05-08 22:07 ` dpdklab
2024-05-08 22:07 ` dpdklab
2024-05-08 22:08 ` dpdklab
2024-05-08 22:08 ` dpdklab
2024-05-08 22:09 ` dpdklab
2024-05-08 22:09 ` dpdklab
2024-05-08 22:09 ` dpdklab
2024-05-08 22:10 ` dpdklab
2024-05-08 22:10 ` dpdklab
2024-05-08 22:10 ` dpdklab
2024-05-08 22:10 ` dpdklab
2024-05-08 22:11 ` dpdklab
2024-05-08 22:11 ` dpdklab
2024-05-08 22:11 ` dpdklab
2024-05-08 22:12 ` dpdklab
2024-05-08 22:12 ` dpdklab
2024-05-08 22:12 ` dpdklab
2024-05-08 22:12 ` dpdklab
2024-05-08 22:12 ` dpdklab
2024-05-08 22:13 ` dpdklab
2024-05-08 22:13 ` dpdklab
2024-05-08 22:13 ` dpdklab [this message]
2024-05-08 22:13 ` dpdklab
2024-05-08 22:14 ` dpdklab
2024-05-08 22:14 ` dpdklab
2024-05-08 22:14 ` dpdklab
2024-05-08 22:14 ` dpdklab
2024-05-08 22:14 ` dpdklab
2024-05-08 22:14 ` dpdklab
2024-05-08 22:15 ` dpdklab
2024-05-08 22:15 ` dpdklab
2024-05-08 22:15 ` dpdklab
2024-05-08 22:15 ` dpdklab
2024-05-08 22:15 ` dpdklab
2024-05-08 22:15 ` dpdklab
2024-05-08 22:15 ` dpdklab
2024-05-08 22:16 ` dpdklab
2024-05-08 22:17 ` dpdklab
2024-05-08 22:18 ` dpdklab
2024-05-08 22:18 ` dpdklab
2024-05-08 22:19 ` dpdklab
2024-05-08 22:21 ` dpdklab
2024-05-08 22:21 ` dpdklab
2024-05-08 22:21 ` dpdklab
2024-05-08 22:23 ` dpdklab
2024-05-08 22:23 ` dpdklab
2024-05-08 22:24 ` |SUCCESS| pw139996 [PATCH v4] " 0-day Robot
2024-05-08 22:24 ` |SUCCESS| pw139996 [PATCH] [v4] " dpdklab
2024-05-08 22:24 ` dpdklab
2024-05-08 22:27 ` dpdklab
2024-05-08 22:29 ` dpdklab
2024-05-08 22:36 ` dpdklab
2024-05-08 22:40 ` dpdklab
2024-05-08 22:40 ` dpdklab
2024-05-08 22:55 ` dpdklab
2024-05-08 22:55 ` dpdklab
2024-05-08 23:21 ` dpdklab
2024-05-08 23:23 ` dpdklab
Reply instructions:
You may reply publicly to this message via plain-text email
using any one of the following methods:
* Save the following mbox file, import it into your mail client,
and reply-to-all from there: mbox
Avoid top-posting and favor interleaved quoting:
https://en.wikipedia.org/wiki/Posting_style#Interleaved_style
* Reply using the --to, --cc, and --in-reply-to
switches of git-send-email(1):
git send-email \
--in-reply-to=663bf91f.170a0220.4511c.0269SMTPIN_ADDED_MISSING@mx.google.com \
--to=dpdklab@iol.unh.edu \
--cc=dpdk-test-reports@iol.unh.edu \
--cc=test-report@dpdk.org \
/path/to/YOUR_REPLY
https://kernel.org/pub/software/scm/git/docs/git-send-email.html
* If your mail client supports setting the In-Reply-To header
via mailto: links, try the mailto: link
Be sure your reply has a Subject: header at the top and a blank line
before the message body.
This is a public inbox, see mirroring instructions
for how to clone and mirror all data and code used for this inbox;
as well as URLs for NNTP newsgroup(s).