From: dpdklab@iol.unh.edu
To: Test Report <test-report@dpdk.org>
Cc: dpdk-test-reports@iol.unh.edu
Subject: |SUCCESS| pw140012 [PATCH] net/mlx5: fix HWS support for item NSH
Date: Fri, 10 May 2024 01:38:43 -0700 (PDT) [thread overview]
Message-ID: <663ddd13.050a0220.67638.50d0SMTPIN_ADDED_MISSING@mx.google.com> (raw)
In-Reply-To: <20240509124448.1524385-1-gavinl@nvidia.com>
Test-Label: iol-unit-amd64-testing
Test-Status: SUCCESS
http://dpdk.org/patch/140012
_Testing PASS_
Submitter: Gavin Li <gavinl@nvidia.com>
Date: Thursday, May 09 2024 12:44:47
DPDK git baseline: Repo:dpdk
Branch: master
CommitID:a7699c5af857f57eec072cd19ceb1b03998ffe57
140012 --> testing pass
Test environment and result as below:
+------------------+----------------+
| Environment | dpdk_unit_test |
+==================+================+
| CentOS Stream 8 | PASS |
+------------------+----------------+
| Debian Bullseye | PASS |
+------------------+----------------+
| CentOS Stream 9 | PASS |
+------------------+----------------+
| Debian 12 | PASS |
+------------------+----------------+
| Fedora 37 | PASS |
+------------------+----------------+
| Fedora 38 | PASS |
+------------------+----------------+
| openSUSE Leap 15 | PASS |
+------------------+----------------+
| Fedora 39 | PASS |
+------------------+----------------+
| Ubuntu 20.04 | PASS |
+------------------+----------------+
| Ubuntu 22.04 | PASS |
+------------------+----------------+
| RHEL8 | PASS |
+------------------+----------------+
CentOS Stream 8
Kernel: 5.4.0-167-generic
Compiler: gcc 8.5.0 20210514
Debian Bullseye
Kernel: 5.4.0-167-generic
Compiler: gcc 10.2.1-6
CentOS Stream 9
Kernel: 5.4.0-167-generic
Compiler: gcc 11.4.1 20230605
Debian 12
Kernel: Container Host Kernel
Compiler: gcc 10.2.1
Fedora 37
Kernel: Depends on container host system
Compiler: gcc 12.3.1
Fedora 38
Kernel: Depends on container host
Compiler: gcc 13.2.1
openSUSE Leap 15
Kernel: 5.4.0-167-generic
Compiler: gcc 7.5.0
Fedora 39
Kernel: Depends on container host
Compiler: clang 17.0.6
Ubuntu 20.04
Kernel: 5.4.0-167-generic
Compiler: gcc 9.4.0-1ubuntu1~20.04.1
Ubuntu 22.04
Kernel: 5.4.0-167-generic
Compiler: gcc 11.4.0
RHEL8
Kernel: 5.4.0-167-generic
Compiler: gcc 8.5.0 20210514 (Red Hat 8.5.0-20)
To view detailed results, visit:
https://lab.dpdk.org/results/dashboard/patchsets/29932/
UNH-IOL DPDK Community Lab
To manage your email subscriptions, visit:
https://lab.dpdk.org/results/dashboard/preferences/subscriptions/
next prev parent reply other threads:[~2024-05-10 8:38 UTC|newest]
Thread overview: 90+ messages / expand[flat|nested] mbox.gz Atom feed top
[not found] <20240509124448.1524385-1-gavinl@nvidia.com>
2024-05-09 12:19 ` qemudev
2024-05-09 12:24 ` qemudev
2024-05-09 12:45 ` checkpatch
2024-05-09 13:44 ` 0-day Robot
2024-05-10 6:38 ` dpdklab
2024-05-10 6:40 ` dpdklab
2024-05-10 6:44 ` dpdklab
2024-05-10 6:50 ` dpdklab
2024-05-10 7:00 ` dpdklab
2024-05-10 7:02 ` dpdklab
2024-05-10 7:05 ` dpdklab
2024-05-10 7:06 ` dpdklab
2024-05-10 7:06 ` dpdklab
2024-05-10 7:07 ` dpdklab
2024-05-10 7:07 ` dpdklab
2024-05-10 7:20 ` dpdklab
2024-05-10 7:25 ` dpdklab
2024-05-10 7:36 ` dpdklab
2024-05-10 7:42 ` dpdklab
2024-05-10 7:43 ` dpdklab
2024-05-10 7:46 ` dpdklab
2024-05-10 7:48 ` dpdklab
2024-05-10 7:49 ` dpdklab
2024-05-10 7:50 ` dpdklab
2024-05-10 7:51 ` dpdklab
2024-05-10 7:51 ` dpdklab
2024-05-10 7:52 ` dpdklab
2024-05-10 7:54 ` dpdklab
2024-05-10 7:54 ` dpdklab
2024-05-10 7:55 ` dpdklab
2024-05-10 7:55 ` dpdklab
2024-05-10 7:55 ` dpdklab
2024-05-10 7:56 ` dpdklab
2024-05-10 7:56 ` dpdklab
2024-05-10 7:57 ` dpdklab
2024-05-10 7:57 ` dpdklab
2024-05-10 7:57 ` dpdklab
2024-05-10 7:58 ` dpdklab
2024-05-10 7:59 ` dpdklab
2024-05-10 7:59 ` dpdklab
2024-05-10 7:59 ` dpdklab
2024-05-10 7:59 ` dpdklab
2024-05-10 8:00 ` dpdklab
2024-05-10 8:01 ` dpdklab
2024-05-10 8:02 ` dpdklab
2024-05-10 8:09 ` dpdklab
2024-05-10 8:16 ` dpdklab
2024-05-10 8:16 ` dpdklab
2024-05-10 8:16 ` dpdklab
2024-05-10 8:18 ` dpdklab
2024-05-10 8:19 ` dpdklab
2024-05-10 8:20 ` dpdklab
2024-05-10 8:32 ` dpdklab
2024-05-10 8:33 ` dpdklab
2024-05-10 8:34 ` dpdklab
2024-05-10 8:34 ` dpdklab
2024-05-10 8:35 ` dpdklab
2024-05-10 8:35 ` dpdklab
2024-05-10 8:35 ` dpdklab
2024-05-10 8:36 ` dpdklab
2024-05-10 8:37 ` dpdklab
2024-05-10 8:37 ` dpdklab
2024-05-10 8:37 ` dpdklab
2024-05-10 8:37 ` dpdklab
2024-05-10 8:38 ` dpdklab [this message]
2024-05-10 8:38 ` dpdklab
2024-05-10 8:39 ` dpdklab
2024-05-10 8:40 ` dpdklab
2024-05-10 8:41 ` dpdklab
2024-05-10 8:41 ` dpdklab
2024-05-10 8:42 ` dpdklab
2024-05-10 8:43 ` dpdklab
2024-05-10 8:43 ` dpdklab
2024-05-10 8:43 ` dpdklab
2024-05-10 8:46 ` dpdklab
2024-05-10 8:46 ` dpdklab
2024-05-10 8:47 ` dpdklab
2024-05-10 8:47 ` dpdklab
2024-05-10 8:57 ` dpdklab
2024-05-10 8:59 ` dpdklab
2024-05-10 9:01 ` dpdklab
2024-05-10 9:04 ` dpdklab
2024-05-10 9:06 ` dpdklab
2024-05-10 9:15 ` dpdklab
2024-05-10 9:20 ` dpdklab
2024-05-10 9:23 ` dpdklab
2024-05-10 9:27 ` dpdklab
2024-05-10 9:27 ` dpdklab
2024-05-10 10:17 ` dpdklab
2024-05-10 11:09 ` dpdklab
Reply instructions:
You may reply publicly to this message via plain-text email
using any one of the following methods:
* Save the following mbox file, import it into your mail client,
and reply-to-all from there: mbox
Avoid top-posting and favor interleaved quoting:
https://en.wikipedia.org/wiki/Posting_style#Interleaved_style
* Reply using the --to, --cc, and --in-reply-to
switches of git-send-email(1):
git send-email \
--in-reply-to=663ddd13.050a0220.67638.50d0SMTPIN_ADDED_MISSING@mx.google.com \
--to=dpdklab@iol.unh.edu \
--cc=dpdk-test-reports@iol.unh.edu \
--cc=test-report@dpdk.org \
/path/to/YOUR_REPLY
https://kernel.org/pub/software/scm/git/docs/git-send-email.html
* If your mail client supports setting the In-Reply-To header
via mailto: links, try the mailto: link
Be sure your reply has a Subject: header at the top and a blank line
before the message body.
This is a public inbox, see mirroring instructions
for how to clone and mirror all data and code used for this inbox;
as well as URLs for NNTP newsgroup(s).