From: dpdklab@iol.unh.edu
To: Test Report <test-report@dpdk.org>
Cc: dpdk-test-reports@iol.unh.edu
Subject: |SUCCESS| pw140020-140022 [PATCH] [3/3] net/af_xdp: Fix stats reset
Date: Fri, 10 May 2024 04:02:01 -0700 (PDT) [thread overview]
Message-ID: <663dfea9.050a0220.1b580.642cSMTPIN_ADDED_MISSING@mx.google.com> (raw)
In-Reply-To: <20240510100358.18815-3-ciara.loftus@intel.com>
Test-Label: iol-unit-amd64-testing
Test-Status: SUCCESS
http://dpdk.org/patch/140022
_Testing PASS_
Submitter: Ciara Loftus <ciara.loftus@intel.com>
Date: Friday, May 10 2024 10:03:58
DPDK git baseline: Repo:dpdk
Branch: master
CommitID:baa8e2c6b4d7ce289e891b9c96fb3193311c0f01
140020-140022 --> testing pass
Test environment and result as below:
+---------------------+----------------+
| Environment | dpdk_unit_test |
+=====================+================+
| Debian 12 | PASS |
+---------------------+----------------+
| CentOS Stream 8 | PASS |
+---------------------+----------------+
| Debian Bullseye | PASS |
+---------------------+----------------+
| Windows Server 2019 | PASS |
+---------------------+----------------+
| Fedora 38 | PASS |
+---------------------+----------------+
| Fedora 39 | PASS |
+---------------------+----------------+
Debian 12
Kernel: Container Host Kernel
Compiler: gcc 10.2.1
CentOS Stream 8
Kernel: 5.4.0-167-generic
Compiler: gcc 8.5.0 20210514
Debian Bullseye
Kernel: 5.4.0-167-generic
Compiler: gcc 10.2.1-6
Windows Server 2019
Kernel: 10.0.17763
Compiler: clang 14.0 and gcc 8.1.0 (MinGW)
Fedora 38
Kernel: Depends on container host
Compiler: gcc 13.2.1
Fedora 39
Kernel: Depends on container host
Compiler: gcc 13.2.1
To view detailed results, visit:
https://lab.dpdk.org/results/dashboard/patchsets/29938/
UNH-IOL DPDK Community Lab
To manage your email subscriptions, visit:
https://lab.dpdk.org/results/dashboard/preferences/subscriptions/
next prev parent reply other threads:[~2024-05-10 11:02 UTC|newest]
Thread overview: 86+ messages / expand[flat|nested] mbox.gz Atom feed top
[not found] <20240510100358.18815-3-ciara.loftus@intel.com>
2024-05-10 9:46 ` |SUCCESS| pw140020-140022 [PATCH 3/3] " qemudev
2024-05-10 9:51 ` qemudev
2024-05-10 10:05 ` |SUCCESS| pw140022 " checkpatch
2024-05-10 10:48 ` |SUCCESS| pw140020-140022 [PATCH] [3/3] " dpdklab
2024-05-10 10:48 ` dpdklab
2024-05-10 10:50 ` dpdklab
2024-05-10 10:51 ` dpdklab
2024-05-10 10:52 ` dpdklab
2024-05-10 10:52 ` dpdklab
2024-05-10 10:59 ` dpdklab
2024-05-10 10:59 ` dpdklab
2024-05-10 11:00 ` dpdklab
2024-05-10 11:01 ` dpdklab
2024-05-10 11:01 ` dpdklab
2024-05-10 11:01 ` dpdklab
2024-05-10 11:01 ` dpdklab
2024-05-10 11:02 ` dpdklab [this message]
2024-05-10 11:02 ` dpdklab
2024-05-10 11:02 ` dpdklab
2024-05-10 11:04 ` |SUCCESS| pw140022 [PATCH 3/3] " 0-day Robot
2024-05-10 11:04 ` |SUCCESS| pw140020-140022 [PATCH] [3/3] " dpdklab
2024-05-10 11:05 ` dpdklab
2024-05-10 11:05 ` dpdklab
2024-05-10 11:05 ` dpdklab
2024-05-10 11:05 ` dpdklab
2024-05-10 11:06 ` dpdklab
2024-05-10 11:06 ` dpdklab
2024-05-10 11:07 ` dpdklab
2024-05-10 11:07 ` dpdklab
2024-05-10 11:08 ` dpdklab
2024-05-10 11:09 ` dpdklab
2024-05-10 11:09 ` dpdklab
2024-05-10 11:09 ` dpdklab
2024-05-10 11:09 ` dpdklab
2024-05-10 11:10 ` dpdklab
2024-05-10 11:10 ` dpdklab
2024-05-10 11:10 ` dpdklab
2024-05-10 11:10 ` dpdklab
2024-05-10 11:11 ` dpdklab
2024-05-10 11:11 ` dpdklab
2024-05-10 11:12 ` dpdklab
2024-05-10 11:12 ` dpdklab
2024-05-10 11:12 ` dpdklab
2024-05-10 11:13 ` dpdklab
2024-05-10 11:13 ` dpdklab
2024-05-10 11:13 ` dpdklab
2024-05-10 11:14 ` dpdklab
2024-05-10 11:14 ` dpdklab
2024-05-10 11:14 ` dpdklab
2024-05-10 11:15 ` dpdklab
2024-05-10 11:15 ` dpdklab
2024-05-10 11:15 ` dpdklab
2024-05-10 11:16 ` dpdklab
2024-05-10 11:22 ` dpdklab
2024-05-10 11:23 ` dpdklab
2024-05-10 11:23 ` dpdklab
2024-05-10 11:24 ` dpdklab
2024-05-10 11:24 ` dpdklab
2024-05-10 11:25 ` dpdklab
2024-05-10 11:25 ` dpdklab
2024-05-10 11:26 ` dpdklab
2024-05-10 11:29 ` dpdklab
2024-05-10 11:30 ` dpdklab
2024-05-10 11:31 ` dpdklab
2024-05-10 11:31 ` dpdklab
2024-05-10 11:31 ` dpdklab
2024-05-10 11:32 ` dpdklab
2024-05-10 11:32 ` dpdklab
2024-05-10 11:32 ` dpdklab
2024-05-10 11:38 ` dpdklab
2024-05-10 11:40 ` dpdklab
2024-05-10 11:41 ` dpdklab
2024-05-10 11:41 ` dpdklab
2024-05-10 11:42 ` dpdklab
2024-05-10 11:42 ` dpdklab
2024-05-10 11:43 ` dpdklab
2024-05-10 11:48 ` dpdklab
2024-05-10 11:48 ` dpdklab
2024-05-10 11:52 ` dpdklab
2024-05-10 12:02 ` dpdklab
2024-05-10 12:04 ` dpdklab
2024-05-10 12:35 ` dpdklab
2024-05-10 12:36 ` dpdklab
2024-05-10 13:01 ` dpdklab
2024-05-10 13:44 ` dpdklab
2024-05-10 19:48 ` |WARNING| " dpdklab
Reply instructions:
You may reply publicly to this message via plain-text email
using any one of the following methods:
* Save the following mbox file, import it into your mail client,
and reply-to-all from there: mbox
Avoid top-posting and favor interleaved quoting:
https://en.wikipedia.org/wiki/Posting_style#Interleaved_style
* Reply using the --to, --cc, and --in-reply-to
switches of git-send-email(1):
git send-email \
--in-reply-to=663dfea9.050a0220.1b580.642cSMTPIN_ADDED_MISSING@mx.google.com \
--to=dpdklab@iol.unh.edu \
--cc=dpdk-test-reports@iol.unh.edu \
--cc=test-report@dpdk.org \
/path/to/YOUR_REPLY
https://kernel.org/pub/software/scm/git/docs/git-send-email.html
* If your mail client supports setting the In-Reply-To header
via mailto: links, try the mailto: link
Be sure your reply has a Subject: header at the top and a blank line
before the message body.
This is a public inbox, see mirroring instructions
for how to clone and mirror all data and code used for this inbox;
as well as URLs for NNTP newsgroup(s).