From mboxrd@z Thu Jan  1 00:00:00 1970
Return-Path: <test-report-bounces@dpdk.org>
Received: from mails.dpdk.org (mails.dpdk.org [217.70.189.124])
	by inbox.dpdk.org (Postfix) with ESMTP id AC97343F27
	for <public@inbox.dpdk.org>; Fri, 10 May 2024 13:10:48 +0200 (CEST)
Received: from mails.dpdk.org (localhost [127.0.0.1])
	by mails.dpdk.org (Postfix) with ESMTP id A623C402C4;
	Fri, 10 May 2024 13:10:48 +0200 (CEST)
Received: from mail-yw1-f226.google.com (mail-yw1-f226.google.com
 [209.85.128.226])
 by mails.dpdk.org (Postfix) with ESMTP id BAA6D402BB
 for <test-report@dpdk.org>; Fri, 10 May 2024 13:10:47 +0200 (CEST)
Received: by mail-yw1-f226.google.com with SMTP id
 00721157ae682-61be74097cbso19363487b3.1
 for <test-report@dpdk.org>; Fri, 10 May 2024 04:10:47 -0700 (PDT)
DKIM-Signature: v=1; a=rsa-sha256; c=relaxed/relaxed;
 d=iol.unh.edu; s=unh-iol; t=1715339447; x=1715944247; darn=dpdk.org;
 h=references:in-reply-to:cc:to:from:subject:message-id:date:from:to
 :cc:subject:date:message-id:reply-to;
 bh=HOGkOAiPYfe8g6EvkADZ7ofYbVgefdHdFIWTcZT84VI=;
 b=ZN97s0WelVmBh0u6rhSOo7MNzjKJ8SyUhOFs1puZVTDp+IT0IM9Bbo73ZEummURMe6
 G6N+Jb2L0IUdcMa/MckQXrdPkNLEx84UGWc+cSdohDbvgOdUvasvDzBs84hLhOYi/kI8
 acQBj2NPp/vn2QpEY+WY/KznnN8V8sfjUeovQ=
X-Google-DKIM-Signature: v=1; a=rsa-sha256; c=relaxed/relaxed;
 d=1e100.net; s=20230601; t=1715339447; x=1715944247;
 h=references:in-reply-to:cc:to:from:subject:message-id:date
 :x-gm-message-state:from:to:cc:subject:date:message-id:reply-to;
 bh=HOGkOAiPYfe8g6EvkADZ7ofYbVgefdHdFIWTcZT84VI=;
 b=UHXK/9vEG+OhEMlMDUkgIlHNjydTMO6guTBP6NMjGVtokoEX9H9qqkorucj22ZjiD5
 95t8JqIybB3Yi6/EmApc0JWnE11OgkVXKfrokjJZRWwGDPhtszCrd3dlc/QWqG+n2gHc
 CYT5v/KYVIvrz3hGXRJmThmS5pThQ2/E/YtsXJ63D0kQSlh4ACb8I9Mt4KPpn1+2Wrnx
 IU8phlCevvsELDzeBwUc+sJ/ZvWhqHzxFzABfOVOkyMbE/JTTcM69oiF5hAWott4/E1T
 tw7FYR5whLN7vgw8Mo+NF7JModhxgiS5GVMBeJxg1jtTX5L2yn2j7PJrBz816coN7Ubj
 PSpQ==
X-Gm-Message-State: AOJu0YyEz1Bwv2i3x++mgv/nZa1u148we/cGutAamQ4po5JdoJs6uQ7n
 s/e4anlL0nqLjR7gq3ULq5GkktfQ4w1eBvcap8zt7UoFeMkRNkrhClcN/Sq2jSDnhz7W2SZSQIf
 iiRPQaq93Bt2UA3NBttgNPZtBn5RB9nPmMlI/YbPJwhVTvsvBXjYdW6XY
X-Google-Smtp-Source: AGHT+IHoRfbfXiBV5pyqDUICALb6K661kynJhHCJzBiuaHHn7Rg7884oc9b0L1Dql0CfVlkA1QshW2yrrO0I
X-Received: by 2002:a05:690c:97:b0:61b:3454:8ff9 with SMTP id
 00721157ae682-622aff92310mr27438757b3.10.1715339447081; 
 Fri, 10 May 2024 04:10:47 -0700 (PDT)
Received: from postal.iol.unh.edu (postal.iol.unh.edu.
 [2606:4100:3880:1234::84]) by smtp-relay.gmail.com with ESMTPS id
 00721157ae682-6209e26b42asm2256167b3.35.2024.05.10.04.10.47
 (version=TLS1_2 cipher=ECDHE-ECDSA-AES128-GCM-SHA256 bits=128/128);
 Fri, 10 May 2024 04:10:47 -0700 (PDT)
X-Relaying-Domain: iol.unh.edu
Date: Fri, 10 May 2024 04:10:47 -0700 (PDT)
Message-ID: <663e00b7.810a0220.b3c04.d0b1SMTPIN_ADDED_MISSING@mx.google.com>
Received: from [172.21.0.13] (unknown [172.18.0.240])
 by postal.iol.unh.edu (Postfix) with ESMTP id B313A605C373;
 Fri, 10 May 2024 07:10:46 -0400 (EDT)
Subject: |SUCCESS| pw140020-140022 [PATCH] [3/3] net/af_xdp: Fix stats reset
From: dpdklab@iol.unh.edu
To: Test Report <test-report@dpdk.org>
Cc: dpdk-test-reports@iol.unh.edu
In-Reply-To: <20240510100358.18815-3-ciara.loftus@intel.com>
References: <20240510100358.18815-3-ciara.loftus@intel.com>
Content-Type: text/plain
X-BeenThere: test-report@dpdk.org
X-Mailman-Version: 2.1.29
Precedence: list
List-Id: automatic DPDK test reports <test-report.dpdk.org>
List-Unsubscribe: <https://mails.dpdk.org/options/test-report>,
 <mailto:test-report-request@dpdk.org?subject=unsubscribe>
List-Archive: <http://mails.dpdk.org/archives/test-report/>
List-Post: <mailto:test-report@dpdk.org>
List-Help: <mailto:test-report-request@dpdk.org?subject=help>
List-Subscribe: <https://mails.dpdk.org/listinfo/test-report>,
 <mailto:test-report-request@dpdk.org?subject=subscribe>
Errors-To: test-report-bounces@dpdk.org

Test-Label: iol-compile-amd64-testing
Test-Status: SUCCESS
http://dpdk.org/patch/140022

_Testing PASS_

Submitter: Ciara Loftus <ciara.loftus@intel.com>
Date: Friday, May 10 2024 10:03:58 
DPDK git baseline: Repo:dpdk
  Branch: master
  CommitID:baa8e2c6b4d7ce289e891b9c96fb3193311c0f01

140020-140022 --> testing pass

Test environment and result as below:

+---------------------+--------------------+----------------------+-------------------+
|     Environment     | dpdk_meson_compile | dpdk_mingw64_compile | dpdk_msvc_compile |
+=====================+====================+======================+===================+
| FreeBSD 13.3        | PASS               | SKIPPED              | SKIPPED           |
+---------------------+--------------------+----------------------+-------------------+
| CentOS Stream 9     | PASS               | SKIPPED              | SKIPPED           |
+---------------------+--------------------+----------------------+-------------------+
| CentOS Stream 8     | PASS               | SKIPPED              | SKIPPED           |
+---------------------+--------------------+----------------------+-------------------+
| FreeBSD 14.0        | PASS               | SKIPPED              | SKIPPED           |
+---------------------+--------------------+----------------------+-------------------+
| Windows Server 2022 | PASS               | PASS                 | PASS              |
+---------------------+--------------------+----------------------+-------------------+
| Windows Server 2019 | PASS               | PASS                 | SKIPPED           |
+---------------------+--------------------+----------------------+-------------------+
| Debian Bullseye     | PASS               | SKIPPED              | SKIPPED           |
+---------------------+--------------------+----------------------+-------------------+
| Debian 12           | PASS               | SKIPPED              | SKIPPED           |
+---------------------+--------------------+----------------------+-------------------+
| RHEL8               | PASS               | SKIPPED              | SKIPPED           |
+---------------------+--------------------+----------------------+-------------------+


FreeBSD 13.3
	Kernel: 13.3-RELEASE-p1
	Compiler: clang 17.0.6

CentOS Stream 9
	Kernel: 5.4.0-167-generic
	Compiler: gcc 11.4.1 20230605

CentOS Stream 8
	Kernel: 5.4.0-167-generic
	Compiler: gcc 8.5.0 20210514

FreeBSD 14.0
	Kernel: 14.0
	Compiler: clang 16.0.6

Windows Server 2022
	Kernel: 10.0.20348.2031
	Compiler: clang 15.0.7, gcc 8.1.0 (MinGW), and MSVC VS 17.9

Windows Server 2019
	Kernel: 10.0.17763
	Compiler: clang 14.0 and gcc 8.1.0 (MinGW)

Debian Bullseye
	Kernel: 5.4.0-167-generic
	Compiler: gcc 10.2.1-6

Debian 12
	Kernel: Container Host Kernel
	Compiler: gcc 10.2.1

RHEL8
	Kernel: 5.4.0-167-generic
	Compiler: gcc 8.5.0 20210514 (Red Hat 8.5.0-20)

To view detailed results, visit:
https://lab.dpdk.org/results/dashboard/patchsets/29938/

UNH-IOL DPDK Community Lab

To manage your email subscriptions, visit: 
https://lab.dpdk.org/results/dashboard/preferences/subscriptions/