From mboxrd@z Thu Jan  1 00:00:00 1970
Return-Path: <test-report-bounces@dpdk.org>
Received: from mails.dpdk.org (mails.dpdk.org [217.70.189.124])
	by inbox.dpdk.org (Postfix) with ESMTP id E5F2343F27
	for <public@inbox.dpdk.org>; Fri, 10 May 2024 13:11:25 +0200 (CEST)
Received: from mails.dpdk.org (localhost [127.0.0.1])
	by mails.dpdk.org (Postfix) with ESMTP id DFB2E402C4;
	Fri, 10 May 2024 13:11:25 +0200 (CEST)
Received: from mail-oa1-f100.google.com (mail-oa1-f100.google.com
 [209.85.160.100])
 by mails.dpdk.org (Postfix) with ESMTP id C123A402BB
 for <test-report@dpdk.org>; Fri, 10 May 2024 13:11:24 +0200 (CEST)
Received: by mail-oa1-f100.google.com with SMTP id
 586e51a60fabf-23eb1851c34so729216fac.0
 for <test-report@dpdk.org>; Fri, 10 May 2024 04:11:24 -0700 (PDT)
DKIM-Signature: v=1; a=rsa-sha256; c=relaxed/relaxed;
 d=iol.unh.edu; s=unh-iol; t=1715339484; x=1715944284; darn=dpdk.org;
 h=references:in-reply-to:cc:to:from:subject:message-id:date:from:to
 :cc:subject:date:message-id:reply-to;
 bh=JpUBd/tiFVYdSprGvch5UgFGx9GDdGfJUMMOP8lfP44=;
 b=ZNfzI3BSRTJb3iA50VCfErCkRrRkul1IV1v+9PTp1PgTPOmzewF/cpvpVH7F0ONFO3
 xlADGTv+mv7BYB0QN3XdF/8sT+RWtXYdThEDigBFKYFkGKgSlaNv8pTmZ5yn+jGZ/BQZ
 ugmeWGdpQvlWFFZjXIlgdvKcV6K/lMdUdCHYA=
X-Google-DKIM-Signature: v=1; a=rsa-sha256; c=relaxed/relaxed;
 d=1e100.net; s=20230601; t=1715339484; x=1715944284;
 h=references:in-reply-to:cc:to:from:subject:message-id:date
 :x-gm-message-state:from:to:cc:subject:date:message-id:reply-to;
 bh=JpUBd/tiFVYdSprGvch5UgFGx9GDdGfJUMMOP8lfP44=;
 b=KEg1WDXybpNrTUsBm4OYj400URY0RHqD+YEppIF2RYH5gkVkq8So8UEY5X+5h8TysF
 Rssu6TanqyW53jqeU58iEPNPcQfoPQQ11+MISEsiiW6I02MlmarHkJILFEP3+Yb6aAru
 q0da9RBTD7yEzHP6K9gW7Av9Pi564oHzfK2HJlc84IXbG6/nkcG5H+o7IgBBzGXgkpqV
 yspqHcW+a6Rm88ppYu6ovwMGfZvyxo3a5rDPdRr+lFiOnlLPSKmjeexHKEwvpxN9LV+h
 DD76gv5gQjIED0lvZNl9EgtDKdIwOyKaxZdZvkgBF24wkfiAsPVkgmyWhUvmLsLYjC0D
 oV9A==
X-Gm-Message-State: AOJu0YzXQpx9xKVIBLtWmhmzjKev1VYgUv0ReWaUTZ2eMaXqi6EVYwx1
 gnoy6gVH2Lb9wVWr7alLuV20IVd3DPc0hkR4uhMvPZtauSXtaRIRMfFLSrAiV3b6auo4b9lcrg5
 T8psqy6MeD43DNa9aSpDJnscig2ReW+1mmN/BW1Si
X-Google-Smtp-Source: AGHT+IETHNZgJEsIZ/X5tjnbGU9FaqLX99TfD1kXN+fxN1O/fwKHWzD3GGfvRM9ict5rFbVyTnjT/Qd3c6IG
X-Received: by 2002:a05:6871:6001:b0:23c:c9bf:8316 with SMTP id
 586e51a60fabf-24172a79c26mr2730179fac.23.1715339484110; 
 Fri, 10 May 2024 04:11:24 -0700 (PDT)
Received: from postal.iol.unh.edu (postal.iol.unh.edu. [132.177.123.84])
 by smtp-relay.gmail.com with ESMTPS id
 46e09a7af769-6f0e6976e27sm135469a34.3.2024.05.10.04.11.24
 (version=TLS1_2 cipher=ECDHE-ECDSA-AES128-GCM-SHA256 bits=128/128);
 Fri, 10 May 2024 04:11:24 -0700 (PDT)
X-Relaying-Domain: iol.unh.edu
Date: Fri, 10 May 2024 04:11:24 -0700 (PDT)
Message-ID: <663e00dc.9d0a0220.f3e94.6db2SMTPIN_ADDED_MISSING@mx.google.com>
Received: from [172.21.0.7] (unknown [172.18.0.240])
 by postal.iol.unh.edu (Postfix) with ESMTP id 94851605C373;
 Fri, 10 May 2024 07:11:23 -0400 (EDT)
Subject: |SUCCESS| pw140020-140022 [PATCH] [3/3] net/af_xdp: Fix stats reset
From: dpdklab@iol.unh.edu
To: Test Report <test-report@dpdk.org>
Cc: dpdk-test-reports@iol.unh.edu
In-Reply-To: <20240510100358.18815-3-ciara.loftus@intel.com>
References: <20240510100358.18815-3-ciara.loftus@intel.com>
Content-Type: text/plain
X-BeenThere: test-report@dpdk.org
X-Mailman-Version: 2.1.29
Precedence: list
List-Id: automatic DPDK test reports <test-report.dpdk.org>
List-Unsubscribe: <https://mails.dpdk.org/options/test-report>,
 <mailto:test-report-request@dpdk.org?subject=unsubscribe>
List-Archive: <http://mails.dpdk.org/archives/test-report/>
List-Post: <mailto:test-report@dpdk.org>
List-Help: <mailto:test-report-request@dpdk.org?subject=help>
List-Subscribe: <https://mails.dpdk.org/listinfo/test-report>,
 <mailto:test-report-request@dpdk.org?subject=subscribe>
Errors-To: test-report-bounces@dpdk.org

Test-Label: iol-compile-arm64-testing
Test-Status: SUCCESS
http://dpdk.org/patch/140022

_Testing PASS_

Submitter: Ciara Loftus <ciara.loftus@intel.com>
Date: Friday, May 10 2024 10:03:58 
DPDK git baseline: Repo:dpdk
  Branch: master
  CommitID:baa8e2c6b4d7ce289e891b9c96fb3193311c0f01

140020-140022 --> testing pass

Test environment and result as below:

+--------------------------+--------------------+
|       Environment        | dpdk_meson_compile |
+==========================+====================+
| Debian 12 with MUSDK     | PASS               |
+--------------------------+--------------------+
| Ubuntu 20.04 ARM SVE     | PASS               |
+--------------------------+--------------------+
| Fedora 37 (ARM)          | PASS               |
+--------------------------+--------------------+
| CentOS Stream 9 (ARM)    | PASS               |
+--------------------------+--------------------+
| Ubuntu 20.04 (ARM)       | PASS               |
+--------------------------+--------------------+
| Debian 12 (arm)          | PASS               |
+--------------------------+--------------------+
| Debian 11 (Buster) (ARM) | PASS               |
+--------------------------+--------------------+


Debian 12 with MUSDK
	Kernel: Container Host Kernel
	Compiler: gcc 12.2.0

Ubuntu 20.04 ARM SVE
	Kernel: 5.4.0-167-generic
	Compiler: gcc (Ubuntu 10.5.0-1ubuntu1~20.04) 10.5.0

Fedora 37 (ARM)
	Kernel: Depends on container host
	Compiler: gcc 12.3.1

CentOS Stream 9 (ARM)
	Kernel: Container Host Kernel
	Compiler: gcc 11.4.1

Ubuntu 20.04 (ARM)
	Kernel: Container Host Kernel
	Compiler: gcc 9.4.0

Debian 12 (arm)
	Kernel: Container Host Kernel
	Compiler: gcc 12.2.0

Debian 11 (Buster) (ARM)
	Kernel: Container Host Kernel
	Compiler: gcc 10.2.1

To view detailed results, visit:
https://lab.dpdk.org/results/dashboard/patchsets/29938/

UNH-IOL DPDK Community Lab

To manage your email subscriptions, visit: 
https://lab.dpdk.org/results/dashboard/preferences/subscriptions/