From mboxrd@z Thu Jan  1 00:00:00 1970
Return-Path: <test-report-bounces@dpdk.org>
Received: from mails.dpdk.org (mails.dpdk.org [217.70.189.124])
	by inbox.dpdk.org (Postfix) with ESMTP id BE6CF43FB3
	for <public@inbox.dpdk.org>; Fri, 10 May 2024 14:46:06 +0200 (CEST)
Received: from mails.dpdk.org (localhost [127.0.0.1])
	by mails.dpdk.org (Postfix) with ESMTP id B999C402C4;
	Fri, 10 May 2024 14:46:06 +0200 (CEST)
Received: from mail-oo1-f97.google.com (mail-oo1-f97.google.com
 [209.85.161.97]) by mails.dpdk.org (Postfix) with ESMTP id BDD22402BB
 for <test-report@dpdk.org>; Fri, 10 May 2024 14:46:05 +0200 (CEST)
Received: by mail-oo1-f97.google.com with SMTP id
 006d021491bc7-5b277e17e15so826961eaf.2
 for <test-report@dpdk.org>; Fri, 10 May 2024 05:46:05 -0700 (PDT)
DKIM-Signature: v=1; a=rsa-sha256; c=relaxed/relaxed;
 d=iol.unh.edu; s=unh-iol; t=1715345165; x=1715949965; darn=dpdk.org;
 h=references:in-reply-to:cc:to:from:subject:message-id:date:from:to
 :cc:subject:date:message-id:reply-to;
 bh=qfuiwUInFFK6EuqdKufcQ1lST1q7G6Vw/xTph7ZgF0E=;
 b=f+PrsV+lK+uqlMxYB8jh2UXWCn7kc1hCGy2L7lKhsiPyRJtcSCivGP/PObk/Qh++Y5
 HaRkf+zAnRMmiu9+NQVfRM3QUuU2a9oM2BAb/RXN3JXM/K0BsoLzMCwdV0d8xy5DE7Si
 zM/zLMcssAB4UhIgA7ma9xymFlDSDZ+xfDwJo=
X-Google-DKIM-Signature: v=1; a=rsa-sha256; c=relaxed/relaxed;
 d=1e100.net; s=20230601; t=1715345165; x=1715949965;
 h=references:in-reply-to:cc:to:from:subject:message-id:date
 :x-gm-message-state:from:to:cc:subject:date:message-id:reply-to;
 bh=qfuiwUInFFK6EuqdKufcQ1lST1q7G6Vw/xTph7ZgF0E=;
 b=BCtcWs9ragFosONocssD31Htq8PPG6tJkyKXFfy7+MUFJBn4WqPQQWKejJ+jZqG3zj
 oGL3Y56UxtgtkgQ6gCPWY8OciKfcKbSal1i8FIWPnnwPR8LUps5YAAQtZIjZnWAv0xiQ
 DDyAGf99BNExqSijhYu2Sks9s/5vYKKDtPzCH8as9O6D+BOc/Yr4hQl0dkRbvLyXtLgq
 tf89f2tYDpJJrqObaNgW2d4stFoi6Auz8nQlhyBThZ4YAHBj0TVfnyzXlNtDUyVD4puE
 /nlDQlxD6PCCWKG7S31iparpRW5l6Tq6Lycm2OG3bMQkhhtZlB9MDc4P3m4LonowFbzC
 jdkQ==
X-Gm-Message-State: AOJu0YyG+NQez/Bdy6aVaLwC80O3Mq9nEq07SO3xwR0zv9fMMfrqgyAo
 QcIvScIWoEujRuzd3jtU5hK54fHPKuOIFck2A8zaUkXYn6tvk4Gkxdy8CKgea/uLKy6MYANqCxH
 2roci2X6hkvcBZzYlgKO3mcHjishJPYp7kXXUfNyYC0WpuEIxTdaqq6FS
X-Google-Smtp-Source: AGHT+IHK+IcYmGDCTNZLJrNVSbvu4ozFJlUUx72DuWIm+TCY3DXEuP0kykoefeAW8AFMdCAmtHoXzpZqD7aM
X-Received: by 2002:a4a:98e9:0:b0:5ac:5c78:390e with SMTP id
 006d021491bc7-5b281851997mr2270194eaf.2.1715345165155; 
 Fri, 10 May 2024 05:46:05 -0700 (PDT)
Received: from postal.iol.unh.edu (postal.iol.unh.edu.
 [2606:4100:3880:1234::84]) by smtp-relay.gmail.com with ESMTPS id
 006d021491bc7-5b27707b774sm239149eaf.4.2024.05.10.05.46.05
 (version=TLS1_2 cipher=ECDHE-ECDSA-AES128-GCM-SHA256 bits=128/128);
 Fri, 10 May 2024 05:46:05 -0700 (PDT)
X-Relaying-Domain: iol.unh.edu
Date: Fri, 10 May 2024 05:46:05 -0700 (PDT)
Message-ID: <663e170d.4a0a0220.6e20f.c5f4SMTPIN_ADDED_MISSING@mx.google.com>
Received: from [172.21.0.6] (unknown [172.18.0.240])
 by postal.iol.unh.edu (Postfix) with ESMTP id A609A605C380;
 Fri, 10 May 2024 08:46:04 -0400 (EDT)
Subject: |SUCCESS| pw140018 [PATCH] [v2] graph: fix does not return the uniqu
From: dpdklab@iol.unh.edu
To: Test Report <test-report@dpdk.org>
Cc: dpdk-test-reports@iol.unh.edu
In-Reply-To: <TYAP286MB06492336688E0855A00ADFF7D8E72@TYAP286MB0649.JPNP286.PROD.OUTLOOK.COM>
References: <TYAP286MB06492336688E0855A00ADFF7D8E72@TYAP286MB0649.JPNP286.PROD.OUTLOOK.COM>
Content-Type: text/plain
X-BeenThere: test-report@dpdk.org
X-Mailman-Version: 2.1.29
Precedence: list
List-Id: automatic DPDK test reports <test-report.dpdk.org>
List-Unsubscribe: <https://mails.dpdk.org/options/test-report>,
 <mailto:test-report-request@dpdk.org?subject=unsubscribe>
List-Archive: <http://mails.dpdk.org/archives/test-report/>
List-Post: <mailto:test-report@dpdk.org>
List-Help: <mailto:test-report-request@dpdk.org?subject=help>
List-Subscribe: <https://mails.dpdk.org/listinfo/test-report>,
 <mailto:test-report-request@dpdk.org?subject=subscribe>
Errors-To: test-report-bounces@dpdk.org

Test-Label: iol-unit-arm64-testing
Test-Status: SUCCESS
http://dpdk.org/patch/140018

_Testing PASS_

Submitter: Gongming Chen <chengongming1900@outlook.com>
Date: Friday, May 10 2024 06:47:47 
DPDK git baseline: Repo:dpdk
  Branch: master
  CommitID:7e06c0de1952d3109a5b0c4779d7e7d8059c9d78

140018 --> testing pass

Test environment and result as below:

+--------------------------+----------------+---------------------------+------------------------------+
|       Environment        | dpdk_unit_test | cryptodev_sw_zuc_autotest | cryptodev_sw_snow3g_autotest |
+==========================+================+===========================+==============================+
| Debian 11 (Buster) (ARM) | PASS           | SKIPPED                   | SKIPPED                      |
+--------------------------+----------------+---------------------------+------------------------------+
| Fedora 37 (ARM)          | PASS           | SKIPPED                   | SKIPPED                      |
+--------------------------+----------------+---------------------------+------------------------------+
| Debian 12 (arm)          | PASS           | PASS                      | PASS                         |
+--------------------------+----------------+---------------------------+------------------------------+
| CentOS Stream 9 (ARM)    | PASS           | SKIPPED                   | SKIPPED                      |
+--------------------------+----------------+---------------------------+------------------------------+
| Fedora 38 (ARM)          | PASS           | SKIPPED                   | SKIPPED                      |
+--------------------------+----------------+---------------------------+------------------------------+
| Ubuntu 20.04 (ARM)       | PASS           | SKIPPED                   | SKIPPED                      |
+--------------------------+----------------+---------------------------+------------------------------+
| Fedora 39 (ARM)          | PASS           | SKIPPED                   | SKIPPED                      |
+--------------------------+----------------+---------------------------+------------------------------+


Debian 11 (Buster) (ARM)
	Kernel: Container Host Kernel
	Compiler: gcc 10.2.1

Fedora 37 (ARM)
	Kernel: Depends on container host
	Compiler: gcc 12.3.1

Debian 12 (arm)
	Kernel: Container Host Kernel
	Compiler: gcc 12.2.0

CentOS Stream 9 (ARM)
	Kernel: Container Host Kernel
	Compiler: gcc 11.4.1

Fedora 38 (ARM)
	Kernel: Depends on container host
	Compiler: gcc 13.2.1

Ubuntu 20.04 (ARM)
	Kernel: Container Host Kernel
	Compiler: gcc 9.4.0

Fedora 39 (ARM)
	Kernel: Depends on container host
	Compiler: gcc 13.2.1

To view detailed results, visit:
https://lab.dpdk.org/results/dashboard/patchsets/29936/

UNH-IOL DPDK Community Lab

To manage your email subscriptions, visit: 
https://lab.dpdk.org/results/dashboard/preferences/subscriptions/