From mboxrd@z Thu Jan  1 00:00:00 1970
Return-Path: <test-report-bounces@dpdk.org>
Received: from mails.dpdk.org (mails.dpdk.org [217.70.189.124])
	by inbox.dpdk.org (Postfix) with ESMTP id E59D243FB3
	for <public@inbox.dpdk.org>; Fri, 10 May 2024 14:49:10 +0200 (CEST)
Received: from mails.dpdk.org (localhost [127.0.0.1])
	by mails.dpdk.org (Postfix) with ESMTP id E0E61402C4;
	Fri, 10 May 2024 14:49:10 +0200 (CEST)
Received: from mail-io1-f100.google.com (mail-io1-f100.google.com
 [209.85.166.100])
 by mails.dpdk.org (Postfix) with ESMTP id 8F134402BB
 for <test-report@dpdk.org>; Fri, 10 May 2024 14:49:09 +0200 (CEST)
Received: by mail-io1-f100.google.com with SMTP id
 ca18e2360f4ac-7e18ee491dbso78892839f.2
 for <test-report@dpdk.org>; Fri, 10 May 2024 05:49:09 -0700 (PDT)
DKIM-Signature: v=1; a=rsa-sha256; c=relaxed/relaxed;
 d=iol.unh.edu; s=unh-iol; t=1715345349; x=1715950149; darn=dpdk.org;
 h=references:in-reply-to:cc:to:from:subject:message-id:date:from:to
 :cc:subject:date:message-id:reply-to;
 bh=bQD/7RdDjlaCjHpXDWiax3fgg8Nt+5TxONuS70AANqg=;
 b=FYeptpHPOhMQGVBS2KUnAgZ2CqI3rmcolsGnU3VBh1InbDOheE0jHJzg56IXl8gcoy
 AFDkrHAx3s5Q3+09W19tVhdzs49ckckWrwp42XjI0e/C5oCAHZh2MGNKPhmjIr7MfwpY
 +3w1zIlSWY+2rDByLFp3aVJOc/A/rAw9zGNeI=
X-Google-DKIM-Signature: v=1; a=rsa-sha256; c=relaxed/relaxed;
 d=1e100.net; s=20230601; t=1715345349; x=1715950149;
 h=references:in-reply-to:cc:to:from:subject:message-id:date
 :x-gm-message-state:from:to:cc:subject:date:message-id:reply-to;
 bh=bQD/7RdDjlaCjHpXDWiax3fgg8Nt+5TxONuS70AANqg=;
 b=WwFfnMaBNjsoBv2O9Zq/kS9SeCwy3N9653mOCmR6MxUytF5w3LCu1UysCZwOFifwFG
 c6c0r2a+wEI44rE5YEQugVAzzaPukGv2EZlZlwlmQzaPf9Ea7VQpnTw148aqPopftt7i
 AIyUDWQGKJ4GRNURBSCLw648njK+osxmtzDcroCJ9u1ca0YoRLl2J8xj76lHbGRYJX1N
 gCSUYizVw/UpqXBv7QAaoNe7bCoEd/MShZ0JlrILhARzrX22W7CvbS8BFwXBch74SPKI
 dMrQDn2hevYIw0c+ahNAEmQrf1uK0EOANiaeo6sdz95hnzlqyfusSJxhxTjVRaBGSPd3
 V9fA==
X-Gm-Message-State: AOJu0YxQOuJCBAbIdmI50g970OViiUS+xIUr/0/3bI+1DZtdp/HI4sGc
 Q1/k0nThzJ541Pmr2MTo10JoakMptqfG3Bx1FiTLeV4M4LgWwJUA2nKsaVsXXJk5HproahM7K/q
 Oa83tlCtJfOZkuTfiOT1MOqGJzY86btymPouYeuJz
X-Google-Smtp-Source: AGHT+IHy5SyuzI8JXppQoOUionLaq6g16N34+0WDR3/IW6KQZrAzmgtpMdworCuqC+kI90MDRmbZ5HFb6BhC
X-Received: by 2002:a05:6602:2995:b0:7e1:81f9:f7aa with SMTP id
 ca18e2360f4ac-7e1b51b44edmr301925939f.7.1715345348978; 
 Fri, 10 May 2024 05:49:08 -0700 (PDT)
Received: from postal.iol.unh.edu (postal.iol.unh.edu. [132.177.123.84])
 by smtp-relay.gmail.com with ESMTPS id
 ca18e2360f4ac-7e1a8805247sm15780039f.8.2024.05.10.05.49.08
 (version=TLS1_2 cipher=ECDHE-ECDSA-AES128-GCM-SHA256 bits=128/128);
 Fri, 10 May 2024 05:49:08 -0700 (PDT)
X-Relaying-Domain: iol.unh.edu
Date: Fri, 10 May 2024 05:49:08 -0700 (PDT)
Message-ID: <663e17c4.050a0220.8d58d.81fbSMTPIN_ADDED_MISSING@mx.google.com>
Received: from [172.21.0.7] (unknown [172.18.0.240])
 by postal.iol.unh.edu (Postfix) with ESMTP id 730A8605C380;
 Fri, 10 May 2024 08:49:08 -0400 (EDT)
Subject: |SUCCESS| pw140017 [PATCH] [v1] graph: fix does not return the uniqu
From: dpdklab@iol.unh.edu
To: Test Report <test-report@dpdk.org>
Cc: dpdk-test-reports@iol.unh.edu
In-Reply-To: <TYAP286MB0649611614A47B775D184C2CD8E72@TYAP286MB0649.JPNP286.PROD.OUTLOOK.COM>
References: <TYAP286MB0649611614A47B775D184C2CD8E72@TYAP286MB0649.JPNP286.PROD.OUTLOOK.COM>
Content-Type: text/plain
X-BeenThere: test-report@dpdk.org
X-Mailman-Version: 2.1.29
Precedence: list
List-Id: automatic DPDK test reports <test-report.dpdk.org>
List-Unsubscribe: <https://mails.dpdk.org/options/test-report>,
 <mailto:test-report-request@dpdk.org?subject=unsubscribe>
List-Archive: <http://mails.dpdk.org/archives/test-report/>
List-Post: <mailto:test-report@dpdk.org>
List-Help: <mailto:test-report-request@dpdk.org?subject=help>
List-Subscribe: <https://mails.dpdk.org/listinfo/test-report>,
 <mailto:test-report-request@dpdk.org?subject=subscribe>
Errors-To: test-report-bounces@dpdk.org

Test-Label: iol-abi-testing
Test-Status: SUCCESS
http://dpdk.org/patch/140017

_Testing PASS_

Submitter: Gongming Chen <chengongming1900@outlook.com>
Date: Friday, May 10 2024 06:42:14 
DPDK git baseline: Repo:dpdk
  Branch: master
  CommitID:7e06c0de1952d3109a5b0c4779d7e7d8059c9d78

140017 --> testing pass

Test environment and result as below:

+------------------+----------+
|   Environment    | abi_test |
+==================+==========+
| CentOS Stream 9  | PASS     |
+------------------+----------+
| openSUSE Leap 15 | PASS     |
+------------------+----------+
| CentOS Stream 8  | PASS     |
+------------------+----------+


CentOS Stream 9
	Kernel: 5.4.0-167-generic
	Compiler: gcc 11.4.1 20230605

openSUSE Leap 15
	Kernel: 5.4.0-167-generic
	Compiler: gcc 7.5.0

CentOS Stream 8
	Kernel: 5.4.0-167-generic
	Compiler: gcc 8.5.0 20210514

To view detailed results, visit:
https://lab.dpdk.org/results/dashboard/patchsets/29935/

UNH-IOL DPDK Community Lab

To manage your email subscriptions, visit: 
https://lab.dpdk.org/results/dashboard/preferences/subscriptions/