From mboxrd@z Thu Jan  1 00:00:00 1970
Return-Path: <test-report-bounces@dpdk.org>
Received: from mails.dpdk.org (mails.dpdk.org [217.70.189.124])
	by inbox.dpdk.org (Postfix) with ESMTP id CC6C443FB3
	for <public@inbox.dpdk.org>; Fri, 10 May 2024 14:58:01 +0200 (CEST)
Received: from mails.dpdk.org (localhost [127.0.0.1])
	by mails.dpdk.org (Postfix) with ESMTP id B6AB9402C4;
	Fri, 10 May 2024 14:58:01 +0200 (CEST)
Received: from mail-yw1-f226.google.com (mail-yw1-f226.google.com
 [209.85.128.226])
 by mails.dpdk.org (Postfix) with ESMTP id 865A9402BB
 for <test-report@dpdk.org>; Fri, 10 May 2024 14:58:00 +0200 (CEST)
Received: by mail-yw1-f226.google.com with SMTP id
 00721157ae682-6153d85053aso16305097b3.0
 for <test-report@dpdk.org>; Fri, 10 May 2024 05:58:00 -0700 (PDT)
DKIM-Signature: v=1; a=rsa-sha256; c=relaxed/relaxed;
 d=iol.unh.edu; s=unh-iol; t=1715345880; x=1715950680; darn=dpdk.org;
 h=references:in-reply-to:cc:to:from:subject:message-id:date:from:to
 :cc:subject:date:message-id:reply-to;
 bh=b29O9zVGATtKVdKrQA1deAlGzDkl8Eavu2s3DtRJB/Y=;
 b=awyVBo4MJBflEwm0SLizNn7yfqh3m077RORBN9oNlNfIRI8rckBeBacKhs0irqbob6
 JJxgMfkCsxhBsHarjxz0pw7qPmPytoXbrzX2cRCpaZ/A+zgRrb9/47IWv0YB4XIO7Maa
 8RdssLP3/8MGDchf/Nux1p6lUqBoVClacmOxg=
X-Google-DKIM-Signature: v=1; a=rsa-sha256; c=relaxed/relaxed;
 d=1e100.net; s=20230601; t=1715345880; x=1715950680;
 h=references:in-reply-to:cc:to:from:subject:message-id:date
 :x-gm-message-state:from:to:cc:subject:date:message-id:reply-to;
 bh=b29O9zVGATtKVdKrQA1deAlGzDkl8Eavu2s3DtRJB/Y=;
 b=ksVrYBkXMTiT8LYrocBeQ+NUnsQqOLX1Axh/E2CKJ2IsViU1+eqSzW83fB1ygLnkzI
 PFXI2TX2ylqsZcCHZLkbdmjNLcMtookHR0JNUpkyBDlXDSUeKR59D7wFXDSnkutc+HE/
 th/7XcV/r6ogrg0a9WSCqYxLHJOT7ss7qaFFEC9sE6VK4y+4+zOp2nlZwNW4meo/utEy
 2rbmDgvxcIbHVGJ8IhoD5wQIiccDM2o+6zLbFgEKkyZoNT8pZfon2YbIv1HZ0bP7tJWN
 T0wDX+B+PF9ScUpLSUEO1pzmHGW+rNEp0oaUXMuF3fslfeKzAXSp0Pyp3YwlCyFrfC+2
 Vi5w==
X-Gm-Message-State: AOJu0Yy7MZBLqEBiqOcnMxYAr0SwOlH+0kmNRREdGrLU93B31LcNikab
 4GfZYp8Ty7N8q1yMXj2LBld3lRwbJU+VOe1jDw1j8k2kHD7tKasgN749oivlVjNP4EgSvf4PjbI
 8rs1SPwQc87IOLezdxtuGslXYCUJbEBXOEoCbwfCnIwWbhWRBDMJcLw3B
X-Google-Smtp-Source: AGHT+IGZetJjQJXobb+SM0J52LpIr7Wpa5r4b3DAEppd5AZE2POzcY/o/BFAxzRjf3pWegr6RbyqKHWwBWrq
X-Received: by 2002:a81:4c86:0:b0:61a:b3e8:8d94 with SMTP id
 00721157ae682-622afda0980mr25224597b3.0.1715345879863; 
 Fri, 10 May 2024 05:57:59 -0700 (PDT)
Received: from postal.iol.unh.edu (postal.iol.unh.edu.
 [2606:4100:3880:1234::84]) by smtp-relay.gmail.com with ESMTPS id
 00721157ae682-6209e26b9b6sm2354307b3.37.2024.05.10.05.57.59
 (version=TLS1_2 cipher=ECDHE-ECDSA-AES128-GCM-SHA256 bits=128/128);
 Fri, 10 May 2024 05:57:59 -0700 (PDT)
X-Relaying-Domain: iol.unh.edu
Date: Fri, 10 May 2024 05:57:59 -0700 (PDT)
Message-ID: <663e19d7.810a0220.b8b49.c929SMTPIN_ADDED_MISSING@mx.google.com>
Received: from [172.21.0.6] (unknown [172.18.0.240])
 by postal.iol.unh.edu (Postfix) with ESMTP id 7F533605C380;
 Fri, 10 May 2024 08:57:59 -0400 (EDT)
Subject: |SUCCESS| pw140018 [PATCH] [v2] graph: fix does not return the uniqu
From: dpdklab@iol.unh.edu
To: Test Report <test-report@dpdk.org>
Cc: dpdk-test-reports@iol.unh.edu
In-Reply-To: <TYAP286MB06492336688E0855A00ADFF7D8E72@TYAP286MB0649.JPNP286.PROD.OUTLOOK.COM>
References: <TYAP286MB06492336688E0855A00ADFF7D8E72@TYAP286MB0649.JPNP286.PROD.OUTLOOK.COM>
Content-Type: text/plain
X-BeenThere: test-report@dpdk.org
X-Mailman-Version: 2.1.29
Precedence: list
List-Id: automatic DPDK test reports <test-report.dpdk.org>
List-Unsubscribe: <https://mails.dpdk.org/options/test-report>,
 <mailto:test-report-request@dpdk.org?subject=unsubscribe>
List-Archive: <http://mails.dpdk.org/archives/test-report/>
List-Post: <mailto:test-report@dpdk.org>
List-Help: <mailto:test-report-request@dpdk.org?subject=help>
List-Subscribe: <https://mails.dpdk.org/listinfo/test-report>,
 <mailto:test-report-request@dpdk.org?subject=subscribe>
Errors-To: test-report-bounces@dpdk.org

Test-Label: iol-compile-arm64-testing
Test-Status: SUCCESS
http://dpdk.org/patch/140018

_Testing PASS_

Submitter: Gongming Chen <chengongming1900@outlook.com>
Date: Friday, May 10 2024 06:47:47 
DPDK git baseline: Repo:dpdk
  Branch: master
  CommitID:7e06c0de1952d3109a5b0c4779d7e7d8059c9d78

140018 --> testing pass

Test environment and result as below:

+--------------------------+--------------------+
|       Environment        | dpdk_meson_compile |
+==========================+====================+
| Ubuntu 20.04 ARM SVE     | PASS               |
+--------------------------+--------------------+
| Debian 12 with MUSDK     | PASS               |
+--------------------------+--------------------+
| Fedora 37 (ARM)          | PASS               |
+--------------------------+--------------------+
| Ubuntu 20.04 (ARM)       | PASS               |
+--------------------------+--------------------+
| CentOS Stream 9 (ARM)    | PASS               |
+--------------------------+--------------------+
| Debian 12 (arm)          | PASS               |
+--------------------------+--------------------+
| Fedora 38 (ARM)          | PASS               |
+--------------------------+--------------------+
| Fedora 39 (ARM)          | PASS               |
+--------------------------+--------------------+
| Debian 11 (Buster) (ARM) | PASS               |
+--------------------------+--------------------+


Ubuntu 20.04 ARM SVE
	Kernel: 5.4.0-167-generic
	Compiler: gcc (Ubuntu 10.5.0-1ubuntu1~20.04) 10.5.0

Debian 12 with MUSDK
	Kernel: Container Host Kernel
	Compiler: gcc 12.2.0

Fedora 37 (ARM)
	Kernel: Depends on container host
	Compiler: gcc 12.3.1

Ubuntu 20.04 (ARM)
	Kernel: Container Host Kernel
	Compiler: gcc 9.4.0

CentOS Stream 9 (ARM)
	Kernel: Container Host Kernel
	Compiler: gcc 11.4.1

Debian 12 (arm)
	Kernel: Container Host Kernel
	Compiler: gcc 12.2.0

Fedora 38 (ARM)
	Kernel: Depends on container host
	Compiler: gcc 13.2.1

Fedora 39 (ARM)
	Kernel: Depends on container host
	Compiler: gcc 13.2.1

Debian 11 (Buster) (ARM)
	Kernel: Container Host Kernel
	Compiler: gcc 10.2.1

To view detailed results, visit:
https://lab.dpdk.org/results/dashboard/patchsets/29936/

UNH-IOL DPDK Community Lab

To manage your email subscriptions, visit: 
https://lab.dpdk.org/results/dashboard/preferences/subscriptions/