From mboxrd@z Thu Jan  1 00:00:00 1970
Return-Path: <test-report-bounces@dpdk.org>
Received: from mails.dpdk.org (mails.dpdk.org [217.70.189.124])
	by inbox.dpdk.org (Postfix) with ESMTP id 4BFD343FB3
	for <public@inbox.dpdk.org>; Fri, 10 May 2024 14:59:43 +0200 (CEST)
Received: from mails.dpdk.org (localhost [127.0.0.1])
	by mails.dpdk.org (Postfix) with ESMTP id 47E47402C4;
	Fri, 10 May 2024 14:59:43 +0200 (CEST)
Received: from mail-ot1-f99.google.com (mail-ot1-f99.google.com
 [209.85.210.99]) by mails.dpdk.org (Postfix) with ESMTP id 6EF54402BB
 for <test-report@dpdk.org>; Fri, 10 May 2024 14:59:42 +0200 (CEST)
Received: by mail-ot1-f99.google.com with SMTP id
 46e09a7af769-6f0442816e7so1242866a34.2
 for <test-report@dpdk.org>; Fri, 10 May 2024 05:59:42 -0700 (PDT)
DKIM-Signature: v=1; a=rsa-sha256; c=relaxed/relaxed;
 d=iol.unh.edu; s=unh-iol; t=1715345981; x=1715950781; darn=dpdk.org;
 h=references:in-reply-to:cc:to:from:subject:message-id:date:from:to
 :cc:subject:date:message-id:reply-to;
 bh=IC4ADrm2Qywm8Oz/qop7i/OyaBihQ42GUX29pgv0EGI=;
 b=esq9uAE915tlqf9PjorZB8H/HP7eEtFqaZzd9Jo0QaStCgXTpy3VZCOb9vMvqLPaW8
 XSBZl5yxfxpFY4mx72aW/WLN/BvCpxBA0rpbpjDum2/rb2iPI7V6Hs5AtOI3RAcbK/7w
 ctWtD2mRtJcNgogBPd7/w+3eh3GhV3yM7nyWg=
X-Google-DKIM-Signature: v=1; a=rsa-sha256; c=relaxed/relaxed;
 d=1e100.net; s=20230601; t=1715345981; x=1715950781;
 h=references:in-reply-to:cc:to:from:subject:message-id:date
 :x-gm-message-state:from:to:cc:subject:date:message-id:reply-to;
 bh=IC4ADrm2Qywm8Oz/qop7i/OyaBihQ42GUX29pgv0EGI=;
 b=uZpLQ0vLvCYf+0hI+nTJ5cAn76GQ+xuEvG0QVruZZWQWq6Jy2alUIkxmuH06D8EXI8
 miPzu7gyiaREhLF7Vu8rPnZBFUHX4CPWmnRSdGzapwHFEwfgttPp1aMgyNxpcYWZgchW
 4oP95GoG+6NJu6FO+E+hXZhcuCq6odTJQGCOiccNFUpCUr0BzHUyKPl2teYxDxzR8PvM
 lYfczteqBjhBUuPMzQZXBSIILfw7ud1gtuP8HG6oXxOLeGmAiYFCNewYRO7GVWZWXhIo
 y8rewsusIkdLIsSrgGObY6T3ihHiJf77r9gs0Fg3blBaEa/TGz8fcnVPsXzeFNIEmam3
 4sRA==
X-Gm-Message-State: AOJu0YxGofA9HhdCypmvnUCz/R0n12fk7b6CDd6bx6TxLN5S5bcmFAyc
 hq7FMfgqhI9J7I12L01WdVS6AYBBwW31G3Ah/zfztWYblyrKrcZnyGR7kXCvwGDLlOJotNiutkb
 HFoVz1eC7/cctWt2zUp+4wqJN3UJ7ljRhpnViIXrg
X-Google-Smtp-Source: AGHT+IHF4ppnm5iQoMsQA6Uh+6iRnyagjS/Ihwn0grAOFTFzdDbaPwj0rqtJCw2rXK9nVupm2V74PoXObfI/
X-Received: by 2002:a05:6870:c191:b0:22e:c434:ec with SMTP id
 586e51a60fabf-24172fb4574mr2514012fac.56.1715345981778; 
 Fri, 10 May 2024 05:59:41 -0700 (PDT)
Received: from postal.iol.unh.edu (postal.iol.unh.edu. [132.177.123.84])
 by smtp-relay.gmail.com with ESMTPS id
 586e51a60fabf-2412a6a891asm162141fac.29.2024.05.10.05.59.41
 (version=TLS1_2 cipher=ECDHE-ECDSA-AES128-GCM-SHA256 bits=128/128);
 Fri, 10 May 2024 05:59:41 -0700 (PDT)
X-Relaying-Domain: iol.unh.edu
Date: Fri, 10 May 2024 05:59:41 -0700 (PDT)
Message-ID: <663e1a3d.050a0220.36e82.8261SMTPIN_ADDED_MISSING@mx.google.com>
Received: from [172.21.0.8] (unknown [172.18.0.240])
 by postal.iol.unh.edu (Postfix) with ESMTP id BD6CB605C380;
 Fri, 10 May 2024 08:59:40 -0400 (EDT)
Subject: |SUCCESS| pw140017 [PATCH] [v1] graph: fix does not return the uniqu
From: dpdklab@iol.unh.edu
To: Test Report <test-report@dpdk.org>
Cc: dpdk-test-reports@iol.unh.edu
In-Reply-To: <TYAP286MB0649611614A47B775D184C2CD8E72@TYAP286MB0649.JPNP286.PROD.OUTLOOK.COM>
References: <TYAP286MB0649611614A47B775D184C2CD8E72@TYAP286MB0649.JPNP286.PROD.OUTLOOK.COM>
Content-Type: text/plain
X-BeenThere: test-report@dpdk.org
X-Mailman-Version: 2.1.29
Precedence: list
List-Id: automatic DPDK test reports <test-report.dpdk.org>
List-Unsubscribe: <https://mails.dpdk.org/options/test-report>,
 <mailto:test-report-request@dpdk.org?subject=unsubscribe>
List-Archive: <http://mails.dpdk.org/archives/test-report/>
List-Post: <mailto:test-report@dpdk.org>
List-Help: <mailto:test-report-request@dpdk.org?subject=help>
List-Subscribe: <https://mails.dpdk.org/listinfo/test-report>,
 <mailto:test-report-request@dpdk.org?subject=subscribe>
Errors-To: test-report-bounces@dpdk.org

Test-Label: iol-abi-testing
Test-Status: SUCCESS
http://dpdk.org/patch/140017

_Testing PASS_

Submitter: Gongming Chen <chengongming1900@outlook.com>
Date: Friday, May 10 2024 06:42:14 
DPDK git baseline: Repo:dpdk
  Branch: master
  CommitID:7e06c0de1952d3109a5b0c4779d7e7d8059c9d78

140017 --> testing pass

Test environment and result as below:

+------------------+----------+
|   Environment    | abi_test |
+==================+==========+
| CentOS Stream 9  | PASS     |
+------------------+----------+
| openSUSE Leap 15 | PASS     |
+------------------+----------+
| CentOS Stream 8  | PASS     |
+------------------+----------+
| Debian Bullseye  | PASS     |
+------------------+----------+
| Debian 12        | PASS     |
+------------------+----------+


CentOS Stream 9
	Kernel: 5.4.0-167-generic
	Compiler: gcc 11.4.1 20230605

openSUSE Leap 15
	Kernel: 5.4.0-167-generic
	Compiler: gcc 7.5.0

CentOS Stream 8
	Kernel: 5.4.0-167-generic
	Compiler: gcc 8.5.0 20210514

Debian Bullseye
	Kernel: 5.4.0-167-generic
	Compiler: gcc 10.2.1-6

Debian 12
	Kernel: Container Host Kernel
	Compiler: gcc 10.2.1

To view detailed results, visit:
https://lab.dpdk.org/results/dashboard/patchsets/29935/

UNH-IOL DPDK Community Lab

To manage your email subscriptions, visit: 
https://lab.dpdk.org/results/dashboard/preferences/subscriptions/