From mboxrd@z Thu Jan  1 00:00:00 1970
Return-Path: <test-report-bounces@dpdk.org>
Received: from mails.dpdk.org (mails.dpdk.org [217.70.189.124])
	by inbox.dpdk.org (Postfix) with ESMTP id 2B69543FB3
	for <public@inbox.dpdk.org>; Fri, 10 May 2024 15:05:48 +0200 (CEST)
Received: from mails.dpdk.org (localhost [127.0.0.1])
	by mails.dpdk.org (Postfix) with ESMTP id 27B07402C4;
	Fri, 10 May 2024 15:05:48 +0200 (CEST)
Received: from mail-qv1-f100.google.com (mail-qv1-f100.google.com
 [209.85.219.100])
 by mails.dpdk.org (Postfix) with ESMTP id 1B120402BB
 for <test-report@dpdk.org>; Fri, 10 May 2024 15:05:46 +0200 (CEST)
Received: by mail-qv1-f100.google.com with SMTP id
 6a1803df08f44-69b24162dd6so12881416d6.2
 for <test-report@dpdk.org>; Fri, 10 May 2024 06:05:46 -0700 (PDT)
DKIM-Signature: v=1; a=rsa-sha256; c=relaxed/relaxed;
 d=iol.unh.edu; s=unh-iol; t=1715346345; x=1715951145; darn=dpdk.org;
 h=references:in-reply-to:cc:to:from:subject:message-id:date:from:to
 :cc:subject:date:message-id:reply-to;
 bh=N4OuuPqhGJAZrIYTDI4CbCF7sfJ5kSpInnKo0CqQWBc=;
 b=Lau1ulkeWwHxlRfCQHUjmyC99ZYEBXj1YayHbnD/pu53mrS8Mh/ebS/WDiN/r/FnWz
 Qh1IgJsiOjXC7fwkaurtlZa7WVFZAMPsk1C4iRX7BrGYpYiiHnBh4wIh5ODhC2Ae4lAB
 GE4CSoywhHIgD6DtLclt//BL29qNHg8RdjyqQ=
X-Google-DKIM-Signature: v=1; a=rsa-sha256; c=relaxed/relaxed;
 d=1e100.net; s=20230601; t=1715346345; x=1715951145;
 h=references:in-reply-to:cc:to:from:subject:message-id:date
 :x-gm-message-state:from:to:cc:subject:date:message-id:reply-to;
 bh=N4OuuPqhGJAZrIYTDI4CbCF7sfJ5kSpInnKo0CqQWBc=;
 b=C30q93aZeJ0wVIlYfFP7L+UiTHfeAzjEpQ2dS7WsqYRNXVUot/VWhUW+uSFVynkPxm
 zP4iH8kntqwPYwa7p+7nZqdb0Tv613Vg0rekCxy7np03CZERNrpCBY4miZtzEM9PncBl
 yUm1+SUkpj9PUpSZbqvtmXS6hFBwoAo8jyel/Z+vbBhnegGTuHhaqDRHTS5ChSJYO+48
 p6eiZCmiwqB3bY1jf78Vx9O/30Pg+a9EiGKcFhqPc9id+rCVY6YY5ySuDz9ANQmzMSmr
 v4xmnbjvz4v5127J6NkDTIHYgZDH2JS/233hA40xkejZe+L+MH5Brig8fHbS/1om7art
 gQqg==
X-Gm-Message-State: AOJu0Yx2b+kTRHC5U7TbqszhpaUWIPTWaZ45HRi1trlIbGbBqGs3oYWT
 qO2udhVYZ7LegyLo9GzgoQOFSzelW1cpC8d+sNldXF0LYlK7AEkCq+oYEW8e8Lz+TwFK1UAy+C1
 h2c1I/qRjZ1ECCZUr2k5aXSupJN0JGvpZteTAmByw
X-Google-Smtp-Source: AGHT+IG1vRJjWoPf6zJpvkb1qE1OjsbA9jOP2iinjJUqB9qe9pZx/kHgdJInktHv0TcZvV3Hobl9nC0Hle/0
X-Received: by 2002:a05:6214:450f:b0:6a0:cd6b:4149 with SMTP id
 6a1803df08f44-6a168140ee1mr24753776d6.1.1715346345548; 
 Fri, 10 May 2024 06:05:45 -0700 (PDT)
Received: from postal.iol.unh.edu (postal.iol.unh.edu. [132.177.123.84])
 by smtp-relay.gmail.com with ESMTPS id
 6a1803df08f44-6a15f1b85ecsm2303726d6.28.2024.05.10.06.05.45
 (version=TLS1_2 cipher=ECDHE-ECDSA-AES128-GCM-SHA256 bits=128/128);
 Fri, 10 May 2024 06:05:45 -0700 (PDT)
X-Relaying-Domain: iol.unh.edu
Date: Fri, 10 May 2024 06:05:45 -0700 (PDT)
Message-ID: <663e1ba9.d40a0220.e7ccb.c667SMTPIN_ADDED_MISSING@mx.google.com>
Received: from [172.21.0.8] (unknown [172.18.0.240])
 by postal.iol.unh.edu (Postfix) with ESMTP id 3E715605C380;
 Fri, 10 May 2024 09:05:45 -0400 (EDT)
Subject: |SUCCESS| pw140018 [PATCH] [v2] graph: fix does not return the uniqu
From: dpdklab@iol.unh.edu
To: Test Report <test-report@dpdk.org>
Cc: dpdk-test-reports@iol.unh.edu
In-Reply-To: <TYAP286MB06492336688E0855A00ADFF7D8E72@TYAP286MB0649.JPNP286.PROD.OUTLOOK.COM>
References: <TYAP286MB06492336688E0855A00ADFF7D8E72@TYAP286MB0649.JPNP286.PROD.OUTLOOK.COM>
Content-Type: text/plain
X-BeenThere: test-report@dpdk.org
X-Mailman-Version: 2.1.29
Precedence: list
List-Id: automatic DPDK test reports <test-report.dpdk.org>
List-Unsubscribe: <https://mails.dpdk.org/options/test-report>,
 <mailto:test-report-request@dpdk.org?subject=unsubscribe>
List-Archive: <http://mails.dpdk.org/archives/test-report/>
List-Post: <mailto:test-report@dpdk.org>
List-Help: <mailto:test-report-request@dpdk.org?subject=help>
List-Subscribe: <https://mails.dpdk.org/listinfo/test-report>,
 <mailto:test-report-request@dpdk.org?subject=subscribe>
Errors-To: test-report-bounces@dpdk.org

Test-Label: iol-compile-amd64-testing
Test-Status: SUCCESS
http://dpdk.org/patch/140018

_Testing PASS_

Submitter: Gongming Chen <chengongming1900@outlook.com>
Date: Friday, May 10 2024 06:47:47 
DPDK git baseline: Repo:dpdk
  Branch: master
  CommitID:7e06c0de1952d3109a5b0c4779d7e7d8059c9d78

140018 --> testing pass

Test environment and result as below:

+---------------------+--------------------+----------------------+-------------------+
|     Environment     | dpdk_meson_compile | dpdk_mingw64_compile | dpdk_msvc_compile |
+=====================+====================+======================+===================+
| FreeBSD 13.3        | PASS               | SKIPPED              | SKIPPED           |
+---------------------+--------------------+----------------------+-------------------+
| Windows Server 2019 | PASS               | PASS                 | SKIPPED           |
+---------------------+--------------------+----------------------+-------------------+
| FreeBSD 14.0        | PASS               | SKIPPED              | SKIPPED           |
+---------------------+--------------------+----------------------+-------------------+
| CentOS Stream 8     | PASS               | SKIPPED              | SKIPPED           |
+---------------------+--------------------+----------------------+-------------------+
| CentOS Stream 9     | PASS               | SKIPPED              | SKIPPED           |
+---------------------+--------------------+----------------------+-------------------+
| Debian 12           | PASS               | SKIPPED              | SKIPPED           |
+---------------------+--------------------+----------------------+-------------------+
| Fedora 39           | PASS               | SKIPPED              | SKIPPED           |
+---------------------+--------------------+----------------------+-------------------+
| Fedora 37           | PASS               | SKIPPED              | SKIPPED           |
+---------------------+--------------------+----------------------+-------------------+
| Fedora 38           | PASS               | SKIPPED              | SKIPPED           |
+---------------------+--------------------+----------------------+-------------------+
| RHEL8               | PASS               | SKIPPED              | SKIPPED           |
+---------------------+--------------------+----------------------+-------------------+
| openSUSE Leap 15    | PASS               | SKIPPED              | SKIPPED           |
+---------------------+--------------------+----------------------+-------------------+
| Ubuntu 20.04        | PASS               | SKIPPED              | SKIPPED           |
+---------------------+--------------------+----------------------+-------------------+
| Windows Server 2022 | SKIPPED            | PASS                 | PASS              |
+---------------------+--------------------+----------------------+-------------------+


FreeBSD 13.3
	Kernel: 13.3-RELEASE-p1
	Compiler: clang 17.0.6

Windows Server 2019
	Kernel: 10.0.17763
	Compiler: clang 14.0 and gcc 8.1.0 (MinGW)

FreeBSD 14.0
	Kernel: 14.0
	Compiler: clang 16.0.6

CentOS Stream 8
	Kernel: 5.4.0-167-generic
	Compiler: gcc 8.5.0 20210514

CentOS Stream 9
	Kernel: 5.4.0-167-generic
	Compiler: gcc 11.4.1 20230605

Debian 12
	Kernel: Container Host Kernel
	Compiler: gcc 10.2.1

Fedora 39
	Kernel: Depends on container host
	Compiler: gcc 13.2.1

Fedora 37
	Kernel: Depends on container host system
	Compiler: gcc 12.3.1

Fedora 38
	Kernel: Depends on container host
	Compiler: gcc 13.2.1

RHEL8
	Kernel: 5.4.0-167-generic
	Compiler: gcc 8.5.0 20210514 (Red Hat 8.5.0-20)

openSUSE Leap 15
	Kernel: 5.4.0-167-generic
	Compiler: gcc 7.5.0

Ubuntu 20.04
	Kernel: 5.4.0-167-generic
	Compiler: gcc 9.4.0-1ubuntu1~20.04.1

Windows Server 2022
	Kernel: 10.0.20348.2031
	Compiler: clang 15.0.7, gcc 8.1.0 (MinGW), and MSVC VS 17.9

To view detailed results, visit:
https://lab.dpdk.org/results/dashboard/patchsets/29936/

UNH-IOL DPDK Community Lab

To manage your email subscriptions, visit: 
https://lab.dpdk.org/results/dashboard/preferences/subscriptions/