From mboxrd@z Thu Jan  1 00:00:00 1970
Return-Path: <test-report-bounces@dpdk.org>
Received: from mails.dpdk.org (mails.dpdk.org [217.70.189.124])
	by inbox.dpdk.org (Postfix) with ESMTP id E21EF43FB3
	for <public@inbox.dpdk.org>; Fri, 10 May 2024 15:22:49 +0200 (CEST)
Received: from mails.dpdk.org (localhost [127.0.0.1])
	by mails.dpdk.org (Postfix) with ESMTP id DE0C9402C4;
	Fri, 10 May 2024 15:22:49 +0200 (CEST)
Received: from mail-oo1-f98.google.com (mail-oo1-f98.google.com
 [209.85.161.98]) by mails.dpdk.org (Postfix) with ESMTP id D77C3402BB
 for <test-report@dpdk.org>; Fri, 10 May 2024 15:22:48 +0200 (CEST)
Received: by mail-oo1-f98.google.com with SMTP id
 006d021491bc7-5b290669b0fso177617eaf.2
 for <test-report@dpdk.org>; Fri, 10 May 2024 06:22:48 -0700 (PDT)
DKIM-Signature: v=1; a=rsa-sha256; c=relaxed/relaxed;
 d=iol.unh.edu; s=unh-iol; t=1715347368; x=1715952168; darn=dpdk.org;
 h=references:in-reply-to:cc:to:from:subject:message-id:date:from:to
 :cc:subject:date:message-id:reply-to;
 bh=N4x/N9q4tf4ubPL5IItVD2i+IbbJEVo5WKXHI1G5GEk=;
 b=FPSNTvvKUeYvxi2XlaiqMQ5iQjZJMYABcE5JizEto6BnrEqM/ydU2XZA4HXV8OE+5/
 EJaMz0zZoq/jQf2TA8tcx/QnxcP995eQNIPplYqFgQFQUnDTtFkf+WQJvmHIoDhAT5It
 BchggOibEn3mhk33nlvq1SdxlwTGEUSzHYULQ=
X-Google-DKIM-Signature: v=1; a=rsa-sha256; c=relaxed/relaxed;
 d=1e100.net; s=20230601; t=1715347368; x=1715952168;
 h=references:in-reply-to:cc:to:from:subject:message-id:date
 :x-gm-message-state:from:to:cc:subject:date:message-id:reply-to;
 bh=N4x/N9q4tf4ubPL5IItVD2i+IbbJEVo5WKXHI1G5GEk=;
 b=cirX/5XIleuL2m0vZLnMDUUg15+7ilAvzOlSOjatLK0bHLQpSRFTTkQBtOYLRZhY5O
 llTgfe9Pt6c6/k/LihUoC4vPCksrkmRxMZTvgl7Xyow+yADaIDB3E6y4u6V3k0OFu591
 CelwXDqRGI3xs2rjJBdpXeFg4oXhdt7QGNtnzop+2M9Zbt2z8ibEnOAIkP5/MV1KVIOv
 1nCjo1x/4JzWPjOo01RURmcY/HTk8kg8ljjVHPvT340Ln829slLrdHNveQ/NO4BNtEWy
 mYIi5rJkmhXFem0kq6thWma3GNkJ4lphzK2FH30LexcX5SaES6erPZ4AfYZUAdFGt6xn
 +7nA==
X-Gm-Message-State: AOJu0YyHxx0EAs57saPAlfpsYEY9ASznipTEc8/X1f5Yv0xhLGZ/A/v6
 5DpMb8vNVnMbRCNJT7qK5uQt3c3PhFow4RVtkVBD5NzoCeg/u91DwdFmdb20hITGL1P+n5S1kRO
 F3kB24p001h/Yo4SMKoV/p0hP178BpjO0eSrNC1N0
X-Google-Smtp-Source: AGHT+IFBi08Eyx6+NMxjZVAdcvM17c0BxnlN9auPfZcoVONrqiuHp29j6VG4m/1DzkU8T89ahzeqCs0SJMKf
X-Received: by 2002:a05:6359:4c99:b0:190:47ea:71af with SMTP id
 e5c5f4694b2df-193bb51819cmr276226955d.10.1715347368123; 
 Fri, 10 May 2024 06:22:48 -0700 (PDT)
Received: from postal.iol.unh.edu (postal.iol.unh.edu. [132.177.123.84])
 by smtp-relay.gmail.com with ESMTPS id
 41be03b00d2f7-63411902e4fsm263202a12.34.2024.05.10.06.22.47
 (version=TLS1_2 cipher=ECDHE-ECDSA-AES128-GCM-SHA256 bits=128/128);
 Fri, 10 May 2024 06:22:48 -0700 (PDT)
X-Relaying-Domain: iol.unh.edu
Date: Fri, 10 May 2024 06:22:48 -0700 (PDT)
Message-ID: <663e1fa8.630a0220.c6cb0.e039SMTPIN_ADDED_MISSING@mx.google.com>
Received: from [172.21.0.7] (unknown [172.18.0.240])
 by postal.iol.unh.edu (Postfix) with ESMTP id 79EB2605C380;
 Fri, 10 May 2024 09:22:47 -0400 (EDT)
Subject: |SUCCESS| pw140017 [PATCH] [v1] graph: fix does not return the uniqu
From: dpdklab@iol.unh.edu
To: Test Report <test-report@dpdk.org>
Cc: dpdk-test-reports@iol.unh.edu
In-Reply-To: <TYAP286MB0649611614A47B775D184C2CD8E72@TYAP286MB0649.JPNP286.PROD.OUTLOOK.COM>
References: <TYAP286MB0649611614A47B775D184C2CD8E72@TYAP286MB0649.JPNP286.PROD.OUTLOOK.COM>
Content-Type: text/plain
X-BeenThere: test-report@dpdk.org
X-Mailman-Version: 2.1.29
Precedence: list
List-Id: automatic DPDK test reports <test-report.dpdk.org>
List-Unsubscribe: <https://mails.dpdk.org/options/test-report>,
 <mailto:test-report-request@dpdk.org?subject=unsubscribe>
List-Archive: <http://mails.dpdk.org/archives/test-report/>
List-Post: <mailto:test-report@dpdk.org>
List-Help: <mailto:test-report-request@dpdk.org?subject=help>
List-Subscribe: <https://mails.dpdk.org/listinfo/test-report>,
 <mailto:test-report-request@dpdk.org?subject=subscribe>
Errors-To: test-report-bounces@dpdk.org

Test-Label: iol-compile-arm64-testing
Test-Status: SUCCESS
http://dpdk.org/patch/140017

_Testing PASS_

Submitter: Gongming Chen <chengongming1900@outlook.com>
Date: Friday, May 10 2024 06:42:14 
DPDK git baseline: Repo:dpdk
  Branch: master
  CommitID:7e06c0de1952d3109a5b0c4779d7e7d8059c9d78

140017 --> testing pass

Test environment and result as below:

+--------------------------+--------------------+
|       Environment        | dpdk_meson_compile |
+==========================+====================+
| Ubuntu 20.04 ARM SVE     | PASS               |
+--------------------------+--------------------+
| Debian 12 with MUSDK     | PASS               |
+--------------------------+--------------------+
| Fedora 37 (ARM)          | PASS               |
+--------------------------+--------------------+
| Ubuntu 20.04 (ARM)       | PASS               |
+--------------------------+--------------------+
| Debian 11 (Buster) (ARM) | PASS               |
+--------------------------+--------------------+
| Debian 12 (arm)          | PASS               |
+--------------------------+--------------------+


Ubuntu 20.04 ARM SVE
	Kernel: 5.4.0-167-generic
	Compiler: gcc (Ubuntu 10.5.0-1ubuntu1~20.04) 10.5.0

Debian 12 with MUSDK
	Kernel: Container Host Kernel
	Compiler: gcc 12.2.0

Fedora 37 (ARM)
	Kernel: Depends on container host
	Compiler: gcc 12.3.1

Ubuntu 20.04 (ARM)
	Kernel: Container Host Kernel
	Compiler: gcc 9.4.0

Debian 11 (Buster) (ARM)
	Kernel: Container Host Kernel
	Compiler: gcc 10.2.1

Debian 12 (arm)
	Kernel: Container Host Kernel
	Compiler: gcc 12.2.0

To view detailed results, visit:
https://lab.dpdk.org/results/dashboard/patchsets/29935/

UNH-IOL DPDK Community Lab

To manage your email subscriptions, visit: 
https://lab.dpdk.org/results/dashboard/preferences/subscriptions/