From mboxrd@z Thu Jan  1 00:00:00 1970
Return-Path: <test-report-bounces@dpdk.org>
Received: from mails.dpdk.org (mails.dpdk.org [217.70.189.124])
	by inbox.dpdk.org (Postfix) with ESMTP id D9C4E43FB3
	for <public@inbox.dpdk.org>; Fri, 10 May 2024 15:54:22 +0200 (CEST)
Received: from mails.dpdk.org (localhost [127.0.0.1])
	by mails.dpdk.org (Postfix) with ESMTP id B8DF4402C4;
	Fri, 10 May 2024 15:54:22 +0200 (CEST)
Received: from mail-pf1-f227.google.com (mail-pf1-f227.google.com
 [209.85.210.227])
 by mails.dpdk.org (Postfix) with ESMTP id 0BC19402BB
 for <test-report@dpdk.org>; Fri, 10 May 2024 15:54:20 +0200 (CEST)
Received: by mail-pf1-f227.google.com with SMTP id
 d2e1a72fcca58-6f4d6b7168eso1085157b3a.2
 for <test-report@dpdk.org>; Fri, 10 May 2024 06:54:20 -0700 (PDT)
DKIM-Signature: v=1; a=rsa-sha256; c=relaxed/relaxed;
 d=iol.unh.edu; s=unh-iol; t=1715349260; x=1715954060; darn=dpdk.org;
 h=references:in-reply-to:cc:to:from:subject:message-id:date:from:to
 :cc:subject:date:message-id:reply-to;
 bh=xxt5q8mx/oVurD/LaImT6z66fLLmyIpbF5iYjEgzg8w=;
 b=JEnODAeaoG1cg3N4k6QdSLhe3o/ntY5iXT9THNMKd7DhWgg5gf9Tq0nidHASmERa6G
 +m2MBPuEmQ8WR1Otlv9BkEwfYKS4VtFo73OLe4gzJeMsrUK+eKdMulDzG4HFPE1xBmZN
 BE2Ia39sNsJ3FlKrXslwhDhAv9ZLqqMfrmzKM=
X-Google-DKIM-Signature: v=1; a=rsa-sha256; c=relaxed/relaxed;
 d=1e100.net; s=20230601; t=1715349260; x=1715954060;
 h=references:in-reply-to:cc:to:from:subject:message-id:date
 :x-gm-message-state:from:to:cc:subject:date:message-id:reply-to;
 bh=xxt5q8mx/oVurD/LaImT6z66fLLmyIpbF5iYjEgzg8w=;
 b=MRnQWAG+7L61e29Wq2GmoGPNQBCgzCwA0/j+gVaViPmA1Y1ablCDpRqBOpumXTZ0P/
 MYOszrP2DiN8zfPTMXH0IOR3hnUbvfbkk6UAqd8v2K6JxoNSCe9pcmVaWuQ3iZN1Dqlc
 dWzl2/NHbfMafFyHTVwrcv1F70540FhV5z/38YDS1uYPhaes8e4ICHjeRK1YV5FrT1Pi
 dK5xR7ugSMv8LTR7xR/0Y5lkrB/2GlhJXhiaowRWxBR+RKf0fY1pxXr19Y6Ffl+0AGWr
 dJYyHvzazz1wwnaTRPH9Sd3A01hZjoHCav8UrsRujAcLiHZRGjqVr5VLxe2UqrUQe4if
 hMzA==
X-Gm-Message-State: AOJu0YylGMAchakVFJ6poyZuFpRTLCQjAF9PVbr4jrcvICh8Q6ezGwEf
 2tJ/gTe7SXrg+vBLWbJwWeypmSicbSVXG8o2ossnNuO0ygf+QcHFE1G/2mrc0G7QPBdvyrk3rW7
 Syf525TTkM1SaSQqm04hu8NWwo1qYOGCJbOUQKyO3Qb9skRKU3y4DomJR
X-Google-Smtp-Source: AGHT+IHQwf9HnSC5WvoC4jLlvtGaFA4SeidhNOjgBKw0c98YYYHzx/4ehYE07iLMUz1WL1H/DuYYAU8HNVPl
X-Received: by 2002:a05:6a20:748e:b0:1af:b1e0:85e6 with SMTP id
 adf61e73a8af0-1afde1df6b6mr3488414637.56.1715349260110; 
 Fri, 10 May 2024 06:54:20 -0700 (PDT)
Received: from postal.iol.unh.edu (postal.iol.unh.edu.
 [2606:4100:3880:1234::84]) by smtp-relay.gmail.com with ESMTPS id
 d2e1a72fcca58-6f4d2ab72absm194920b3a.8.2024.05.10.06.54.19
 (version=TLS1_2 cipher=ECDHE-ECDSA-AES128-GCM-SHA256 bits=128/128);
 Fri, 10 May 2024 06:54:20 -0700 (PDT)
X-Relaying-Domain: iol.unh.edu
Date: Fri, 10 May 2024 06:54:20 -0700 (PDT)
Message-ID: <663e270c.050a0220.57fc5.a2a4SMTPIN_ADDED_MISSING@mx.google.com>
Received: from [172.17.0.3] (unknown [172.18.0.217])
 by postal.iol.unh.edu (Postfix) with ESMTP id 4050C605C380;
 Fri, 10 May 2024 09:54:19 -0400 (EDT)
Subject: |SUCCESS| pw140017 [PATCH] [v1] graph: fix does not return the uniqu
From: dpdklab@iol.unh.edu
To: Test Report <test-report@dpdk.org>
Cc: dpdk-test-reports@iol.unh.edu
In-Reply-To: <TYAP286MB0649611614A47B775D184C2CD8E72@TYAP286MB0649.JPNP286.PROD.OUTLOOK.COM>
References: <TYAP286MB0649611614A47B775D184C2CD8E72@TYAP286MB0649.JPNP286.PROD.OUTLOOK.COM>
Content-Type: text/plain
X-BeenThere: test-report@dpdk.org
X-Mailman-Version: 2.1.29
Precedence: list
List-Id: automatic DPDK test reports <test-report.dpdk.org>
List-Unsubscribe: <https://mails.dpdk.org/options/test-report>,
 <mailto:test-report-request@dpdk.org?subject=unsubscribe>
List-Archive: <http://mails.dpdk.org/archives/test-report/>
List-Post: <mailto:test-report@dpdk.org>
List-Help: <mailto:test-report-request@dpdk.org?subject=help>
List-Subscribe: <https://mails.dpdk.org/listinfo/test-report>,
 <mailto:test-report-request@dpdk.org?subject=subscribe>
Errors-To: test-report-bounces@dpdk.org

Test-Label: iol-unit-amd64-testing
Test-Status: SUCCESS
http://dpdk.org/patch/140017

_Testing PASS_

Submitter: Gongming Chen <chengongming1900@outlook.com>
Date: Friday, May 10 2024 06:42:14 
DPDK git baseline: Repo:dpdk
  Branch: master
  CommitID:7e06c0de1952d3109a5b0c4779d7e7d8059c9d78

140017 --> testing pass

Test environment and result as below:

+---------------------+----------------+
|     Environment     | dpdk_unit_test |
+=====================+================+
| CentOS Stream 9     | PASS           |
+---------------------+----------------+
| Debian 12           | PASS           |
+---------------------+----------------+
| Debian Bullseye     | PASS           |
+---------------------+----------------+
| CentOS Stream 8     | PASS           |
+---------------------+----------------+
| Fedora 38           | PASS           |
+---------------------+----------------+
| Fedora 37           | PASS           |
+---------------------+----------------+
| RHEL8               | PASS           |
+---------------------+----------------+
| Ubuntu 20.04        | PASS           |
+---------------------+----------------+
| Fedora 39           | PASS           |
+---------------------+----------------+
| openSUSE Leap 15    | PASS           |
+---------------------+----------------+
| Ubuntu 22.04        | PASS           |
+---------------------+----------------+
| Windows Server 2019 | PASS           |
+---------------------+----------------+
| Windows Server 2022 | PASS           |
+---------------------+----------------+


CentOS Stream 9
	Kernel: 5.4.0-167-generic
	Compiler: gcc 11.4.1 20230605

Debian 12
	Kernel: Container Host Kernel
	Compiler: gcc 10.2.1

Debian Bullseye
	Kernel: 5.4.0-167-generic
	Compiler: gcc 10.2.1-6

CentOS Stream 8
	Kernel: 5.4.0-167-generic
	Compiler: gcc 8.5.0 20210514

Fedora 38
	Kernel: Depends on container host
	Compiler: gcc 13.2.1

Fedora 37
	Kernel: Depends on container host system
	Compiler: gcc 12.3.1

RHEL8
	Kernel: 5.4.0-167-generic
	Compiler: gcc 8.5.0 20210514 (Red Hat 8.5.0-20)

Ubuntu 20.04
	Kernel: 5.4.0-167-generic
	Compiler: gcc 9.4.0-1ubuntu1~20.04.1

Fedora 39
	Kernel: Depends on container host
	Compiler: gcc 13.2.1

openSUSE Leap 15
	Kernel: 5.4.0-167-generic
	Compiler: gcc 7.5.0

Ubuntu 22.04
	Kernel: 5.4.0-167-generic
	Compiler: gcc 11.4.0

Windows Server 2019
	Kernel: 10.0.17763
	Compiler: clang 14.0 and gcc 8.1.0 (MinGW)

Windows Server 2022
	Kernel: 10.0.20348.2031
	Compiler: clang 15.0.7, gcc 8.1.0 (MinGW), and MSVC VS 17.9

To view detailed results, visit:
https://lab.dpdk.org/results/dashboard/patchsets/29935/

UNH-IOL DPDK Community Lab

To manage your email subscriptions, visit: 
https://lab.dpdk.org/results/dashboard/preferences/subscriptions/