From mboxrd@z Thu Jan  1 00:00:00 1970
Return-Path: <test-report-bounces@dpdk.org>
Received: from mails.dpdk.org (mails.dpdk.org [217.70.189.124])
	by inbox.dpdk.org (Postfix) with ESMTP id 3B43043FF3
	for <public@inbox.dpdk.org>; Sat, 11 May 2024 09:01:42 +0200 (CEST)
Received: from mails.dpdk.org (localhost [127.0.0.1])
	by mails.dpdk.org (Postfix) with ESMTP id 3734B40293;
	Sat, 11 May 2024 09:01:42 +0200 (CEST)
Received: from mail-qt1-f225.google.com (mail-qt1-f225.google.com
 [209.85.160.225])
 by mails.dpdk.org (Postfix) with ESMTP id CFEFD40261
 for <test-report@dpdk.org>; Sat, 11 May 2024 09:01:40 +0200 (CEST)
Received: by mail-qt1-f225.google.com with SMTP id
 d75a77b69052e-43df14d8a27so15092421cf.2
 for <test-report@dpdk.org>; Sat, 11 May 2024 00:01:40 -0700 (PDT)
DKIM-Signature: v=1; a=rsa-sha256; c=relaxed/relaxed;
 d=iol.unh.edu; s=unh-iol; t=1715410900; x=1716015700; darn=dpdk.org;
 h=references:in-reply-to:cc:to:from:subject:message-id:date:from:to
 :cc:subject:date:message-id:reply-to;
 bh=KtrrX8U0zitkuhKOXSmnU0DePZ7ZhoMt6DPnJ++USos=;
 b=RQ8hsBvyF4HIGRmTVGj8x24zFdYWqAxeIzBExPhvXdb7VtYA3U91VYzhOYPg76NedE
 u/Ux7ZYN/urFyxsCc7Ak1IQZh0NRyLJiq3lHLLHHkOQgxmMeWKJaGua5bvfVkmp2N9sh
 VUssbTItxa42wOH+QK5DI+YQzUbqiEe3/ZVfw=
X-Google-DKIM-Signature: v=1; a=rsa-sha256; c=relaxed/relaxed;
 d=1e100.net; s=20230601; t=1715410900; x=1716015700;
 h=references:in-reply-to:cc:to:from:subject:message-id:date
 :x-gm-message-state:from:to:cc:subject:date:message-id:reply-to;
 bh=KtrrX8U0zitkuhKOXSmnU0DePZ7ZhoMt6DPnJ++USos=;
 b=ZPtFntM3f2X1l7dGI4Ns3zNU2r0SaD2XVEtubh9VbKQK7eIZL/8+rhdtwF3T+T6u8M
 +y2nFsNtoIWupP2jn5PYgBDPC11R3IFiWS7Jbp4nzfXg2VS0cnEZIUFU49gnxnR1fal/
 kih2xoPDzGBX6Vl1hO4RIhZ9+a6Rsz3LWlyFhZDzIFcTrtR5xq+lSA5VUb3jw0JVjsJd
 pyf8GYGkp4kWDff/nne2G88EGLp3s3C9Umnnuv8Mr64yNPkeIHY91BnjmpZF8JwIzOM0
 8kBOobTDXBzRrACzdwG/u6t5/ed3DgSZDOys4RmfOgPootFg6G7wG2kQSlh9JSamSlBw
 h2xQ==
X-Gm-Message-State: AOJu0Ywu+hfXrXRPdZui9VTWOIvO4VQOB8n5xZi2l8afULAPFYsPjWeV
 W+pWwbEbYBcqd+ahND7Cc/3saiHmcBgPaDWIFVxVcII4bRP7VaUcaA2jXNaUFXBcJuLA49AOkXW
 JO7rc65Wtyr6zer4ENWLquoHi2OGYyD1MJG7toiKM
X-Google-Smtp-Source: AGHT+IHD2s9xtj7fK11O65uoaT19YEF/I+urggayIM+80ZmJQwZQ8sbMpaQItSDKZA5ZaSmTv+J+sDaHNAqX
X-Received: by 2002:a05:622a:8b:b0:43a:fce1:f520 with SMTP id
 d75a77b69052e-43dfdbb466amr53265981cf.65.1715410900184; 
 Sat, 11 May 2024 00:01:40 -0700 (PDT)
Received: from postal.iol.unh.edu (postal.iol.unh.edu. [132.177.123.84])
 by smtp-relay.gmail.com with ESMTPS id
 d75a77b69052e-43df5494b54sm2665511cf.3.2024.05.11.00.01.40
 (version=TLS1_2 cipher=ECDHE-ECDSA-AES128-GCM-SHA256 bits=128/128);
 Sat, 11 May 2024 00:01:40 -0700 (PDT)
X-Relaying-Domain: iol.unh.edu
Date: Sat, 11 May 2024 00:01:40 -0700 (PDT)
Message-ID: <663f17d4.050a0220.8ea19.caa2SMTPIN_ADDED_MISSING@mx.google.com>
Received: from [172.21.0.10] (unknown [172.18.0.240])
 by postal.iol.unh.edu (Postfix) with ESMTP id DD8606052538;
 Sat, 11 May 2024 03:01:39 -0400 (EDT)
Subject: |SUCCESS| pw140023 [PATCH] [v2] net/af_xdp: fix umem map size for ze
From: dpdklab@iol.unh.edu
To: Test Report <test-report@dpdk.org>
Cc: dpdk-test-reports@iol.unh.edu
In-Reply-To: <20240511052618.1890677-1-frank.du@intel.com>
References: <20240511052618.1890677-1-frank.du@intel.com>
Content-Type: text/plain
X-BeenThere: test-report@dpdk.org
X-Mailman-Version: 2.1.29
Precedence: list
List-Id: automatic DPDK test reports <test-report.dpdk.org>
List-Unsubscribe: <https://mails.dpdk.org/options/test-report>,
 <mailto:test-report-request@dpdk.org?subject=unsubscribe>
List-Archive: <http://mails.dpdk.org/archives/test-report/>
List-Post: <mailto:test-report@dpdk.org>
List-Help: <mailto:test-report-request@dpdk.org?subject=help>
List-Subscribe: <https://mails.dpdk.org/listinfo/test-report>,
 <mailto:test-report-request@dpdk.org?subject=subscribe>
Errors-To: test-report-bounces@dpdk.org

Test-Label: iol-compile-amd64-testing
Test-Status: SUCCESS
http://dpdk.org/patch/140023

_Testing PASS_

Submitter: Frank Du <frank.du@intel.com>
Date: Saturday, May 11 2024 05:26:18 
DPDK git baseline: Repo:dpdk
  Branch: master
  CommitID:baa8e2c6b4d7ce289e891b9c96fb3193311c0f01

140023 --> testing pass

Test environment and result as below:

+---------------------+-------------------+--------------------+----------------------+
|     Environment     | dpdk_msvc_compile | dpdk_meson_compile | dpdk_mingw64_compile |
+=====================+===================+====================+======================+
| Windows Server 2022 | PASS              | PASS               | PASS                 |
+---------------------+-------------------+--------------------+----------------------+
| FreeBSD 13.3        | SKIPPED           | PASS               | SKIPPED              |
+---------------------+-------------------+--------------------+----------------------+
| Windows Server 2019 | SKIPPED           | PASS               | PASS                 |
+---------------------+-------------------+--------------------+----------------------+
| FreeBSD 14.0        | SKIPPED           | PASS               | SKIPPED              |
+---------------------+-------------------+--------------------+----------------------+
| Debian Bullseye     | SKIPPED           | PASS               | SKIPPED              |
+---------------------+-------------------+--------------------+----------------------+
| CentOS Stream 8     | SKIPPED           | PASS               | SKIPPED              |
+---------------------+-------------------+--------------------+----------------------+
| CentOS Stream 9     | SKIPPED           | PASS               | SKIPPED              |
+---------------------+-------------------+--------------------+----------------------+
| openSUSE Leap 15    | SKIPPED           | PASS               | SKIPPED              |
+---------------------+-------------------+--------------------+----------------------+


Windows Server 2022
	Kernel: 10.0.20348.2031
	Compiler: clang 15.0.7, gcc 8.1.0 (MinGW), and MSVC VS 17.9

FreeBSD 13.3
	Kernel: 13.3-RELEASE-p1
	Compiler: clang 17.0.6

Windows Server 2019
	Kernel: 10.0.17763
	Compiler: clang 14.0 and gcc 8.1.0 (MinGW)

FreeBSD 14.0
	Kernel: 14.0
	Compiler: clang 16.0.6

Debian Bullseye
	Kernel: 5.4.0-167-generic
	Compiler: gcc 10.2.1-6

CentOS Stream 8
	Kernel: 5.4.0-167-generic
	Compiler: gcc 8.5.0 20210514

CentOS Stream 9
	Kernel: 5.4.0-167-generic
	Compiler: gcc 11.4.1 20230605

openSUSE Leap 15
	Kernel: 5.4.0-167-generic
	Compiler: gcc 7.5.0

To view detailed results, visit:
https://lab.dpdk.org/results/dashboard/patchsets/29939/

UNH-IOL DPDK Community Lab

To manage your email subscriptions, visit: 
https://lab.dpdk.org/results/dashboard/preferences/subscriptions/