From mboxrd@z Thu Jan  1 00:00:00 1970
Return-Path: <test-report-bounces@dpdk.org>
Received: from mails.dpdk.org (mails.dpdk.org [217.70.189.124])
	by inbox.dpdk.org (Postfix) with ESMTP id 37DB843FF3
	for <public@inbox.dpdk.org>; Sat, 11 May 2024 09:08:52 +0200 (CEST)
Received: from mails.dpdk.org (localhost [127.0.0.1])
	by mails.dpdk.org (Postfix) with ESMTP id 33B5140293;
	Sat, 11 May 2024 09:08:52 +0200 (CEST)
Received: from mail-qk1-f227.google.com (mail-qk1-f227.google.com
 [209.85.222.227])
 by mails.dpdk.org (Postfix) with ESMTP id 7E3AE40261
 for <test-report@dpdk.org>; Sat, 11 May 2024 09:08:50 +0200 (CEST)
Received: by mail-qk1-f227.google.com with SMTP id
 af79cd13be357-792c7704e09so144033885a.1
 for <test-report@dpdk.org>; Sat, 11 May 2024 00:08:50 -0700 (PDT)
DKIM-Signature: v=1; a=rsa-sha256; c=relaxed/relaxed;
 d=iol.unh.edu; s=unh-iol; t=1715411330; x=1716016130; darn=dpdk.org;
 h=references:in-reply-to:cc:to:from:subject:message-id:date:from:to
 :cc:subject:date:message-id:reply-to;
 bh=rrE449GIjjCVgQSc7kP27zR+6eU+LOEVrezprWn/GHo=;
 b=gDwqmbi77nkFNfkQR36W7B5DkoxMLOJqlLUNPe9rbn/mKKTrNG+k/ko2gixdhVLnV5
 JIfgxZKarL55a8FrnNifVCLO8pZ5Lib7pW5wT5/pKbZ2nDxgyV25MKhI03V9JO0dzjGT
 0fx+OgkhvOgDHybaZ9ZOqjwlxDZxFcF4eTVQU=
X-Google-DKIM-Signature: v=1; a=rsa-sha256; c=relaxed/relaxed;
 d=1e100.net; s=20230601; t=1715411330; x=1716016130;
 h=references:in-reply-to:cc:to:from:subject:message-id:date
 :x-gm-message-state:from:to:cc:subject:date:message-id:reply-to;
 bh=rrE449GIjjCVgQSc7kP27zR+6eU+LOEVrezprWn/GHo=;
 b=Rnoix9sx1e6fyjwBQHtjIk56QT7kkBWE8w3o2wMbfrAqFMxGhCZFnreDlj4vN1Coaz
 /0iRFhk3NLRRXMbXXSyOiU5dEYmSfDsY76MZFsPpQoo4tP/HdoHD6D/TTDPCgm7PSgbg
 pYYE2mKPC7wLZR2n7/asm8WSSo8MG9wGo1SGaqy0sNG2ESxppBy45pI4gjTDQQmLs4tI
 Ji9DG+yZZXmsYgAwOAeopKXSX/xzJc5Wxb5jd3mb6lrVly3AyuOjj8Qz59lR4h7J04ZA
 1nybijZDQcVQqgP3xhTxpFvMcLvWKljLnCNm+QPj6liY43hSrA4ymUTOzgEtHxsErot5
 ADNw==
X-Gm-Message-State: AOJu0YxemSBSDRYVhiQzAw4gyA3HjZ61MStinMlUGpPBEf2dBmAC/zNQ
 fu/do2hSR+AGkox58mrZ6bTvnFTa9jC4OWsPCrcWxfYnZYLH7cuSgqhMShl/OrVxfniYsAPcZz7
 NGxmVibbPN4WIBLZN6fLXKj3sccUxkPpQAE9axWiCwbGNkolwqxGTwRUs
X-Google-Smtp-Source: AGHT+IFZdlHwgHlWPWPLbak91VX01PrQuTCl5RL2PNGHWVFmwJcWml6pBVPuJmZBbaN8r0i0hI+NoklV82yS
X-Received: by 2002:a05:6214:3a88:b0:6a0:a8f2:5f8e with SMTP id
 6a1803df08f44-6a167904557mr79004686d6.1.1715411330017; 
 Sat, 11 May 2024 00:08:50 -0700 (PDT)
Received: from postal.iol.unh.edu (postal.iol.unh.edu.
 [2606:4100:3880:1234::84]) by smtp-relay.gmail.com with ESMTPS id
 6a1803df08f44-6a15f24050asm3698426d6.53.2024.05.11.00.08.49
 (version=TLS1_2 cipher=ECDHE-ECDSA-AES128-GCM-SHA256 bits=128/128);
 Sat, 11 May 2024 00:08:50 -0700 (PDT)
X-Relaying-Domain: iol.unh.edu
Date: Sat, 11 May 2024 00:08:50 -0700 (PDT)
Message-ID: <663f1982.050a0220.222b8.3917SMTPIN_ADDED_MISSING@mx.google.com>
Received: from [172.17.0.5] (unknown [172.18.0.217])
 by postal.iol.unh.edu (Postfix) with ESMTP id B37476052538;
 Sat, 11 May 2024 03:08:49 -0400 (EDT)
Subject: |SUCCESS| pw140023 [PATCH] [v2] net/af_xdp: fix umem map size for ze
From: dpdklab@iol.unh.edu
To: Test Report <test-report@dpdk.org>
Cc: dpdk-test-reports@iol.unh.edu
In-Reply-To: <20240511052618.1890677-1-frank.du@intel.com>
References: <20240511052618.1890677-1-frank.du@intel.com>
Content-Type: text/plain
X-BeenThere: test-report@dpdk.org
X-Mailman-Version: 2.1.29
Precedence: list
List-Id: automatic DPDK test reports <test-report.dpdk.org>
List-Unsubscribe: <https://mails.dpdk.org/options/test-report>,
 <mailto:test-report-request@dpdk.org?subject=unsubscribe>
List-Archive: <http://mails.dpdk.org/archives/test-report/>
List-Post: <mailto:test-report@dpdk.org>
List-Help: <mailto:test-report-request@dpdk.org?subject=help>
List-Subscribe: <https://mails.dpdk.org/listinfo/test-report>,
 <mailto:test-report-request@dpdk.org?subject=subscribe>
Errors-To: test-report-bounces@dpdk.org

Test-Label: iol-compile-arm64-testing
Test-Status: SUCCESS
http://dpdk.org/patch/140023

_Testing PASS_

Submitter: Frank Du <frank.du@intel.com>
Date: Saturday, May 11 2024 05:26:18 
DPDK git baseline: Repo:dpdk
  Branch: master
  CommitID:baa8e2c6b4d7ce289e891b9c96fb3193311c0f01

140023 --> testing pass

Test environment and result as below:

+----------------------------------------+--------------------+
|              Environment               | dpdk_meson_compile |
+========================================+====================+
| Ubuntu 20.04 ARM SVE                   | PASS               |
+----------------------------------------+--------------------+
| Fedora 39 (ARM)                        | PASS               |
+----------------------------------------+--------------------+
| Ubuntu 20.04 (ARM)                     | PASS               |
+----------------------------------------+--------------------+
| Fedora 38 (ARM)                        | PASS               |
+----------------------------------------+--------------------+
| Fedora 37 (ARM)                        | PASS               |
+----------------------------------------+--------------------+
| Debian 11 (Buster) (ARM)               | PASS               |
+----------------------------------------+--------------------+
| CentOS Stream 9 (ARM)                  | PASS               |
+----------------------------------------+--------------------+
| Debian 12 (arm)                        | PASS               |
+----------------------------------------+--------------------+
| Ubuntu 20.04 aarch32 GCC Cross Compile | PASS               |
+----------------------------------------+--------------------+


Ubuntu 20.04 ARM SVE
	Kernel: 5.4.0-167-generic
	Compiler: gcc (Ubuntu 10.5.0-1ubuntu1~20.04) 10.5.0

Fedora 39 (ARM)
	Kernel: Depends on container host
	Compiler: gcc 13.2.1

Ubuntu 20.04 (ARM)
	Kernel: Container Host Kernel
	Compiler: gcc 9.4.0

Fedora 38 (ARM)
	Kernel: Depends on container host
	Compiler: gcc 13.2.1

Fedora 37 (ARM)
	Kernel: Depends on container host
	Compiler: gcc 12.3.1

Debian 11 (Buster) (ARM)
	Kernel: Container Host Kernel
	Compiler: gcc 10.2.1

CentOS Stream 9 (ARM)
	Kernel: Container Host Kernel
	Compiler: gcc 11.4.1

Debian 12 (arm)
	Kernel: Container Host Kernel
	Compiler: gcc 12.2.0

Ubuntu 20.04 aarch32 GCC Cross Compile
	Kernel: 5.4.0-167-generic
	Compiler: gcc 9.4.0

To view detailed results, visit:
https://lab.dpdk.org/results/dashboard/patchsets/29939/

UNH-IOL DPDK Community Lab

To manage your email subscriptions, visit: 
https://lab.dpdk.org/results/dashboard/preferences/subscriptions/