From mboxrd@z Thu Jan  1 00:00:00 1970
Return-Path: <test-report-bounces@dpdk.org>
Received: from mails.dpdk.org (mails.dpdk.org [217.70.189.124])
	by inbox.dpdk.org (Postfix) with ESMTP id 9D8EF4400A
	for <public@inbox.dpdk.org>; Sun, 12 May 2024 08:33:13 +0200 (CEST)
Received: from mails.dpdk.org (localhost [127.0.0.1])
	by mails.dpdk.org (Postfix) with ESMTP id 995CD402BD;
	Sun, 12 May 2024 08:33:13 +0200 (CEST)
Received: from mail-io1-f97.google.com (mail-io1-f97.google.com
 [209.85.166.97]) by mails.dpdk.org (Postfix) with ESMTP id 4754A402BC
 for <test-report@dpdk.org>; Sun, 12 May 2024 08:33:06 +0200 (CEST)
Received: by mail-io1-f97.google.com with SMTP id
 ca18e2360f4ac-7e18adf7268so169171339f.0
 for <test-report@dpdk.org>; Sat, 11 May 2024 23:33:06 -0700 (PDT)
DKIM-Signature: v=1; a=rsa-sha256; c=relaxed/relaxed;
 d=iol.unh.edu; s=unh-iol; t=1715495585; x=1716100385; darn=dpdk.org;
 h=references:in-reply-to:cc:to:from:subject:message-id:date:from:to
 :cc:subject:date:message-id:reply-to;
 bh=c9JZQ/evnUekRcTMpF7g5qwce9tbueA6FEEsSg+x/lM=;
 b=HSRKGVp7MDyTbtTFWCZIZdTvtZYhjlfdyCW21nt+2ADpWUE8xUyqwMMn+OiSfL0dZa
 qRwt/0z+BBRdkuTQ1NMRYeYw1vUtwRHJwoTdITXajHWvzUj7n3EqzovpPE+zZ7dWhUqk
 F4Ovnrk1Hu5O67+HknflOjjBwYR/zxBLgT3SQ=
X-Google-DKIM-Signature: v=1; a=rsa-sha256; c=relaxed/relaxed;
 d=1e100.net; s=20230601; t=1715495585; x=1716100385;
 h=references:in-reply-to:cc:to:from:subject:message-id:date
 :x-gm-message-state:from:to:cc:subject:date:message-id:reply-to;
 bh=c9JZQ/evnUekRcTMpF7g5qwce9tbueA6FEEsSg+x/lM=;
 b=nkuaVX0E/KkzboWPopGHjLPwCgVXZsRT70NC+VmhHMQYgQFFLbp4VoMGVjWXfbqmZZ
 x8aIPJqmGjox8FXzpeWzWoKS2Re4DVZPPtZzaJS/GVznpFVhsJwbNQTHmUqBAD4APtHq
 r/ycVwImgnbSHSVnrqykNFTLjRN+RmsYjzQ1eGDZZjkpPkbkOrBxVgkrO/WdIdQhMBrm
 0WwD7aeo06TposVWtE1QRbiZ1H3yvBIW2BpuDMCz/1RrjTlinyUDWG3XbrDRxzGLTyT6
 ZFetLfosAR7/bHcMdwtshJ2gx+UHTn+a4ZSkXltJQ3wYkRpo8uTYmcxobWqWkYIjAfCP
 wlcQ==
X-Gm-Message-State: AOJu0YyP1IjmBeaftHzJlBAbPIwORTc//fD+aGQuwlPPfT2yczjouo7z
 f7lHLXkdGcYW8vuI6qa4m52Eswv4Akm8dLxM9w6BywuuA1Sv5un9PBV7eny8XrKl/rJyHw4IU2g
 2TBbSV1X1zRh6yZJqlrqsx8Bw5SXPcbZM5+a/pIpzhrMTtgn6NdAQIBxM
X-Google-Smtp-Source: AGHT+IHfUxBLmE06VH6xX6Vifc894ojq1OjpP9br9jzJ4yLQOLlWApQb9sxxbwAi6qgisME9Lx18eTnHn512
X-Received: by 2002:a6b:720e:0:b0:7de:d71a:73a with SMTP id
 ca18e2360f4ac-7e1b522107emr667838539f.20.1715495585676; 
 Sat, 11 May 2024 23:33:05 -0700 (PDT)
Received: from postal.iol.unh.edu (postal.iol.unh.edu.
 [2606:4100:3880:1234::84]) by smtp-relay.gmail.com with ESMTPS id
 41be03b00d2f7-6340fe3a2b7sm484586a12.23.2024.05.11.23.33.05
 (version=TLS1_2 cipher=ECDHE-ECDSA-AES128-GCM-SHA256 bits=128/128);
 Sat, 11 May 2024 23:33:05 -0700 (PDT)
X-Relaying-Domain: iol.unh.edu
Date: Sat, 11 May 2024 23:33:05 -0700 (PDT)
Message-ID: <664062a1.630a0220.9eb1d.9263SMTPIN_ADDED_MISSING@mx.google.com>
Received: from [172.21.0.6] (unknown [172.18.0.240])
 by postal.iol.unh.edu (Postfix) with ESMTP id B196A604A954;
 Sun, 12 May 2024 02:33:04 -0400 (EDT)
Subject: |SUCCESS| pw140024 [PATCH] bpf: don't verify classic bpfs
From: dpdklab@iol.unh.edu
To: Test Report <test-report@dpdk.org>
Cc: dpdk-test-reports@iol.unh.edu
In-Reply-To: <20240512053542.88416-1-yoav.w@claroty.com>
References: <20240512053542.88416-1-yoav.w@claroty.com>
Content-Type: text/plain
X-BeenThere: test-report@dpdk.org
X-Mailman-Version: 2.1.29
Precedence: list
List-Id: automatic DPDK test reports <test-report.dpdk.org>
List-Unsubscribe: <https://mails.dpdk.org/options/test-report>,
 <mailto:test-report-request@dpdk.org?subject=unsubscribe>
List-Archive: <http://mails.dpdk.org/archives/test-report/>
List-Post: <mailto:test-report@dpdk.org>
List-Help: <mailto:test-report-request@dpdk.org?subject=help>
List-Subscribe: <https://mails.dpdk.org/listinfo/test-report>,
 <mailto:test-report-request@dpdk.org?subject=subscribe>
Errors-To: test-report-bounces@dpdk.org

Test-Label: iol-compile-amd64-testing
Test-Status: SUCCESS
http://dpdk.org/patch/140024

_Testing PASS_

Submitter: Yoav Winstein <yoav.w@claroty.com>
Date: Sunday, May 12 2024 05:35:42 
DPDK git baseline: Repo:dpdk
  Branch: master
  CommitID:7e06c0de1952d3109a5b0c4779d7e7d8059c9d78

140024 --> testing pass

Test environment and result as below:

+---------------------+--------------------+----------------------+-------------------+
|     Environment     | dpdk_meson_compile | dpdk_mingw64_compile | dpdk_msvc_compile |
+=====================+====================+======================+===================+
| FreeBSD 13.3        | PASS               | SKIPPED              | SKIPPED           |
+---------------------+--------------------+----------------------+-------------------+
| FreeBSD 14.0        | PASS               | SKIPPED              | SKIPPED           |
+---------------------+--------------------+----------------------+-------------------+
| Windows Server 2019 | PASS               | PASS                 | SKIPPED           |
+---------------------+--------------------+----------------------+-------------------+
| CentOS Stream 9     | PASS               | SKIPPED              | SKIPPED           |
+---------------------+--------------------+----------------------+-------------------+
| Windows Server 2022 | PASS               | PASS                 | PASS              |
+---------------------+--------------------+----------------------+-------------------+


FreeBSD 13.3
	Kernel: 13.3-RELEASE-p1
	Compiler: clang 17.0.6

FreeBSD 14.0
	Kernel: 14.0
	Compiler: clang 16.0.6

Windows Server 2019
	Kernel: 10.0.17763
	Compiler: clang 14.0 and gcc 8.1.0 (MinGW)

CentOS Stream 9
	Kernel: 5.4.0-167-generic
	Compiler: gcc 11.4.1 20230605

Windows Server 2022
	Kernel: 10.0.20348.2031
	Compiler: clang 15.0.7, gcc 8.1.0 (MinGW), and MSVC VS 17.9

To view detailed results, visit:
https://lab.dpdk.org/results/dashboard/patchsets/29940/

UNH-IOL DPDK Community Lab

To manage your email subscriptions, visit: 
https://lab.dpdk.org/results/dashboard/preferences/subscriptions/