From: dpdklab@iol.unh.edu
To: Test Report <test-report@dpdk.org>
Cc: dpdk-test-reports@iol.unh.edu
Subject: |SUCCESS| pw140028 [PATCH] [v2] lib/hash: Set the maximum reclamatio
Date: Mon, 13 May 2024 04:45:15 -0700 (PDT) [thread overview]
Message-ID: <6641fd4b.050a0220.3741d.6dfcSMTPIN_ADDED_MISSING@mx.google.com> (raw)
In-Reply-To: <20240513100031.1156529-1-aomeryamac@gmail.com>
Test-Label: iol-unit-amd64-testing
Test-Status: SUCCESS
http://dpdk.org/patch/140028
_Testing PASS_
Submitter: Abdullah Omer Yamac <aomeryamac@gmail.com>
Date: Monday, May 13 2024 10:00:31
DPDK git baseline: Repo:dpdk
Branch: master
CommitID:7e06c0de1952d3109a5b0c4779d7e7d8059c9d78
140028 --> testing pass
Test environment and result as below:
+---------------------+----------------+
| Environment | dpdk_unit_test |
+=====================+================+
| Windows Server 2019 | PASS |
+---------------------+----------------+
| CentOS Stream 8 | PASS |
+---------------------+----------------+
| CentOS Stream 9 | PASS |
+---------------------+----------------+
| Debian Bullseye | PASS |
+---------------------+----------------+
| Fedora 37 | PASS |
+---------------------+----------------+
| Fedora 39 | PASS |
+---------------------+----------------+
| Fedora 38 | PASS |
+---------------------+----------------+
| Debian 12 | PASS |
+---------------------+----------------+
| RHEL8 | PASS |
+---------------------+----------------+
| Ubuntu 20.04 | PASS |
+---------------------+----------------+
| Ubuntu 22.04 | PASS |
+---------------------+----------------+
| openSUSE Leap 15 | PASS |
+---------------------+----------------+
| Windows Server 2022 | PASS |
+---------------------+----------------+
Windows Server 2019
Kernel: 10.0.17763
Compiler: clang 14.0 and gcc 8.1.0 (MinGW)
CentOS Stream 8
Kernel: 5.4.0-167-generic
Compiler: gcc 8.5.0 20210514
CentOS Stream 9
Kernel: 5.4.0-167-generic
Compiler: gcc 11.4.1 20230605
Debian Bullseye
Kernel: 5.4.0-167-generic
Compiler: gcc 10.2.1-6
Fedora 37
Kernel: Depends on container host system
Compiler: gcc 12.3.1
Fedora 39
Kernel: Depends on container host
Compiler: gcc 13.2.1
Fedora 38
Kernel: Depends on container host
Compiler: gcc 13.2.1
Debian 12
Kernel: Container Host Kernel
Compiler: gcc 10.2.1
RHEL8
Kernel: 5.4.0-167-generic
Compiler: gcc 8.5.0 20210514 (Red Hat 8.5.0-20)
Ubuntu 20.04
Kernel: 5.4.0-167-generic
Compiler: gcc 9.4.0-1ubuntu1~20.04.1
Ubuntu 22.04
Kernel: 5.4.0-167-generic
Compiler: gcc 11.4.0
openSUSE Leap 15
Kernel: 5.4.0-167-generic
Compiler: gcc 7.5.0
Windows Server 2022
Kernel: 10.0.20348.2031
Compiler: clang 15.0.7, gcc 8.1.0 (MinGW), and MSVC VS 17.9
To view detailed results, visit:
https://lab.dpdk.org/results/dashboard/patchsets/29944/
UNH-IOL DPDK Community Lab
To manage your email subscriptions, visit:
https://lab.dpdk.org/results/dashboard/preferences/subscriptions/
next prev parent reply other threads:[~2024-05-13 11:45 UTC|newest]
Thread overview: 85+ messages / expand[flat|nested] mbox.gz Atom feed top
[not found] <20240513100031.1156529-1-aomeryamac@gmail.com>
2024-05-13 9:35 ` |SUCCESS| pw140028 [PATCH v2] lib/hash: Set the maximum reclamation size to user provided value qemudev
2024-05-13 9:39 ` qemudev
2024-05-13 10:02 ` checkpatch
2024-05-13 10:36 ` |SUCCESS| pw140028 [PATCH] [v2] lib/hash: Set the maximum reclamatio dpdklab
2024-05-13 10:36 ` dpdklab
2024-05-13 10:37 ` dpdklab
2024-05-13 10:37 ` dpdklab
2024-05-13 10:37 ` dpdklab
2024-05-13 10:37 ` dpdklab
2024-05-13 10:37 ` dpdklab
2024-05-13 10:38 ` dpdklab
2024-05-13 10:38 ` dpdklab
2024-05-13 10:38 ` dpdklab
2024-05-13 10:38 ` dpdklab
2024-05-13 10:41 ` dpdklab
2024-05-13 10:42 ` dpdklab
2024-05-13 10:42 ` dpdklab
2024-05-13 10:42 ` dpdklab
2024-05-13 10:42 ` dpdklab
2024-05-13 10:43 ` dpdklab
2024-05-13 10:43 ` dpdklab
2024-05-13 10:43 ` dpdklab
2024-05-13 10:43 ` dpdklab
2024-05-13 10:43 ` dpdklab
2024-05-13 10:43 ` dpdklab
2024-05-13 10:43 ` dpdklab
2024-05-13 10:44 ` dpdklab
2024-05-13 10:44 ` dpdklab
2024-05-13 10:44 ` dpdklab
2024-05-13 10:44 ` dpdklab
2024-05-13 10:44 ` dpdklab
2024-05-13 10:44 ` dpdklab
2024-05-13 10:47 ` dpdklab
2024-05-13 10:47 ` dpdklab
2024-05-13 10:47 ` dpdklab
2024-05-13 10:48 ` dpdklab
2024-05-13 10:48 ` dpdklab
2024-05-13 10:48 ` dpdklab
2024-05-13 10:48 ` dpdklab
2024-05-13 10:48 ` dpdklab
2024-05-13 10:51 ` dpdklab
2024-05-13 10:52 ` dpdklab
2024-05-13 10:52 ` dpdklab
2024-05-13 10:52 ` dpdklab
2024-05-13 10:52 ` dpdklab
2024-05-13 10:53 ` dpdklab
2024-05-13 11:02 ` dpdklab
2024-05-13 11:04 ` |SUCCESS| pw140028 [PATCH v2] lib/hash: Set the maximum reclamation size to user provided value 0-day Robot
2024-05-13 11:18 ` |SUCCESS| pw140028 [PATCH] [v2] lib/hash: Set the maximum reclamatio dpdklab
2024-05-13 11:21 ` dpdklab
2024-05-13 11:24 ` dpdklab
2024-05-13 11:24 ` dpdklab
2024-05-13 11:25 ` dpdklab
2024-05-13 11:25 ` dpdklab
2024-05-13 11:26 ` dpdklab
2024-05-13 11:28 ` dpdklab
2024-05-13 11:29 ` dpdklab
2024-05-13 11:30 ` dpdklab
2024-05-13 11:31 ` dpdklab
2024-05-13 11:32 ` dpdklab
2024-05-13 11:32 ` dpdklab
2024-05-13 11:33 ` dpdklab
2024-05-13 11:34 ` dpdklab
2024-05-13 11:35 ` dpdklab
2024-05-13 11:35 ` dpdklab
2024-05-13 11:35 ` dpdklab
2024-05-13 11:36 ` dpdklab
2024-05-13 11:36 ` dpdklab
2024-05-13 11:37 ` dpdklab
2024-05-13 11:37 ` dpdklab
2024-05-13 11:38 ` dpdklab
2024-05-13 11:38 ` dpdklab
2024-05-13 11:38 ` dpdklab
2024-05-13 11:42 ` dpdklab
2024-05-13 11:43 ` dpdklab
2024-05-13 11:44 ` dpdklab
2024-05-13 11:45 ` dpdklab
2024-05-13 11:45 ` dpdklab [this message]
2024-05-13 11:45 ` dpdklab
2024-05-13 11:52 ` dpdklab
2024-05-13 11:53 ` dpdklab
2024-05-13 11:55 ` dpdklab
2024-05-13 11:58 ` dpdklab
2024-05-13 12:03 ` dpdklab
2024-05-13 13:23 ` dpdklab
Reply instructions:
You may reply publicly to this message via plain-text email
using any one of the following methods:
* Save the following mbox file, import it into your mail client,
and reply-to-all from there: mbox
Avoid top-posting and favor interleaved quoting:
https://en.wikipedia.org/wiki/Posting_style#Interleaved_style
* Reply using the --to, --cc, and --in-reply-to
switches of git-send-email(1):
git send-email \
--in-reply-to=6641fd4b.050a0220.3741d.6dfcSMTPIN_ADDED_MISSING@mx.google.com \
--to=dpdklab@iol.unh.edu \
--cc=dpdk-test-reports@iol.unh.edu \
--cc=test-report@dpdk.org \
/path/to/YOUR_REPLY
https://kernel.org/pub/software/scm/git/docs/git-send-email.html
* If your mail client supports setting the In-Reply-To header
via mailto: links, try the mailto: link
Be sure your reply has a Subject: header at the top and a blank line
before the message body.
This is a public inbox, see mirroring instructions
for how to clone and mirror all data and code used for this inbox;
as well as URLs for NNTP newsgroup(s).