From mboxrd@z Thu Jan  1 00:00:00 1970
Return-Path: <test-report-bounces@dpdk.org>
Received: from mails.dpdk.org (mails.dpdk.org [217.70.189.124])
	by inbox.dpdk.org (Postfix) with ESMTP id 898854401A
	for <public@inbox.dpdk.org>; Mon, 13 May 2024 14:28:34 +0200 (CEST)
Received: from mails.dpdk.org (localhost [127.0.0.1])
	by mails.dpdk.org (Postfix) with ESMTP id 84440402EF;
	Mon, 13 May 2024 14:28:34 +0200 (CEST)
Received: from mail-pf1-f227.google.com (mail-pf1-f227.google.com
 [209.85.210.227])
 by mails.dpdk.org (Postfix) with ESMTP id BC688402EC
 for <test-report@dpdk.org>; Mon, 13 May 2024 14:28:32 +0200 (CEST)
Received: by mail-pf1-f227.google.com with SMTP id
 d2e1a72fcca58-6f43ee95078so4139968b3a.1
 for <test-report@dpdk.org>; Mon, 13 May 2024 05:28:32 -0700 (PDT)
DKIM-Signature: v=1; a=rsa-sha256; c=relaxed/relaxed;
 d=iol.unh.edu; s=unh-iol; t=1715603312; x=1716208112; darn=dpdk.org;
 h=references:in-reply-to:cc:to:from:subject:message-id:date:from:to
 :cc:subject:date:message-id:reply-to;
 bh=fB6HnjlGYevC0oaMSAvoMxnr9q5/lq085O7sVPv0C/Y=;
 b=DHHavpzYjgKnxq4/4sBZF6EMPJDzS2OSFh4s943C+Up1VKWa5prBguboiPsYBD+E9Y
 OhKra5SfLK8/NUcDxSUoPVAymcfcLPwlNNHeB9eMtaPu3oX+YcRrf0EB0K5Ap3Uz4Aqg
 G5dJ/VVFJK0qjMHeEEHtzMXcAx/iXyB4ZK8sU=
X-Google-DKIM-Signature: v=1; a=rsa-sha256; c=relaxed/relaxed;
 d=1e100.net; s=20230601; t=1715603312; x=1716208112;
 h=references:in-reply-to:cc:to:from:subject:message-id:date
 :x-gm-message-state:from:to:cc:subject:date:message-id:reply-to;
 bh=fB6HnjlGYevC0oaMSAvoMxnr9q5/lq085O7sVPv0C/Y=;
 b=Frr2XpdC4OEJiHNrbo7rGbEBMBzlbgz1eD9jowNEJoeI/X9eGaT3hTZcOZPTmclZWh
 0+RR47tx+rGRtY72easxIpR/yyHjcqM4LJi6oy2PMRXyVXlnrAxOUWns57sjlBUT9UUr
 IlfTQy/UABDdfmFh4YgcVNkR2gnxUrnlsvwD5pWDXXMEqNiTePlCI9yQLjGRjFH/uV4U
 K74gKi1nMPecu6/qw16dthB6BHVh4pkWYENRbX1cTtA0CbB9OBB5Hd0A9EpvEeffRgTu
 OGe0/6+O8zpwXohGxcYYUM4WsJvlhcq92In3LH9Cy5cnZaCYZug7iFy0N6LjUcSaCege
 rmiw==
X-Gm-Message-State: AOJu0Yz6ap2KvPvG7NKIEHvev82/kQZzbO11M6SEdJB1pxpHNmC5qd45
 inueqGmEw9XClFVZm0WaGN0O377qkXSM4LXOtCXCJeidtpNziFerBgLLRuxosgHgaPDCRAvmzBi
 jfHvBXr5TzKFps7iRypXXXJ+qTlRgEkqkgbj3dKYTuqXr2ElKJBpuENb0
X-Google-Smtp-Source: AGHT+IFbQSxds8AbqLWeGiJYlJ+RbQSr4Cg1fT059jrA7Nd32yEJwjKzX2r/ITdt06wo97lAfaKAooOS7snD
X-Received: by 2002:a05:6a00:cc3:b0:6ed:cbe2:3bc8 with SMTP id
 d2e1a72fcca58-6f4e0347667mr11763965b3a.22.1715603311879; 
 Mon, 13 May 2024 05:28:31 -0700 (PDT)
Received: from postal.iol.unh.edu (postal.iol.unh.edu.
 [2606:4100:3880:1234::84]) by smtp-relay.gmail.com with ESMTPS id
 d2e1a72fcca58-6f4d27b3a98sm539528b3a.0.2024.05.13.05.28.31
 (version=TLS1_2 cipher=ECDHE-ECDSA-AES128-GCM-SHA256 bits=128/128);
 Mon, 13 May 2024 05:28:31 -0700 (PDT)
X-Relaying-Domain: iol.unh.edu
Date: Mon, 13 May 2024 05:28:31 -0700 (PDT)
Message-ID: <6642076f.050a0220.2ed4c.d452SMTPIN_ADDED_MISSING@mx.google.com>
Received: from [172.21.0.6] (unknown [172.18.0.240])
 by postal.iol.unh.edu (Postfix) with ESMTP id EB1C0605C373;
 Mon, 13 May 2024 08:28:30 -0400 (EDT)
Subject: |SUCCESS| pw140027 [PATCH] bpf: don't verify classic bpfs
From: dpdklab@iol.unh.edu
To: Test Report <test-report@dpdk.org>
Cc: dpdk-test-reports@iol.unh.edu
In-Reply-To: <20240512060041.100723-1-yoav.w@claroty.com>
References: <20240512060041.100723-1-yoav.w@claroty.com>
Content-Type: text/plain
X-BeenThere: test-report@dpdk.org
X-Mailman-Version: 2.1.29
Precedence: list
List-Id: automatic DPDK test reports <test-report.dpdk.org>
List-Unsubscribe: <https://mails.dpdk.org/options/test-report>,
 <mailto:test-report-request@dpdk.org?subject=unsubscribe>
List-Archive: <http://mails.dpdk.org/archives/test-report/>
List-Post: <mailto:test-report@dpdk.org>
List-Help: <mailto:test-report-request@dpdk.org?subject=help>
List-Subscribe: <https://mails.dpdk.org/listinfo/test-report>,
 <mailto:test-report-request@dpdk.org?subject=subscribe>
Errors-To: test-report-bounces@dpdk.org

Test-Label: iol-unit-amd64-testing
Test-Status: SUCCESS
http://dpdk.org/patch/140027

_Testing PASS_

Submitter: Yoav Winstein <yoav.w@claroty.com>
Date: Sunday, May 12 2024 06:00:41 
DPDK git baseline: Repo:dpdk
  Branch: master
  CommitID:7e06c0de1952d3109a5b0c4779d7e7d8059c9d78

140027 --> testing pass

Test environment and result as below:

+---------------------+----------------+
|     Environment     | dpdk_unit_test |
+=====================+================+
| CentOS Stream 8     | PASS           |
+---------------------+----------------+
| CentOS Stream 9     | PASS           |
+---------------------+----------------+
| Debian 12           | PASS           |
+---------------------+----------------+
| Fedora 38           | PASS           |
+---------------------+----------------+
| Debian Bullseye     | PASS           |
+---------------------+----------------+
| Fedora 37           | PASS           |
+---------------------+----------------+
| Fedora 39           | PASS           |
+---------------------+----------------+
| openSUSE Leap 15    | PASS           |
+---------------------+----------------+
| RHEL8               | PASS           |
+---------------------+----------------+
| Windows Server 2019 | PASS           |
+---------------------+----------------+
| Ubuntu 20.04        | PASS           |
+---------------------+----------------+
| Ubuntu 22.04        | PASS           |
+---------------------+----------------+


CentOS Stream 8
	Kernel: 5.4.0-167-generic
	Compiler: gcc 8.5.0 20210514

CentOS Stream 9
	Kernel: 5.4.0-167-generic
	Compiler: gcc 11.4.1 20230605

Debian 12
	Kernel: Container Host Kernel
	Compiler: gcc 10.2.1

Fedora 38
	Kernel: Depends on container host
	Compiler: gcc 13.2.1

Debian Bullseye
	Kernel: 5.4.0-167-generic
	Compiler: gcc 10.2.1-6

Fedora 37
	Kernel: Depends on container host system
	Compiler: gcc 12.3.1

Fedora 39
	Kernel: Depends on container host
	Compiler: gcc 13.2.1

openSUSE Leap 15
	Kernel: 5.4.0-167-generic
	Compiler: gcc 7.5.0

RHEL8
	Kernel: 5.4.0-167-generic
	Compiler: gcc 8.5.0 20210514 (Red Hat 8.5.0-20)

Windows Server 2019
	Kernel: 10.0.17763
	Compiler: clang 14.0 and gcc 8.1.0 (MinGW)

Ubuntu 20.04
	Kernel: 5.4.0-167-generic
	Compiler: gcc 9.4.0-1ubuntu1~20.04.1

Ubuntu 22.04
	Kernel: 5.4.0-167-generic
	Compiler: gcc 11.4.0

To view detailed results, visit:
https://lab.dpdk.org/results/dashboard/patchsets/29943/

UNH-IOL DPDK Community Lab

To manage your email subscriptions, visit: 
https://lab.dpdk.org/results/dashboard/preferences/subscriptions/