From mboxrd@z Thu Jan  1 00:00:00 1970
Return-Path: <test-report-bounces@dpdk.org>
Received: from mails.dpdk.org (mails.dpdk.org [217.70.189.124])
	by inbox.dpdk.org (Postfix) with ESMTP id AEE6D4401A
	for <public@inbox.dpdk.org>; Mon, 13 May 2024 14:32:05 +0200 (CEST)
Received: from mails.dpdk.org (localhost [127.0.0.1])
	by mails.dpdk.org (Postfix) with ESMTP id ABC16402EF;
	Mon, 13 May 2024 14:32:05 +0200 (CEST)
Received: from mail-io1-f100.google.com (mail-io1-f100.google.com
 [209.85.166.100])
 by mails.dpdk.org (Postfix) with ESMTP id DD4FE402EC
 for <test-report@dpdk.org>; Mon, 13 May 2024 14:32:04 +0200 (CEST)
Received: by mail-io1-f100.google.com with SMTP id
 ca18e2360f4ac-7e1bf0e9ab5so129179739f.3
 for <test-report@dpdk.org>; Mon, 13 May 2024 05:32:04 -0700 (PDT)
DKIM-Signature: v=1; a=rsa-sha256; c=relaxed/relaxed;
 d=iol.unh.edu; s=unh-iol; t=1715603524; x=1716208324; darn=dpdk.org;
 h=references:in-reply-to:cc:to:from:subject:message-id:date:from:to
 :cc:subject:date:message-id:reply-to;
 bh=oOYoswYxpnaoItdgcDirbqNUQtHghcLh7FcbQXxrFsY=;
 b=gstbIrKVs9NcWavL0CiFiwDCxh3xNHm3pVLLpjlxoxJVzwvsBwvBCMPz5RDjmbOOX7
 YJyuIccWWAsKhyWJioWaknJUzoeQG7eJcq2vPCVKOrOBThohWiSPty/LHqkoGhNnclsS
 JqCriTC5eELwgKY5nQkf5wU7MF7DHg6KeY9XA=
X-Google-DKIM-Signature: v=1; a=rsa-sha256; c=relaxed/relaxed;
 d=1e100.net; s=20230601; t=1715603524; x=1716208324;
 h=references:in-reply-to:cc:to:from:subject:message-id:date
 :x-gm-message-state:from:to:cc:subject:date:message-id:reply-to;
 bh=oOYoswYxpnaoItdgcDirbqNUQtHghcLh7FcbQXxrFsY=;
 b=E6O512vFt+meFya+MuHEan7JTzdNabhkJ5o43/3Lt3PwpGGxnK6wI8Nfw2sQPWTfu2
 iuuJZCWmwqHVe9JBaI/MDCThaOAoVDRzUtkciRXDw/RUmpXR1cnDpjQaNj1L0UdOnHFu
 C8/sqtxtSfDPQpQWIGuEsE/u6YmY+vK520Pby4S7+5f+aMgUFmntjCEUJ5BiH+Iu7Mce
 BX+4LgsMMNbV4Hs5TEHwWUQdDMsuE0BV1NoFK11813/c6Vdk3SM65ViG1DFBLeVOA0Pu
 CNgoqP0xNxGN9Ugtqor+WubvgDPotIALTypTjF8b8YiX69Jx0YjuYFBDee+dqYn21O54
 8c2A==
X-Gm-Message-State: AOJu0YxPGaGgAtHc+701WHDI6vEgWhYvygY68t7db86Fsb9TSeU1cCMk
 xcuTU4k/Aaq4QP6j+3jQXuyJETlk0HJ01mrvuj03QeLfFFKKqwgx+AwoLkOSkxVtL4DF3RIOAfw
 IO3BXm4/HcEI+lv11R80IP+20siC0LqvJ9JDHq4J+
X-Google-Smtp-Source: AGHT+IFrY4pNeWzfQvrNusyNTi0KmZl17uz1DSB1wFzwzXY9VRA0nda6J79NWgR9UqgTrJTlfmuf+OnMIazW
X-Received: by 2002:a05:6602:280d:b0:7da:1896:9e7b with SMTP id
 ca18e2360f4ac-7e1b5219aaemr1032963339f.20.1715603524256; 
 Mon, 13 May 2024 05:32:04 -0700 (PDT)
Received: from postal.iol.unh.edu (postal.iol.unh.edu. [132.177.123.84])
 by smtp-relay.gmail.com with ESMTPS id
 8926c6da1cb9f-48936efaac9sm466037173.19.2024.05.13.05.32.04
 (version=TLS1_2 cipher=ECDHE-ECDSA-AES128-GCM-SHA256 bits=128/128);
 Mon, 13 May 2024 05:32:04 -0700 (PDT)
X-Relaying-Domain: iol.unh.edu
Date: Mon, 13 May 2024 05:32:04 -0700 (PDT)
Message-ID: <66420844.050a0220.cfc63.9522SMTPIN_ADDED_MISSING@mx.google.com>
Received: from [172.21.0.7] (unknown [172.18.0.240])
 by postal.iol.unh.edu (Postfix) with ESMTP id B573E605C380;
 Mon, 13 May 2024 08:32:03 -0400 (EDT)
Subject: |SUCCESS| pw140026 [PATCH] bpf: don't verify classic bpfs
From: dpdklab@iol.unh.edu
To: Test Report <test-report@dpdk.org>
Cc: dpdk-test-reports@iol.unh.edu
In-Reply-To: <20240512055545.98297-1-yoav.w@claroty.com>
References: <20240512055545.98297-1-yoav.w@claroty.com>
Content-Type: text/plain
X-BeenThere: test-report@dpdk.org
X-Mailman-Version: 2.1.29
Precedence: list
List-Id: automatic DPDK test reports <test-report.dpdk.org>
List-Unsubscribe: <https://mails.dpdk.org/options/test-report>,
 <mailto:test-report-request@dpdk.org?subject=unsubscribe>
List-Archive: <http://mails.dpdk.org/archives/test-report/>
List-Post: <mailto:test-report@dpdk.org>
List-Help: <mailto:test-report-request@dpdk.org?subject=help>
List-Subscribe: <https://mails.dpdk.org/listinfo/test-report>,
 <mailto:test-report-request@dpdk.org?subject=subscribe>
Errors-To: test-report-bounces@dpdk.org

Test-Label: iol-compile-arm64-testing
Test-Status: SUCCESS
http://dpdk.org/patch/140026

_Testing PASS_

Submitter: Yoav Winstein <yoav.w@claroty.com>
Date: Sunday, May 12 2024 05:55:45 
DPDK git baseline: Repo:dpdk
  Branch: master
  CommitID:7e06c0de1952d3109a5b0c4779d7e7d8059c9d78

140026 --> testing pass

Test environment and result as below:

+--------------------------+--------------------+
|       Environment        | dpdk_meson_compile |
+==========================+====================+
| Ubuntu 20.04 ARM SVE     | PASS               |
+--------------------------+--------------------+
| Debian 12 with MUSDK     | PASS               |
+--------------------------+--------------------+
| Fedora 38 (ARM)          | PASS               |
+--------------------------+--------------------+
| Fedora 39 (ARM)          | PASS               |
+--------------------------+--------------------+
| Ubuntu 20.04 (ARM)       | PASS               |
+--------------------------+--------------------+
| CentOS Stream 9 (ARM)    | PASS               |
+--------------------------+--------------------+
| Debian 12 (arm)          | PASS               |
+--------------------------+--------------------+
| Fedora 37 (ARM)          | PASS               |
+--------------------------+--------------------+
| Debian 11 (Buster) (ARM) | PASS               |
+--------------------------+--------------------+


Ubuntu 20.04 ARM SVE
	Kernel: 5.4.0-167-generic
	Compiler: gcc (Ubuntu 10.5.0-1ubuntu1~20.04) 10.5.0

Debian 12 with MUSDK
	Kernel: Container Host Kernel
	Compiler: gcc 12.2.0

Fedora 38 (ARM)
	Kernel: Depends on container host
	Compiler: gcc 13.2.1

Fedora 39 (ARM)
	Kernel: Depends on container host
	Compiler: gcc 13.2.1

Ubuntu 20.04 (ARM)
	Kernel: Container Host Kernel
	Compiler: gcc 9.4.0

CentOS Stream 9 (ARM)
	Kernel: Container Host Kernel
	Compiler: gcc 11.4.1

Debian 12 (arm)
	Kernel: Container Host Kernel
	Compiler: gcc 12.2.0

Fedora 37 (ARM)
	Kernel: Depends on container host
	Compiler: gcc 12.3.1

Debian 11 (Buster) (ARM)
	Kernel: Container Host Kernel
	Compiler: gcc 10.2.1

To view detailed results, visit:
https://lab.dpdk.org/results/dashboard/patchsets/29942/

UNH-IOL DPDK Community Lab

To manage your email subscriptions, visit: 
https://lab.dpdk.org/results/dashboard/preferences/subscriptions/