From mboxrd@z Thu Jan  1 00:00:00 1970
Return-Path: <test-report-bounces@dpdk.org>
Received: from mails.dpdk.org (mails.dpdk.org [217.70.189.124])
	by inbox.dpdk.org (Postfix) with ESMTP id EB0AB4401C
	for <public@inbox.dpdk.org>; Mon, 13 May 2024 19:04:10 +0200 (CEST)
Received: from mails.dpdk.org (localhost [127.0.0.1])
	by mails.dpdk.org (Postfix) with ESMTP id E39CE402D1;
	Mon, 13 May 2024 19:04:10 +0200 (CEST)
Received: from mail-io1-f97.google.com (mail-io1-f97.google.com
 [209.85.166.97]) by mails.dpdk.org (Postfix) with ESMTP id 7ACEF402CD
 for <test-report@dpdk.org>; Mon, 13 May 2024 19:04:06 +0200 (CEST)
Received: by mail-io1-f97.google.com with SMTP id
 ca18e2360f4ac-7e1c8692c2dso128121739f.1
 for <test-report@dpdk.org>; Mon, 13 May 2024 10:04:06 -0700 (PDT)
DKIM-Signature: v=1; a=rsa-sha256; c=relaxed/relaxed;
 d=iol.unh.edu; s=unh-iol; t=1715619846; x=1716224646; darn=dpdk.org;
 h=references:in-reply-to:cc:to:from:subject:message-id:date:from:to
 :cc:subject:date:message-id:reply-to;
 bh=u/vLG8ETdPbnTnBHFss5CaichYOHzMOa6bf0bg1AEsY=;
 b=S9KtF9IcvSviB+3stjvV9WUvPfBIkrym2UPuyYTHBTd/VvVvGFtcsmCfw6okQa2jtU
 j3wcZyOZv+D4s8y6eYJ3Wnvx96NtxOWjvqsf5WsCQdbaLRm7X0+oVYiT1b9ozmRe3BTM
 AfVyVOM3TX8mWFZi3f03GY+qR8xX4os83m230=
X-Google-DKIM-Signature: v=1; a=rsa-sha256; c=relaxed/relaxed;
 d=1e100.net; s=20230601; t=1715619846; x=1716224646;
 h=references:in-reply-to:cc:to:from:subject:message-id:date
 :x-gm-message-state:from:to:cc:subject:date:message-id:reply-to;
 bh=u/vLG8ETdPbnTnBHFss5CaichYOHzMOa6bf0bg1AEsY=;
 b=vz02p+ruhDQVDu0ZSpvEzYqVtuGkz64W5wP77YnLn6p8DYaIlIf5vpnhC4Qjyfswe7
 48E3rnS5Ity1tw+CllWSlkSZuXzn+sIjqlXF/QJfuN4e2CgRBIKvquMYQYmUYrVx8xzL
 rFStK4O3EsVY1TkAEX3wbxGo3Abdr+sieSb/F2ltRAK6pPlZNCBfXVtbPSDSyEqCnjuc
 HvkxhUnrJPq6a2RYoNCloc11gW0fDfTzlsb4UKxu8t20oIMP9aiQtY28C/Pw4308FQgo
 8FZOc/ap1CHO19T5E/39kqvt6XggKYcs3cSnecIguXPYAu+fIa/olfjPiioMmw0RXyoD
 dYLg==
X-Gm-Message-State: AOJu0Yxsjl9RzsTtEO3y6FYS3FN7KvnDqInInp/Z8pRIHgby3/oUYdza
 vZ8rVCZ41QtiaespaQhkg3K4COM/5zvbzaNwIQRMQBkgyVAsTsImRIxw66Sptu4n7s7BenKZyJc
 t8R31feBq4POHll3MQ9fZ0zCFAU1OVR4vTn8r2mr/ER8THVVQ12P1o1yx
X-Google-Smtp-Source: AGHT+IHKOrlewW+2skR3/VUP/Rv6Ciikdh+hlBjL9dNZX6JJ8fgBj8gp7Dfs21ilumIvzH7sG8arpk3y+AH4
X-Received: by 2002:a6b:601a:0:b0:7de:e528:2c6b with SMTP id
 ca18e2360f4ac-7e1b51fb99emr1482987339f.16.1715619845929; 
 Mon, 13 May 2024 10:04:05 -0700 (PDT)
Received: from postal.iol.unh.edu (postal.iol.unh.edu.
 [2606:4100:3880:1234::84]) by smtp-relay.gmail.com with ESMTPS id
 8926c6da1cb9f-489372b6f89sm484228173.68.2024.05.13.10.04.05
 (version=TLS1_2 cipher=ECDHE-ECDSA-AES128-GCM-SHA256 bits=128/128);
 Mon, 13 May 2024 10:04:05 -0700 (PDT)
X-Relaying-Domain: iol.unh.edu
Date: Mon, 13 May 2024 10:04:05 -0700 (PDT)
Message-ID: <66424805.050a0220.ddc44.a5b4SMTPIN_ADDED_MISSING@mx.google.com>
Received: from [172.17.0.4] (unknown [172.18.0.217])
 by postal.iol.unh.edu (Postfix) with ESMTP id 66273605C380;
 Mon, 13 May 2024 13:04:05 -0400 (EDT)
Subject: |SUCCESS| pw140030-140038 [PATCH] [9/9] doc: reword rcu library sect
From: dpdklab@iol.unh.edu
To: Test Report <test-report@dpdk.org>
Cc: dpdk-test-reports@iol.unh.edu
In-Reply-To: <20240513155911.31872-10-nandinipersad361@gmail.com>
References: <20240513155911.31872-10-nandinipersad361@gmail.com>
Content-Type: text/plain
X-BeenThere: test-report@dpdk.org
X-Mailman-Version: 2.1.29
Precedence: list
List-Id: automatic DPDK test reports <test-report.dpdk.org>
List-Unsubscribe: <https://mails.dpdk.org/options/test-report>,
 <mailto:test-report-request@dpdk.org?subject=unsubscribe>
List-Archive: <http://mails.dpdk.org/archives/test-report/>
List-Post: <mailto:test-report@dpdk.org>
List-Help: <mailto:test-report-request@dpdk.org?subject=help>
List-Subscribe: <https://mails.dpdk.org/listinfo/test-report>,
 <mailto:test-report-request@dpdk.org?subject=subscribe>
Errors-To: test-report-bounces@dpdk.org

Test-Label: iol-unit-amd64-testing
Test-Status: SUCCESS
http://dpdk.org/patch/140038

_Testing PASS_

Submitter: Nandini Persad <nandinipersad361@gmail.com>
Date: Monday, May 13 2024 15:59:11 
DPDK git baseline: Repo:dpdk
  Branch: master
  CommitID:7e06c0de1952d3109a5b0c4779d7e7d8059c9d78

140030-140038 --> testing pass

Test environment and result as below:

+---------------------+----------------+
|     Environment     | dpdk_unit_test |
+=====================+================+
| Debian Bullseye     | PASS           |
+---------------------+----------------+
| Fedora 37           | PASS           |
+---------------------+----------------+
| Windows Server 2019 | PASS           |
+---------------------+----------------+
| CentOS Stream 8     | PASS           |
+---------------------+----------------+
| CentOS Stream 9     | PASS           |
+---------------------+----------------+
| Debian 12           | PASS           |
+---------------------+----------------+
| Fedora 38           | PASS           |
+---------------------+----------------+


Debian Bullseye
	Kernel: 5.4.0-167-generic
	Compiler: gcc 10.2.1-6

Fedora 37
	Kernel: Depends on container host system
	Compiler: gcc 12.3.1

Windows Server 2019
	Kernel: 10.0.17763
	Compiler: clang 14.0 and gcc 8.1.0 (MinGW)

CentOS Stream 8
	Kernel: 5.4.0-167-generic
	Compiler: gcc 8.5.0 20210514

CentOS Stream 9
	Kernel: 5.4.0-167-generic
	Compiler: gcc 11.4.1 20230605

Debian 12
	Kernel: Container Host Kernel
	Compiler: gcc 10.2.1

Fedora 38
	Kernel: Depends on container host
	Compiler: gcc 13.2.1

To view detailed results, visit:
https://lab.dpdk.org/results/dashboard/patchsets/29946/

UNH-IOL DPDK Community Lab

To manage your email subscriptions, visit: 
https://lab.dpdk.org/results/dashboard/preferences/subscriptions/