From mboxrd@z Thu Jan  1 00:00:00 1970
Return-Path: <test-report-bounces@dpdk.org>
Received: from mails.dpdk.org (mails.dpdk.org [217.70.189.124])
	by inbox.dpdk.org (Postfix) with ESMTP id DB91F4402A
	for <public@inbox.dpdk.org>; Tue, 14 May 2024 11:56:37 +0200 (CEST)
Received: from mails.dpdk.org (localhost [127.0.0.1])
	by mails.dpdk.org (Postfix) with ESMTP id B37B4402D1;
	Tue, 14 May 2024 11:56:37 +0200 (CEST)
Received: from mail-pl1-f226.google.com (mail-pl1-f226.google.com
 [209.85.214.226])
 by mails.dpdk.org (Postfix) with ESMTP id 97DB2402D1
 for <test-report@dpdk.org>; Tue, 14 May 2024 11:56:36 +0200 (CEST)
Received: by mail-pl1-f226.google.com with SMTP id
 d9443c01a7336-1ee38966529so42747895ad.1
 for <test-report@dpdk.org>; Tue, 14 May 2024 02:56:36 -0700 (PDT)
DKIM-Signature: v=1; a=rsa-sha256; c=relaxed/relaxed;
 d=iol.unh.edu; s=unh-iol; t=1715680596; x=1716285396; darn=dpdk.org;
 h=references:in-reply-to:cc:to:from:subject:message-id:date:from:to
 :cc:subject:date:message-id:reply-to;
 bh=N9wG7Gua4F69AvC5UhvDFVQD7s/fw1ihgrKzrQEb3bw=;
 b=KuB/DX+G+s+XyoFKLU4bNBhMbLd7fmfPjI66XUDpE7gZhxtERFoMWEF7v2NTOQhtDq
 dzpUl34T8bUW0knDXo441jRlKJfu8E44M243ohGzQuJytekvSJ20Who6PXJ7y8sO6571
 rSjCYPvYt5uy+DqUlU+y6fyrYMYkaUpsUuF9I=
X-Google-DKIM-Signature: v=1; a=rsa-sha256; c=relaxed/relaxed;
 d=1e100.net; s=20230601; t=1715680596; x=1716285396;
 h=references:in-reply-to:cc:to:from:subject:message-id:date
 :x-gm-message-state:from:to:cc:subject:date:message-id:reply-to;
 bh=N9wG7Gua4F69AvC5UhvDFVQD7s/fw1ihgrKzrQEb3bw=;
 b=UPzKM58TldG67VmIyM4LNKTt92Y9eKSy/9QpWiGB8S4XmNwGltB7kggHgcreP72HwO
 4/BwuY/8c9Zk8BwBlJv81dtcibl1wUC5BYgCIQi5d8LPOAAhG2J5KgQaxbCarusPUdPn
 f6GCmKrMW2mS9pkj5SjCsQiWfvra11f+i8+5EAGXecRoJcdjEqnlftHuU/m5ItRywQ7r
 dG+ntc/BnAsD0Za7EyEeYStNnYvPD6NzJIpTgKuwLw8TC9mHSdws0RFQXF0iebUiILd+
 cxt8Vtm23hF5kw0J2Vm1yzs/q3XpOOuHJtD8WA79brJTo66cefMySGz4O6lMUnm3E/4B
 sjyQ==
X-Gm-Message-State: AOJu0YxK/mpwCac3GQruw2DJBg9iPJB3p3OETtS/gRY1vlCJVyxdwU/w
 3sqRfXxHjSKBaDRXGiC0svE1ToIzXArRb+OHGRJqXzd7GHm6kcERN66lBBugtJkLGNd1USu4hVv
 8cEdIe8QdiOK9YuaHuDWhhe+bu4ueUFzcoMGyW03Nwb9Csc/gkM3U0XX7
X-Google-Smtp-Source: AGHT+IFHTgbA3fHEQpwDwvuoLHASQoS57efnRLM8FZgRODwVDTf7f1yfQr7BT+FMkYT5SA2Z4mq+xdc2+kGR
X-Received: by 2002:a17:902:e542:b0:1ea:482f:f41e with SMTP id
 d9443c01a7336-1eefa13a014mr254689965ad.15.1715680595751; 
 Tue, 14 May 2024 02:56:35 -0700 (PDT)
Received: from postal.iol.unh.edu (postal.iol.unh.edu.
 [2606:4100:3880:1234::84]) by smtp-relay.gmail.com with ESMTPS id
 d9443c01a7336-1ef0bad46e7sm3634765ad.49.2024.05.14.02.56.35
 (version=TLS1_2 cipher=ECDHE-ECDSA-AES128-GCM-SHA256 bits=128/128);
 Tue, 14 May 2024 02:56:35 -0700 (PDT)
X-Relaying-Domain: iol.unh.edu
Date: Tue, 14 May 2024 02:56:35 -0700 (PDT)
Message-ID: <66433553.170a0220.28ec0.6a37SMTPIN_ADDED_MISSING@mx.google.com>
Received: from [172.17.0.3] (unknown [172.18.0.217])
 by postal.iol.unh.edu (Postfix) with ESMTP id DC89460524C7;
 Tue, 14 May 2024 05:56:34 -0400 (EDT)
Subject: |SUCCESS| pw140048-140051 [PATCH] [v2,4/4] net/af_xdp: remove unused
From: dpdklab@iol.unh.edu
To: Test Report <test-report@dpdk.org>
Cc: dpdk-test-reports@iol.unh.edu
In-Reply-To: <20240514084155.50673-5-ciara.loftus@intel.com>
References: <20240514084155.50673-5-ciara.loftus@intel.com>
Content-Type: text/plain
X-BeenThere: test-report@dpdk.org
X-Mailman-Version: 2.1.29
Precedence: list
List-Id: automatic DPDK test reports <test-report.dpdk.org>
List-Unsubscribe: <https://mails.dpdk.org/options/test-report>,
 <mailto:test-report-request@dpdk.org?subject=unsubscribe>
List-Archive: <http://mails.dpdk.org/archives/test-report/>
List-Post: <mailto:test-report@dpdk.org>
List-Help: <mailto:test-report-request@dpdk.org?subject=help>
List-Subscribe: <https://mails.dpdk.org/listinfo/test-report>,
 <mailto:test-report-request@dpdk.org?subject=subscribe>
Errors-To: test-report-bounces@dpdk.org

Test-Label: iol-unit-arm64-testing
Test-Status: SUCCESS
http://dpdk.org/patch/140051

_Testing PASS_

Submitter: Ciara Loftus <ciara.loftus@intel.com>
Date: Tuesday, May 14 2024 08:41:55 
DPDK git baseline: Repo:dpdk
  Branch: master
  CommitID:baa8e2c6b4d7ce289e891b9c96fb3193311c0f01

140048-140051 --> testing pass

Test environment and result as below:

+-----------------------------+------------------------------+---------------------------+----------------+--------------+
|         Environment         | cryptodev_sw_snow3g_autotest | cryptodev_sw_zuc_autotest | dpdk_unit_test | lpm_autotest |
+=============================+==============================+===========================+================+==============+
| Debian 12 (arm)             | PASS                         | PASS                      | PASS           | SKIPPED      |
+-----------------------------+------------------------------+---------------------------+----------------+--------------+
| Fedora 37 (ARM)             | SKIPPED                      | SKIPPED                   | PASS           | SKIPPED      |
+-----------------------------+------------------------------+---------------------------+----------------+--------------+
| Debian 11 (Buster) (ARM)    | SKIPPED                      | SKIPPED                   | PASS           | SKIPPED      |
+-----------------------------+------------------------------+---------------------------+----------------+--------------+
| CentOS Stream 9 (ARM)       | SKIPPED                      | SKIPPED                   | PASS           | SKIPPED      |
+-----------------------------+------------------------------+---------------------------+----------------+--------------+
| 32-bit Ubuntu 20.04.4 (ARM) | SKIPPED                      | SKIPPED                   | PASS           | SKIPPED      |
+-----------------------------+------------------------------+---------------------------+----------------+--------------+
| Fedora 38 (ARM)             | SKIPPED                      | SKIPPED                   | PASS           | SKIPPED      |
+-----------------------------+------------------------------+---------------------------+----------------+--------------+
| Ubuntu 20.04 (ARM)          | SKIPPED                      | SKIPPED                   | PASS           | SKIPPED      |
+-----------------------------+------------------------------+---------------------------+----------------+--------------+
| Ubuntu 20.04 ARM SVE        | SKIPPED                      | SKIPPED                   | SKIPPED        | PASS         |
+-----------------------------+------------------------------+---------------------------+----------------+--------------+


Debian 12 (arm)
	Kernel: Container Host Kernel
	Compiler: gcc 12.2.0

Fedora 37 (ARM)
	Kernel: Depends on container host
	Compiler: gcc 12.3.1

Debian 11 (Buster) (ARM)
	Kernel: Container Host Kernel
	Compiler: gcc 10.2.1

CentOS Stream 9 (ARM)
	Kernel: Container Host Kernel
	Compiler: gcc 11.4.1

32-bit Ubuntu 20.04.4 (ARM)
	Kernel: 5.4.0-155-generic aarch64
	Compiler: gcc 9.4

Fedora 38 (ARM)
	Kernel: Depends on container host
	Compiler: gcc 13.2.1

Ubuntu 20.04 (ARM)
	Kernel: Container Host Kernel
	Compiler: gcc 9.4.0

Ubuntu 20.04 ARM SVE
	Kernel: 5.4.0-167-generic
	Compiler: gcc (Ubuntu 10.5.0-1ubuntu1~20.04) 10.5.0

To view detailed results, visit:
https://lab.dpdk.org/results/dashboard/patchsets/29950/

UNH-IOL DPDK Community Lab

To manage your email subscriptions, visit: 
https://lab.dpdk.org/results/dashboard/preferences/subscriptions/