From mboxrd@z Thu Jan  1 00:00:00 1970
Return-Path: <test-report-bounces@dpdk.org>
Received: from mails.dpdk.org (mails.dpdk.org [217.70.189.124])
	by inbox.dpdk.org (Postfix) with ESMTP id D77D144021
	for <public@inbox.dpdk.org>; Tue, 14 May 2024 15:02:47 +0200 (CEST)
Received: from mails.dpdk.org (localhost [127.0.0.1])
	by mails.dpdk.org (Postfix) with ESMTP id D3E35402EC;
	Tue, 14 May 2024 15:02:47 +0200 (CEST)
Received: from mail-pf1-f227.google.com (mail-pf1-f227.google.com
 [209.85.210.227])
 by mails.dpdk.org (Postfix) with ESMTP id 4BA6040156
 for <test-report@dpdk.org>; Tue, 14 May 2024 15:02:46 +0200 (CEST)
Received: by mail-pf1-f227.google.com with SMTP id
 d2e1a72fcca58-6f4d6b7168eso3006570b3a.2
 for <test-report@dpdk.org>; Tue, 14 May 2024 06:02:46 -0700 (PDT)
DKIM-Signature: v=1; a=rsa-sha256; c=relaxed/relaxed;
 d=iol.unh.edu; s=unh-iol; t=1715691765; x=1716296565; darn=dpdk.org;
 h=references:in-reply-to:cc:to:from:subject:message-id:date:from:to
 :cc:subject:date:message-id:reply-to;
 bh=vVSOs3L6gK3S0GtkJRr+5d2e06FMwWXQwKV60gE8Zes=;
 b=G6oz8HOm4UVD9YkxPieNsz2Rgy6DIVIUvgZAvREqgHOrxkPGz6fvlZBJ0xU3+oEjbF
 btvf/34Jhuy2hVuXvIT5Xwlcrd+tJrHDwz7OHP4nwxUc250FKSKwmjqNXtPPaah2awJZ
 JUB/AEziD6lN7zOOwV63ekyG1lvL1g9x7iqlc=
X-Google-DKIM-Signature: v=1; a=rsa-sha256; c=relaxed/relaxed;
 d=1e100.net; s=20230601; t=1715691765; x=1716296565;
 h=references:in-reply-to:cc:to:from:subject:message-id:date
 :x-gm-message-state:from:to:cc:subject:date:message-id:reply-to;
 bh=vVSOs3L6gK3S0GtkJRr+5d2e06FMwWXQwKV60gE8Zes=;
 b=URz/JQRybFVktvtEY93hNY4WXcI3U739Jk+mXjHFzeCqjdfkt2bKWAeRjnArQMgNZd
 M2XW3xlF8lyqVpwLmx6Ox2wgQuRVN+IcfAnHMdQ+8nctuaSV/oMV9KyfyuTsV+RMS3wu
 6Z668vy0Hyn+q2RyLTsJNxTkLbjsMZKMshqouM3rBgNFTnpkCGwJoXH2UlL+c8YPYpng
 UV4qMct30KQIKieyO9DMdkX9JakXblgjoFiSN6++320Dl/duFkOueJLAXxBlmTtRvS6L
 UOK0gc1f/TAFvMe0gwVNhw9XgO/bwl1TXGlCRK2IRFVDEP10MYIIoS8b0pU7AAJ3uP4s
 OZKw==
X-Gm-Message-State: AOJu0YwCQo8a+flETCKtKHpOvCM5ez3QnZYQ+hfLOwvHqr3cDUYsM5Gy
 6Ec5x/upQ3kNoA92Jf0WHlCp3pGwZn0UWDIiBfDBMbtfWevCXWms1l0FUXTGgl1Y4T0fjrXt8Lm
 EsyKGYkIcO5103DNMmj41Q4X5h5TLyJBS6ZtLyWZiEJCgF4TKJrk3oZoy
X-Google-Smtp-Source: AGHT+IFhW/tzNWJFkCD3xzKk/G7gE5qo/Zd72NYn/VqVWezv2t8s1nAPP5nphvvXo1ZJLtkubhpLveNShN6Z
X-Received: by 2002:a05:6a00:1ac6:b0:6ea:bdbc:614 with SMTP id
 d2e1a72fcca58-6f4e02b245dmr11842340b3a.13.1715691765415; 
 Tue, 14 May 2024 06:02:45 -0700 (PDT)
Received: from postal.iol.unh.edu (postal.iol.unh.edu.
 [2606:4100:3880:1234::84]) by smtp-relay.gmail.com with ESMTPS id
 d2e1a72fcca58-6f4d2b3c392sm681664b3a.18.2024.05.14.06.02.44
 (version=TLS1_2 cipher=ECDHE-ECDSA-AES128-GCM-SHA256 bits=128/128);
 Tue, 14 May 2024 06:02:44 -0700 (PDT)
X-Relaying-Domain: iol.unh.edu
Date: Tue, 14 May 2024 06:02:44 -0700 (PDT)
Message-ID: <664360f4.050a0220.110a3.62baSMTPIN_ADDED_MISSING@mx.google.com>
Received: from [172.21.0.6] (unknown [172.18.0.240])
 by postal.iol.unh.edu (Postfix) with ESMTP id C4D67604A954;
 Tue, 14 May 2024 09:02:43 -0400 (EDT)
Subject: |SUCCESS| pw140054-140055 [PATCH] [v2,2/2] dts: clean up config type
From: dpdklab@iol.unh.edu
To: Test Report <test-report@dpdk.org>
Cc: dpdk-test-reports@iol.unh.edu
In-Reply-To: <20240514113446.1948050-3-luca.vizzarro@arm.com>
References: <20240514113446.1948050-3-luca.vizzarro@arm.com>
Content-Type: text/plain
X-BeenThere: test-report@dpdk.org
X-Mailman-Version: 2.1.29
Precedence: list
List-Id: automatic DPDK test reports <test-report.dpdk.org>
List-Unsubscribe: <https://mails.dpdk.org/options/test-report>,
 <mailto:test-report-request@dpdk.org?subject=unsubscribe>
List-Archive: <http://mails.dpdk.org/archives/test-report/>
List-Post: <mailto:test-report@dpdk.org>
List-Help: <mailto:test-report-request@dpdk.org?subject=help>
List-Subscribe: <https://mails.dpdk.org/listinfo/test-report>,
 <mailto:test-report-request@dpdk.org?subject=subscribe>
Errors-To: test-report-bounces@dpdk.org

Test-Label: iol-unit-amd64-testing
Test-Status: SUCCESS
http://dpdk.org/patch/140055

_Testing PASS_

Submitter: Luca Vizzarro <luca.vizzarro@arm.com>
Date: Tuesday, May 14 2024 11:34:46 
DPDK git baseline: Repo:dpdk
  Branch: master
  CommitID:7e06c0de1952d3109a5b0c4779d7e7d8059c9d78

140054-140055 --> testing pass

Test environment and result as below:

+---------------------+----------------+
|     Environment     | dpdk_unit_test |
+=====================+================+
| Windows Server 2019 | PASS           |
+---------------------+----------------+
| CentOS Stream 9     | PASS           |
+---------------------+----------------+
| CentOS Stream 8     | PASS           |
+---------------------+----------------+
| Debian Bullseye     | PASS           |
+---------------------+----------------+
| Fedora 37           | PASS           |
+---------------------+----------------+
| Fedora 38           | PASS           |
+---------------------+----------------+
| Windows Server 2022 | PASS           |
+---------------------+----------------+
| Fedora 39           | PASS           |
+---------------------+----------------+
| Debian 12           | PASS           |
+---------------------+----------------+
| openSUSE Leap 15    | PASS           |
+---------------------+----------------+
| Ubuntu 22.04        | PASS           |
+---------------------+----------------+
| Ubuntu 20.04        | PASS           |
+---------------------+----------------+
| RHEL8               | PASS           |
+---------------------+----------------+


Windows Server 2019
	Kernel: 10.0.17763
	Compiler: clang 14.0 and gcc 8.1.0 (MinGW)

CentOS Stream 9
	Kernel: 5.4.0-167-generic
	Compiler: gcc 11.4.1 20230605

CentOS Stream 8
	Kernel: 5.4.0-167-generic
	Compiler: gcc 8.5.0 20210514

Debian Bullseye
	Kernel: 5.4.0-167-generic
	Compiler: gcc 10.2.1-6

Fedora 37
	Kernel: Depends on container host system
	Compiler: gcc 12.3.1

Fedora 38
	Kernel: Depends on container host
	Compiler: gcc 13.2.1

Windows Server 2022
	Kernel: 10.0.20348.2031
	Compiler: clang 15.0.7, gcc 8.1.0 (MinGW), and MSVC VS 17.9

Fedora 39
	Kernel: Depends on container host
	Compiler: gcc 13.2.1

Debian 12
	Kernel: Container Host Kernel
	Compiler: gcc 10.2.1

openSUSE Leap 15
	Kernel: 5.4.0-167-generic
	Compiler: gcc 7.5.0

Ubuntu 22.04
	Kernel: 5.4.0-167-generic
	Compiler: gcc 11.4.0

Ubuntu 20.04
	Kernel: 5.4.0-167-generic
	Compiler: gcc 9.4.0-1ubuntu1~20.04.1

RHEL8
	Kernel: 5.4.0-167-generic
	Compiler: gcc 8.5.0 20210514 (Red Hat 8.5.0-20)

To view detailed results, visit:
https://lab.dpdk.org/results/dashboard/patchsets/29953/

UNH-IOL DPDK Community Lab

To manage your email subscriptions, visit: 
https://lab.dpdk.org/results/dashboard/preferences/subscriptions/