From: dpdklab@iol.unh.edu
To: Test Report <test-report@dpdk.org>
Cc: dpdk-test-reports@iol.unh.edu
Subject: |SUCCESS| pw140054-140055 [PATCH] [v2,2/2] dts: clean up config type
Date: Tue, 14 May 2024 06:06:34 -0700 (PDT) [thread overview]
Message-ID: <664361da.050a0220.4a5ef.f9deSMTPIN_ADDED_MISSING@mx.google.com> (raw)
In-Reply-To: <20240514113446.1948050-3-luca.vizzarro@arm.com>
Test-Label: iol-unit-amd64-testing
Test-Status: SUCCESS
http://dpdk.org/patch/140055
_Testing PASS_
Submitter: Luca Vizzarro <luca.vizzarro@arm.com>
Date: Tuesday, May 14 2024 11:34:46
DPDK git baseline: Repo:dpdk
Branch: master
CommitID:7e06c0de1952d3109a5b0c4779d7e7d8059c9d78
140054-140055 --> testing pass
Test environment and result as below:
+---------------------+----------------+
| Environment | dpdk_unit_test |
+=====================+================+
| Windows Server 2019 | PASS |
+---------------------+----------------+
| CentOS Stream 9 | PASS |
+---------------------+----------------+
| CentOS Stream 8 | PASS |
+---------------------+----------------+
| Debian Bullseye | PASS |
+---------------------+----------------+
| Fedora 37 | PASS |
+---------------------+----------------+
| Fedora 38 | PASS |
+---------------------+----------------+
| Windows Server 2022 | PASS |
+---------------------+----------------+
| Fedora 39 | PASS |
+---------------------+----------------+
| Debian 12 | PASS |
+---------------------+----------------+
| openSUSE Leap 15 | PASS |
+---------------------+----------------+
| Ubuntu 22.04 | PASS |
+---------------------+----------------+
| Ubuntu 20.04 | PASS |
+---------------------+----------------+
| RHEL8 | PASS |
+---------------------+----------------+
Windows Server 2019
Kernel: 10.0.17763
Compiler: clang 14.0 and gcc 8.1.0 (MinGW)
CentOS Stream 9
Kernel: 5.4.0-167-generic
Compiler: gcc 11.4.1 20230605
CentOS Stream 8
Kernel: 5.4.0-167-generic
Compiler: gcc 8.5.0 20210514
Debian Bullseye
Kernel: 5.4.0-167-generic
Compiler: gcc 10.2.1-6
Fedora 37
Kernel: Depends on container host system
Compiler: gcc 12.3.1
Fedora 38
Kernel: Depends on container host
Compiler: gcc 13.2.1
Windows Server 2022
Kernel: 10.0.20348.2031
Compiler: clang 15.0.7, gcc 8.1.0 (MinGW), and MSVC VS 17.9
Fedora 39
Kernel: Depends on container host
Compiler: gcc 13.2.1
Debian 12
Kernel: Container Host Kernel
Compiler: gcc 10.2.1
openSUSE Leap 15
Kernel: 5.4.0-167-generic
Compiler: gcc 7.5.0
Ubuntu 22.04
Kernel: 5.4.0-167-generic
Compiler: gcc 11.4.0
Ubuntu 20.04
Kernel: 5.4.0-167-generic
Compiler: gcc 9.4.0-1ubuntu1~20.04.1
RHEL8
Kernel: 5.4.0-167-generic
Compiler: gcc 8.5.0 20210514 (Red Hat 8.5.0-20)
To view detailed results, visit:
https://lab.dpdk.org/results/dashboard/patchsets/29953/
UNH-IOL DPDK Community Lab
To manage your email subscriptions, visit:
https://lab.dpdk.org/results/dashboard/preferences/subscriptions/
next prev parent reply other threads:[~2024-05-14 13:06 UTC|newest]
Thread overview: 89+ messages / expand[flat|nested] mbox.gz Atom feed top
[not found] <20240514113446.1948050-3-luca.vizzarro@arm.com>
2024-05-14 11:10 ` |SUCCESS| pw140054-140055 [PATCH v2 2/2] dts: clean up config types qemudev
2024-05-14 11:14 ` qemudev
2024-05-14 11:36 ` |SUCCESS| pw140055 " checkpatch
2024-05-14 12:14 ` |SUCCESS| pw140054-140055 [PATCH] [v2,2/2] dts: clean up config type dpdklab
2024-05-14 12:15 ` dpdklab
2024-05-14 12:15 ` dpdklab
2024-05-14 12:15 ` dpdklab
2024-05-14 12:15 ` dpdklab
2024-05-14 12:15 ` dpdklab
2024-05-14 12:15 ` dpdklab
2024-05-14 12:16 ` dpdklab
2024-05-14 12:16 ` dpdklab
2024-05-14 12:16 ` dpdklab
2024-05-14 12:16 ` dpdklab
2024-05-14 12:16 ` dpdklab
2024-05-14 12:16 ` dpdklab
2024-05-14 12:17 ` dpdklab
2024-05-14 12:17 ` dpdklab
2024-05-14 12:17 ` dpdklab
2024-05-14 12:17 ` dpdklab
2024-05-14 12:18 ` dpdklab
2024-05-14 12:18 ` dpdklab
2024-05-14 12:18 ` dpdklab
2024-05-14 12:18 ` dpdklab
2024-05-14 12:18 ` dpdklab
2024-05-14 12:18 ` dpdklab
2024-05-14 12:18 ` dpdklab
2024-05-14 12:19 ` dpdklab
2024-05-14 12:19 ` dpdklab
2024-05-14 12:20 ` dpdklab
2024-05-14 12:20 ` dpdklab
2024-05-14 12:20 ` dpdklab
2024-05-14 12:20 ` dpdklab
2024-05-14 12:20 ` dpdklab
2024-05-14 12:20 ` dpdklab
2024-05-14 12:20 ` dpdklab
2024-05-14 12:20 ` dpdklab
2024-05-14 12:21 ` dpdklab
2024-05-14 12:21 ` dpdklab
2024-05-14 12:22 ` dpdklab
2024-05-14 12:24 ` dpdklab
2024-05-14 12:29 ` dpdklab
2024-05-14 12:29 ` dpdklab
2024-05-14 12:29 ` dpdklab
2024-05-14 12:29 ` dpdklab
2024-05-14 12:29 ` dpdklab
2024-05-14 12:30 ` dpdklab
2024-05-14 12:30 ` dpdklab
2024-05-14 12:30 ` dpdklab
2024-05-14 12:31 ` dpdklab
2024-05-14 12:32 ` dpdklab
2024-05-14 12:32 ` dpdklab
2024-05-14 12:40 ` dpdklab
2024-05-14 12:41 ` dpdklab
2024-05-14 12:44 ` |SUCCESS| pw140055 [PATCH v2 2/2] dts: clean up config types 0-day Robot
2024-05-14 12:50 ` |SUCCESS| pw140054-140055 [PATCH] [v2,2/2] dts: clean up config type dpdklab
2024-05-14 12:50 ` dpdklab
2024-05-14 12:50 ` dpdklab
2024-05-14 12:51 ` dpdklab
2024-05-14 12:51 ` dpdklab
2024-05-14 12:52 ` dpdklab
2024-05-14 12:53 ` dpdklab
2024-05-14 12:53 ` dpdklab
2024-05-14 12:55 ` dpdklab
2024-05-14 12:55 ` dpdklab
2024-05-14 12:56 ` dpdklab
2024-05-14 12:58 ` dpdklab
2024-05-14 12:58 ` dpdklab
2024-05-14 12:59 ` dpdklab
2024-05-14 12:59 ` dpdklab
2024-05-14 12:59 ` dpdklab
2024-05-14 13:00 ` dpdklab
2024-05-14 13:00 ` dpdklab
2024-05-14 13:01 ` dpdklab
2024-05-14 13:01 ` dpdklab
2024-05-14 13:02 ` dpdklab
2024-05-14 13:02 ` dpdklab
2024-05-14 13:03 ` dpdklab
2024-05-14 13:03 ` dpdklab
2024-05-14 13:05 ` dpdklab
2024-05-14 13:06 ` dpdklab [this message]
2024-05-14 13:10 ` dpdklab
2024-05-14 13:11 ` dpdklab
2024-05-14 13:15 ` dpdklab
2024-05-14 13:16 ` dpdklab
2024-05-14 13:16 ` dpdklab
2024-05-14 13:22 ` dpdklab
2024-05-14 13:33 ` dpdklab
2024-05-14 13:34 ` dpdklab
Reply instructions:
You may reply publicly to this message via plain-text email
using any one of the following methods:
* Save the following mbox file, import it into your mail client,
and reply-to-all from there: mbox
Avoid top-posting and favor interleaved quoting:
https://en.wikipedia.org/wiki/Posting_style#Interleaved_style
* Reply using the --to, --cc, and --in-reply-to
switches of git-send-email(1):
git send-email \
--in-reply-to=664361da.050a0220.4a5ef.f9deSMTPIN_ADDED_MISSING@mx.google.com \
--to=dpdklab@iol.unh.edu \
--cc=dpdk-test-reports@iol.unh.edu \
--cc=test-report@dpdk.org \
/path/to/YOUR_REPLY
https://kernel.org/pub/software/scm/git/docs/git-send-email.html
* If your mail client supports setting the In-Reply-To header
via mailto: links, try the mailto: link
Be sure your reply has a Subject: header at the top and a blank line
before the message body.
This is a public inbox, see mirroring instructions
for how to clone and mirror all data and code used for this inbox;
as well as URLs for NNTP newsgroup(s).