From mboxrd@z Thu Jan  1 00:00:00 1970
Return-Path: <test-report-bounces@dpdk.org>
Received: from mails.dpdk.org (mails.dpdk.org [217.70.189.124])
	by inbox.dpdk.org (Postfix) with ESMTP id 7CE8043FD4
	for <public@inbox.dpdk.org>; Tue, 14 May 2024 18:19:36 +0200 (CEST)
Received: from mails.dpdk.org (localhost [127.0.0.1])
	by mails.dpdk.org (Postfix) with ESMTP id 78CA6402D1;
	Tue, 14 May 2024 18:19:36 +0200 (CEST)
Received: from mail-oa1-f99.google.com (mail-oa1-f99.google.com
 [209.85.160.99]) by mails.dpdk.org (Postfix) with ESMTP id 5920A402D1
 for <test-report@dpdk.org>; Tue, 14 May 2024 18:19:35 +0200 (CEST)
Received: by mail-oa1-f99.google.com with SMTP id
 586e51a60fabf-23ee34c33ceso3678860fac.3
 for <test-report@dpdk.org>; Tue, 14 May 2024 09:19:35 -0700 (PDT)
DKIM-Signature: v=1; a=rsa-sha256; c=relaxed/relaxed;
 d=iol.unh.edu; s=unh-iol; t=1715703574; x=1716308374; darn=dpdk.org;
 h=references:in-reply-to:cc:to:from:subject:message-id:date:from:to
 :cc:subject:date:message-id:reply-to;
 bh=uPmdLEwlj/a+cJ/3uBvRORNCkDUhkypQZ7lulLBNqxI=;
 b=Doq/U2NsPeItiVzVswlpesmXed7P176okAkfWNQKDa6newqJQznMobqIl7YrPx4wpk
 tFpSTUzKj1KK056C4NYSK6gqpZeVv8G6BTIiOQAEoqPo2HfspgffofD5eOVI1f2BC1Tu
 R0rjgPKqXIdQI4gZUc+S2/nDJ9ztzSmE2euLg=
X-Google-DKIM-Signature: v=1; a=rsa-sha256; c=relaxed/relaxed;
 d=1e100.net; s=20230601; t=1715703574; x=1716308374;
 h=references:in-reply-to:cc:to:from:subject:message-id:date
 :x-gm-message-state:from:to:cc:subject:date:message-id:reply-to;
 bh=uPmdLEwlj/a+cJ/3uBvRORNCkDUhkypQZ7lulLBNqxI=;
 b=OoRJBuhWgGKuXUYMC8v3u+zTUcJJg9hYaDQzSLA98yn5CjxiMFCxNGqWzDInCfyjWv
 rIJHUrXZKQrDxPqIsut+SkbTg9gA1LKP1oG1MRs+fPzahs8iBztPLsNkb3cUORN+33wo
 zzIYFRZGm8gWeF69Cl8JelU987yfj3weZs6uh4rjXrVvj50Y6m7f431fqPAiUcm0puC9
 H49HSzHl1rY0AubV/9KLXWiQrUoXYZr8SjSiZzcZMjvEnhiqq9uQy07dV64gUiCW7QTW
 OLxuYAKmapudf7YZeBh1Odvyi5CICLgBnuv6cv98CpGunqRtmrA4efPMUR2N2Oev+Bag
 noWw==
X-Gm-Message-State: AOJu0Ywy7ZcW7jJ42obWccHQGPd0ZnB72/9nhJYfP+8GDo/aKYrID4iG
 YYptV+5ooCrtvumr7oBK9kRQZdRiv+8Y5niqC21ROpHvRsyFW3rRo1gPlGKEcVqKkWyk9tKuRIi
 LezpjJKRtoTETHODE4R1kBGKzxvG3aAH9S5pqG5wXyOpkyOk2+jZL/Oei
X-Google-Smtp-Source: AGHT+IGTrJazJ81UTQpcIj9g0A7u6+0P4vj6jvp73qWQrL5pM2sxnYUuuI2TvtrZIGh2M6caPAYIdk7E2aro
X-Received: by 2002:a05:6870:d147:b0:239:7008:b751 with SMTP id
 586e51a60fabf-24172c42b82mr16662183fac.34.1715703574583; 
 Tue, 14 May 2024 09:19:34 -0700 (PDT)
Received: from postal.iol.unh.edu (postal.iol.unh.edu.
 [2606:4100:3880:1234::84]) by smtp-relay.gmail.com with ESMTPS id
 d75a77b69052e-43df56672f7sm5796371cf.17.2024.05.14.09.19.34
 (version=TLS1_2 cipher=ECDHE-ECDSA-AES128-GCM-SHA256 bits=128/128);
 Tue, 14 May 2024 09:19:34 -0700 (PDT)
X-Relaying-Domain: iol.unh.edu
Date: Tue, 14 May 2024 09:19:34 -0700 (PDT)
Message-ID: <66438f16.c80a0220.bc5aa.f69bSMTPIN_ADDED_MISSING@mx.google.com>
Received: from [172.21.0.7] (unknown [172.18.0.240])
 by postal.iol.unh.edu (Postfix) with ESMTP id 40B61605C373;
 Tue, 14 May 2024 12:19:34 -0400 (EDT)
Subject: |SUCCESS| pw140066 [PATCH] [v1,1/1] net/e1000/base: fix link power d
From: dpdklab@iol.unh.edu
To: Test Report <test-report@dpdk.org>
Cc: dpdk-test-reports@iol.unh.edu
In-Reply-To: <5362cee0c903d9769ec38f34ee71d4a061727eee.1715699832.git.anatoly.burakov@intel.com>
References: <5362cee0c903d9769ec38f34ee71d4a061727eee.1715699832.git.anatoly.burakov@intel.com>
Content-Type: text/plain
X-BeenThere: test-report@dpdk.org
X-Mailman-Version: 2.1.29
Precedence: list
List-Id: automatic DPDK test reports <test-report.dpdk.org>
List-Unsubscribe: <https://mails.dpdk.org/options/test-report>,
 <mailto:test-report-request@dpdk.org?subject=unsubscribe>
List-Archive: <http://mails.dpdk.org/archives/test-report/>
List-Post: <mailto:test-report@dpdk.org>
List-Help: <mailto:test-report-request@dpdk.org?subject=help>
List-Subscribe: <https://mails.dpdk.org/listinfo/test-report>,
 <mailto:test-report-request@dpdk.org?subject=subscribe>
Errors-To: test-report-bounces@dpdk.org

Test-Label: iol-unit-amd64-testing
Test-Status: SUCCESS
http://dpdk.org/patch/140066

_Testing PASS_

Submitter: Anatoly Burakov <anatoly.burakov@intel.com>
Date: Tuesday, May 14 2024 15:17:16 
DPDK git baseline: Repo:dpdk
  Branch: master
  CommitID:2ac57ed414af92f0c30a799e1824fd47f86a94b0

140066 --> testing pass

Test environment and result as below:

+---------------------+----------------+
|     Environment     | dpdk_unit_test |
+=====================+================+
| Windows Server 2019 | PASS           |
+---------------------+----------------+
| CentOS Stream 8     | PASS           |
+---------------------+----------------+
| Debian Bullseye     | PASS           |
+---------------------+----------------+
| Debian 12           | PASS           |
+---------------------+----------------+
| CentOS Stream 9     | PASS           |
+---------------------+----------------+
| Fedora 37           | PASS           |
+---------------------+----------------+
| openSUSE Leap 15    | PASS           |
+---------------------+----------------+
| Fedora 38           | PASS           |
+---------------------+----------------+


Windows Server 2019
	Kernel: 10.0.17763
	Compiler: clang 14.0 and gcc 8.1.0 (MinGW)

CentOS Stream 8
	Kernel: 5.4.0-167-generic
	Compiler: gcc 8.5.0 20210514

Debian Bullseye
	Kernel: 5.4.0-167-generic
	Compiler: gcc 10.2.1-6

Debian 12
	Kernel: Container Host Kernel
	Compiler: gcc 10.2.1

CentOS Stream 9
	Kernel: 5.4.0-167-generic
	Compiler: gcc 11.4.1 20230605

Fedora 37
	Kernel: Depends on container host system
	Compiler: gcc 12.3.1

openSUSE Leap 15
	Kernel: 5.4.0-167-generic
	Compiler: gcc 7.5.0

Fedora 38
	Kernel: Depends on container host
	Compiler: gcc 13.2.1

To view detailed results, visit:
https://lab.dpdk.org/results/dashboard/patchsets/29958/

UNH-IOL DPDK Community Lab

To manage your email subscriptions, visit: 
https://lab.dpdk.org/results/dashboard/preferences/subscriptions/