From mboxrd@z Thu Jan  1 00:00:00 1970
Return-Path: <test-report-bounces@dpdk.org>
Received: from mails.dpdk.org (mails.dpdk.org [217.70.189.124])
	by inbox.dpdk.org (Postfix) with ESMTP id CEED244024
	for <public@inbox.dpdk.org>; Tue, 14 May 2024 18:31:13 +0200 (CEST)
Received: from mails.dpdk.org (localhost [127.0.0.1])
	by mails.dpdk.org (Postfix) with ESMTP id ACBBA4067A;
	Tue, 14 May 2024 18:31:13 +0200 (CEST)
Received: from mail-pf1-f227.google.com (mail-pf1-f227.google.com
 [209.85.210.227])
 by mails.dpdk.org (Postfix) with ESMTP id 43ECE402D1
 for <test-report@dpdk.org>; Tue, 14 May 2024 18:31:12 +0200 (CEST)
Received: by mail-pf1-f227.google.com with SMTP id
 d2e1a72fcca58-6f44a2d1e3dso5191001b3a.3
 for <test-report@dpdk.org>; Tue, 14 May 2024 09:31:12 -0700 (PDT)
DKIM-Signature: v=1; a=rsa-sha256; c=relaxed/relaxed;
 d=iol.unh.edu; s=unh-iol; t=1715704271; x=1716309071; darn=dpdk.org;
 h=references:in-reply-to:cc:to:from:subject:message-id:date:from:to
 :cc:subject:date:message-id:reply-to;
 bh=4LIWwHiF7o3ecMVBHvVzXjINIhUvRDMwNgwne9MwFL8=;
 b=ISMgTae0zVArY72w1njqSR8ThWR76Nbdo6Zy0vsDxLFAXCqquf9mh1eAk27NODE85C
 etwkxZWyffdECqt+9ScLKhx5bcrB5n2wvOSgJhuH2x1a12FesRCZkEzNqRgz6HRu71r8
 00Serd4VE7QB+hB6wVDZt2NsmXL0QRuwQLSnk=
X-Google-DKIM-Signature: v=1; a=rsa-sha256; c=relaxed/relaxed;
 d=1e100.net; s=20230601; t=1715704271; x=1716309071;
 h=references:in-reply-to:cc:to:from:subject:message-id:date
 :x-gm-message-state:from:to:cc:subject:date:message-id:reply-to;
 bh=4LIWwHiF7o3ecMVBHvVzXjINIhUvRDMwNgwne9MwFL8=;
 b=Fd188c9c2ZfTO/82BXnc9G8+vDPSj/mOOfwxBbaZ0Qhw0lbDu70euZhtoRANsn4XAN
 5zhjT9kl/BOeBBKwiKEhRXQlkyOe62HG+VvmHaNDbbze616thlwy0+XtEu+YbM5jn19T
 v/czV7EpYIwU/+xFnnZcaL9KZ/JExCg2T7hRO7tvCDXqqcUIiVyPFMfSAdgjj5D3BH0b
 q2GfGfKqDo78PpzQ3rT/CPwtUakAee5rHhtta7UYdXPBQsthoujO3sDzTGrhxwIlZTuY
 7BtbGGjgeIz8VoPPvgSvQbGkVKSWsaq2Z1BrBEbf+5pFBhoWE92BPYfvvmsnHBWTeInl
 Z8dQ==
X-Gm-Message-State: AOJu0Yxx+BwIfcy94vxjwIMTKyEKUuTNlzEJz/PaDl4h1x2UmPvKSiq4
 9SeElbHpx4Kc1RBSVuq1MXMBHTp21YHp1ZiEao8kXm3EOUHCUOWowyQqJbJWNGAt6pt1CmCKy30
 vK4J3bo73PIP+t784SuTYNSfF5THd/VCf73lFDsrLrofIMpXd4EAs9lmE
X-Google-Smtp-Source: AGHT+IGFr4HcMpjr7OfK8ssdIIpIU+Q6P6vbD4tqV9KsNPEg3oP2lGXE6NKFCLHp2+1eVDxLtM/KCwG0aNpx
X-Received: by 2002:a05:6a21:398b:b0:1af:363d:64f5 with SMTP id
 adf61e73a8af0-1afde1c4c54mr12027568637.39.1715704271332; 
 Tue, 14 May 2024 09:31:11 -0700 (PDT)
Received: from postal.iol.unh.edu (postal.iol.unh.edu.
 [2606:4100:3880:1234::84]) by smtp-relay.gmail.com with ESMTPS id
 d2e1a72fcca58-6f4d2b3cea5sm687706b3a.17.2024.05.14.09.31.11
 (version=TLS1_2 cipher=ECDHE-ECDSA-AES128-GCM-SHA256 bits=128/128);
 Tue, 14 May 2024 09:31:11 -0700 (PDT)
X-Relaying-Domain: iol.unh.edu
Date: Tue, 14 May 2024 09:31:11 -0700 (PDT)
Message-ID: <664391cf.050a0220.3f233.9036SMTPIN_ADDED_MISSING@mx.google.com>
Received: from [172.21.0.6] (unknown [172.18.0.240])
 by postal.iol.unh.edu (Postfix) with ESMTP id 70744605C373;
 Tue, 14 May 2024 12:31:10 -0400 (EDT)
Subject: |SUCCESS| pw140066 [PATCH] [v1,1/1] net/e1000/base: fix link power d
From: dpdklab@iol.unh.edu
To: Test Report <test-report@dpdk.org>
Cc: dpdk-test-reports@iol.unh.edu
In-Reply-To: <5362cee0c903d9769ec38f34ee71d4a061727eee.1715699832.git.anatoly.burakov@intel.com>
References: <5362cee0c903d9769ec38f34ee71d4a061727eee.1715699832.git.anatoly.burakov@intel.com>
Content-Type: text/plain
X-BeenThere: test-report@dpdk.org
X-Mailman-Version: 2.1.29
Precedence: list
List-Id: automatic DPDK test reports <test-report.dpdk.org>
List-Unsubscribe: <https://mails.dpdk.org/options/test-report>,
 <mailto:test-report-request@dpdk.org?subject=unsubscribe>
List-Archive: <http://mails.dpdk.org/archives/test-report/>
List-Post: <mailto:test-report@dpdk.org>
List-Help: <mailto:test-report-request@dpdk.org?subject=help>
List-Subscribe: <https://mails.dpdk.org/listinfo/test-report>,
 <mailto:test-report-request@dpdk.org?subject=subscribe>
Errors-To: test-report-bounces@dpdk.org

Test-Label: iol-unit-amd64-testing
Test-Status: SUCCESS
http://dpdk.org/patch/140066

_Testing PASS_

Submitter: Anatoly Burakov <anatoly.burakov@intel.com>
Date: Tuesday, May 14 2024 15:17:16 
DPDK git baseline: Repo:dpdk
  Branch: master
  CommitID:2ac57ed414af92f0c30a799e1824fd47f86a94b0

140066 --> testing pass

Test environment and result as below:

+---------------------+----------------+
|     Environment     | dpdk_unit_test |
+=====================+================+
| Windows Server 2019 | PASS           |
+---------------------+----------------+
| CentOS Stream 8     | PASS           |
+---------------------+----------------+
| Debian Bullseye     | PASS           |
+---------------------+----------------+
| Debian 12           | PASS           |
+---------------------+----------------+
| CentOS Stream 9     | PASS           |
+---------------------+----------------+
| Fedora 37           | PASS           |
+---------------------+----------------+
| openSUSE Leap 15    | PASS           |
+---------------------+----------------+
| Fedora 38           | PASS           |
+---------------------+----------------+
| Fedora 39           | PASS           |
+---------------------+----------------+
| Windows Server 2022 | PASS           |
+---------------------+----------------+
| Ubuntu 22.04        | PASS           |
+---------------------+----------------+
| Ubuntu 20.04        | PASS           |
+---------------------+----------------+
| RHEL8               | PASS           |
+---------------------+----------------+


Windows Server 2019
	Kernel: 10.0.17763
	Compiler: clang 14.0 and gcc 8.1.0 (MinGW)

CentOS Stream 8
	Kernel: 5.4.0-167-generic
	Compiler: gcc 8.5.0 20210514

Debian Bullseye
	Kernel: 5.4.0-167-generic
	Compiler: gcc 10.2.1-6

Debian 12
	Kernel: Container Host Kernel
	Compiler: gcc 10.2.1

CentOS Stream 9
	Kernel: 5.4.0-167-generic
	Compiler: gcc 11.4.1 20230605

Fedora 37
	Kernel: Depends on container host system
	Compiler: gcc 12.3.1

openSUSE Leap 15
	Kernel: 5.4.0-167-generic
	Compiler: gcc 7.5.0

Fedora 38
	Kernel: Depends on container host
	Compiler: gcc 13.2.1

Fedora 39
	Kernel: Depends on container host
	Compiler: gcc 13.2.1

Windows Server 2022
	Kernel: 10.0.20348.2031
	Compiler: clang 15.0.7, gcc 8.1.0 (MinGW), and MSVC VS 17.9

Ubuntu 22.04
	Kernel: 5.4.0-167-generic
	Compiler: gcc 11.4.0

Ubuntu 20.04
	Kernel: 5.4.0-167-generic
	Compiler: gcc 9.4.0-1ubuntu1~20.04.1

RHEL8
	Kernel: 5.4.0-167-generic
	Compiler: gcc 8.5.0 20210514 (Red Hat 8.5.0-20)

To view detailed results, visit:
https://lab.dpdk.org/results/dashboard/patchsets/29958/

UNH-IOL DPDK Community Lab

To manage your email subscriptions, visit: 
https://lab.dpdk.org/results/dashboard/preferences/subscriptions/