From mboxrd@z Thu Jan  1 00:00:00 1970
Return-Path: <test-report-bounces@dpdk.org>
Received: from mails.dpdk.org (mails.dpdk.org [217.70.189.124])
	by inbox.dpdk.org (Postfix) with ESMTP id 6065D44024
	for <public@inbox.dpdk.org>; Tue, 14 May 2024 18:46:11 +0200 (CEST)
Received: from mails.dpdk.org (localhost [127.0.0.1])
	by mails.dpdk.org (Postfix) with ESMTP id 57D4240A6F;
	Tue, 14 May 2024 18:46:11 +0200 (CEST)
Received: from mail-oo1-f98.google.com (mail-oo1-f98.google.com
 [209.85.161.98]) by mails.dpdk.org (Postfix) with ESMTP id 02999402EC
 for <test-report@dpdk.org>; Tue, 14 May 2024 18:46:10 +0200 (CEST)
Received: by mail-oo1-f98.google.com with SMTP id
 006d021491bc7-5b27999f889so2731401eaf.0
 for <test-report@dpdk.org>; Tue, 14 May 2024 09:46:09 -0700 (PDT)
DKIM-Signature: v=1; a=rsa-sha256; c=relaxed/relaxed;
 d=iol.unh.edu; s=unh-iol; t=1715705169; x=1716309969; darn=dpdk.org;
 h=references:in-reply-to:cc:to:from:subject:message-id:date:from:to
 :cc:subject:date:message-id:reply-to;
 bh=4LIWwHiF7o3ecMVBHvVzXjINIhUvRDMwNgwne9MwFL8=;
 b=e9kttWjiL72v+8MM5CYLTJllwn8TlxzffU5iueCEaEfcPH5gECmu9P0sTXWuhUJk2k
 vH3BQOT6stBE+Y38MkXDqmEo04Z7pnziEF+5l9IhTVUAwAIfAyPRDlH51LdyQb+s25A3
 J5FR3t5SekweTxx1004ZWUD6+iKvEGXcW/hmI=
X-Google-DKIM-Signature: v=1; a=rsa-sha256; c=relaxed/relaxed;
 d=1e100.net; s=20230601; t=1715705169; x=1716309969;
 h=references:in-reply-to:cc:to:from:subject:message-id:date
 :x-gm-message-state:from:to:cc:subject:date:message-id:reply-to;
 bh=4LIWwHiF7o3ecMVBHvVzXjINIhUvRDMwNgwne9MwFL8=;
 b=tN6vxikRme8wyaaLKtrQ7bZHur82QXc7AIZfKOkyV+X6AZfLYMLUtsl4nClJ4BdBIe
 9EIhtAfwYxZr8HvSRTzOhJAtxqn3B+2FDcRv8ALQjVZ8Z+dCnIMFPJe6prOCL70hoK2M
 F6FHuRus5TIC8MgWJHoG10NtS5mcgaLoRF3wxxmRW1pfgDbgTaJz/mJuQA0l9hhSgzz1
 prlGAJ0YNqD534wMlEB262aOKnMDpqGzSQJNGE0X0lS0+nYiUpwSLm50NqKrstgIQWou
 jpK5QJi67Q2XFeEi8ZefztcMHybTACm8ifd2FsDugsxmX+erp0MZgdWs9AmqEqh0efVK
 VhPQ==
X-Gm-Message-State: AOJu0Ywopuk/SmDSrfcFepyrwrhzgF99eFr9Vu19zVVl/vRz7/kJHgzK
 Mj1p4RkhHot6Feytcz56/7iqFpZrYKqp3w0CRGEGJCUjXSkBVrDTzYVYxgnnfaym2oiAZSYinjw
 ltq5Z32GuCmJ79QPOF2OVUMhzVjs0eKSV//HsBXOo
X-Google-Smtp-Source: AGHT+IHuFqEOdYeR15lzJDyW7KUo/HhWb0qr//VsgCWmufdy60PgSIhDMqOm3kYDXMbqTKcQIVOM2XcVHx5W
X-Received: by 2002:a4a:4486:0:b0:5b2:f7c:a717 with SMTP id
 006d021491bc7-5b281a6b3ecmr10978719eaf.9.1715705169330; 
 Tue, 14 May 2024 09:46:09 -0700 (PDT)
Received: from postal.iol.unh.edu (postal.iol.unh.edu. [132.177.123.84])
 by smtp-relay.gmail.com with ESMTPS id
 006d021491bc7-5b26dd8a655sm510975eaf.12.2024.05.14.09.46.09
 (version=TLS1_2 cipher=ECDHE-ECDSA-AES128-GCM-SHA256 bits=128/128);
 Tue, 14 May 2024 09:46:09 -0700 (PDT)
X-Relaying-Domain: iol.unh.edu
Date: Tue, 14 May 2024 09:46:09 -0700 (PDT)
Message-ID: <66439551.4a0a0220.e560c.9035SMTPIN_ADDED_MISSING@mx.google.com>
Received: from [172.21.0.8] (unknown [172.18.0.240])
 by postal.iol.unh.edu (Postfix) with ESMTP id C15E0605C373;
 Tue, 14 May 2024 12:46:08 -0400 (EDT)
Subject: |SUCCESS| pw140066 [PATCH] [v1,1/1] net/e1000/base: fix link power d
From: dpdklab@iol.unh.edu
To: Test Report <test-report@dpdk.org>
Cc: dpdk-test-reports@iol.unh.edu
In-Reply-To: <5362cee0c903d9769ec38f34ee71d4a061727eee.1715699832.git.anatoly.burakov@intel.com>
References: <5362cee0c903d9769ec38f34ee71d4a061727eee.1715699832.git.anatoly.burakov@intel.com>
Content-Type: text/plain
X-BeenThere: test-report@dpdk.org
X-Mailman-Version: 2.1.29
Precedence: list
List-Id: automatic DPDK test reports <test-report.dpdk.org>
List-Unsubscribe: <https://mails.dpdk.org/options/test-report>,
 <mailto:test-report-request@dpdk.org?subject=unsubscribe>
List-Archive: <http://mails.dpdk.org/archives/test-report/>
List-Post: <mailto:test-report@dpdk.org>
List-Help: <mailto:test-report-request@dpdk.org?subject=help>
List-Subscribe: <https://mails.dpdk.org/listinfo/test-report>,
 <mailto:test-report-request@dpdk.org?subject=subscribe>
Errors-To: test-report-bounces@dpdk.org

Test-Label: iol-unit-amd64-testing
Test-Status: SUCCESS
http://dpdk.org/patch/140066

_Testing PASS_

Submitter: Anatoly Burakov <anatoly.burakov@intel.com>
Date: Tuesday, May 14 2024 15:17:16 
DPDK git baseline: Repo:dpdk
  Branch: master
  CommitID:2ac57ed414af92f0c30a799e1824fd47f86a94b0

140066 --> testing pass

Test environment and result as below:

+---------------------+----------------+
|     Environment     | dpdk_unit_test |
+=====================+================+
| Windows Server 2019 | PASS           |
+---------------------+----------------+
| CentOS Stream 8     | PASS           |
+---------------------+----------------+
| Debian Bullseye     | PASS           |
+---------------------+----------------+
| Debian 12           | PASS           |
+---------------------+----------------+
| CentOS Stream 9     | PASS           |
+---------------------+----------------+
| Fedora 37           | PASS           |
+---------------------+----------------+
| openSUSE Leap 15    | PASS           |
+---------------------+----------------+
| Fedora 38           | PASS           |
+---------------------+----------------+
| Fedora 39           | PASS           |
+---------------------+----------------+
| Windows Server 2022 | PASS           |
+---------------------+----------------+
| Ubuntu 22.04        | PASS           |
+---------------------+----------------+
| Ubuntu 20.04        | PASS           |
+---------------------+----------------+
| RHEL8               | PASS           |
+---------------------+----------------+


Windows Server 2019
	Kernel: 10.0.17763
	Compiler: clang 14.0 and gcc 8.1.0 (MinGW)

CentOS Stream 8
	Kernel: 5.4.0-167-generic
	Compiler: gcc 8.5.0 20210514

Debian Bullseye
	Kernel: 5.4.0-167-generic
	Compiler: gcc 10.2.1-6

Debian 12
	Kernel: Container Host Kernel
	Compiler: gcc 10.2.1

CentOS Stream 9
	Kernel: 5.4.0-167-generic
	Compiler: gcc 11.4.1 20230605

Fedora 37
	Kernel: Depends on container host system
	Compiler: gcc 12.3.1

openSUSE Leap 15
	Kernel: 5.4.0-167-generic
	Compiler: gcc 7.5.0

Fedora 38
	Kernel: Depends on container host
	Compiler: gcc 13.2.1

Fedora 39
	Kernel: Depends on container host
	Compiler: gcc 13.2.1

Windows Server 2022
	Kernel: 10.0.20348.2031
	Compiler: clang 15.0.7, gcc 8.1.0 (MinGW), and MSVC VS 17.9

Ubuntu 22.04
	Kernel: 5.4.0-167-generic
	Compiler: gcc 11.4.0

Ubuntu 20.04
	Kernel: 5.4.0-167-generic
	Compiler: gcc 9.4.0-1ubuntu1~20.04.1

RHEL8
	Kernel: 5.4.0-167-generic
	Compiler: gcc 8.5.0 20210514 (Red Hat 8.5.0-20)

To view detailed results, visit:
https://lab.dpdk.org/results/dashboard/patchsets/29958/

UNH-IOL DPDK Community Lab

To manage your email subscriptions, visit: 
https://lab.dpdk.org/results/dashboard/preferences/subscriptions/