From mboxrd@z Thu Jan  1 00:00:00 1970
Return-Path: <test-report-bounces@dpdk.org>
Received: from mails.dpdk.org (mails.dpdk.org [217.70.189.124])
	by inbox.dpdk.org (Postfix) with ESMTP id BF9774402F
	for <public@inbox.dpdk.org>; Wed, 15 May 2024 00:09:48 +0200 (CEST)
Received: from mails.dpdk.org (localhost [127.0.0.1])
	by mails.dpdk.org (Postfix) with ESMTP id 9C1A94029E;
	Wed, 15 May 2024 00:09:48 +0200 (CEST)
Received: from mail-qv1-f99.google.com (mail-qv1-f99.google.com
 [209.85.219.99]) by mails.dpdk.org (Postfix) with ESMTP id 3A7304025C
 for <test-report@dpdk.org>; Wed, 15 May 2024 00:09:47 +0200 (CEST)
Received: by mail-qv1-f99.google.com with SMTP id
 6a1803df08f44-69b50b8239fso56545566d6.0
 for <test-report@dpdk.org>; Tue, 14 May 2024 15:09:47 -0700 (PDT)
DKIM-Signature: v=1; a=rsa-sha256; c=relaxed/relaxed;
 d=iol.unh.edu; s=unh-iol; t=1715724586; x=1716329386; darn=dpdk.org;
 h=references:in-reply-to:cc:to:from:subject:message-id:date:from:to
 :cc:subject:date:message-id:reply-to;
 bh=PFmla/jRv41tJLO4/cr1VhmhVhpa4mPfgMWmfG6Jqg4=;
 b=C9n+tZS3gsDosOgWWGTnm0iA/gPWqlTIL0oPjWgl2tQD9SLQvVsfJsFVWcF3oojp7o
 rqV+L7mVghhIIxN/uxqGO2CGh/fP+rlUW4BJ8n6GzNEKtEEtYkVykGHcB2KZx5CRLkdf
 RCJGjCf9wUeIGcho8sJOtmtp0SVtrrKpVW6fk=
X-Google-DKIM-Signature: v=1; a=rsa-sha256; c=relaxed/relaxed;
 d=1e100.net; s=20230601; t=1715724586; x=1716329386;
 h=references:in-reply-to:cc:to:from:subject:message-id:date
 :x-gm-message-state:from:to:cc:subject:date:message-id:reply-to;
 bh=PFmla/jRv41tJLO4/cr1VhmhVhpa4mPfgMWmfG6Jqg4=;
 b=ZZQq5R9cAvg2Mt6Oj/ANblHMOo/uJ4aLbSq7p4ui0XKxhh6AhyFzqXkVHy7rYQdNHy
 2og0IT/z2OjHuw6b3iIPnxcABsB7G9DLMfL2M+tgl3Sev4O9ydewLvea4Y+ELx+savM4
 Swa1QWKqdQJ5UckPd2kPlU+nRi88KPIZ+q5jWuBoFGRFbnvdTlSvF1pC1M5z1u/hH8KE
 k+SddIydQRt6MSyA4YsGwuF/IvyD1rQtCk/Z6CmKcYqglC7B1SzJ6WstKMF0joG7RnU6
 xkS0rp1LEapa7XvFGNSwJ89H+gkmwpJBLVQhIhywBEiAS2ToayE27e06QTDZdV9HVw1m
 ELfw==
X-Gm-Message-State: AOJu0YzIFWc+HPZ5QAfcr5ke5lvRhJ1Vx7opHRV+rsgoMrUyBbX+M9mu
 pgsztvsRkOHUlXTSMwIX5wxpw+6RaWDDgu0bytF57Mrvm+z2O8XxFLVXqX/bnRNdBNVE36edikQ
 Bma7AX+fe1yWk1X8hbd/MPZ+rVVH3NkdDD5ametjK
X-Google-Smtp-Source: AGHT+IHVjJe4p61Nv3QMlCmdMuAW8CC1Ppq4+h+zUaVuyAR9nhNknQVeXPXRIQgC8uc2H3rGwTnCpg3GSjW0
X-Received: by 2002:a05:6214:334:b0:6a0:b93f:e678 with SMTP id
 6a1803df08f44-6a15cbc452fmr299259326d6.10.1715724586552; 
 Tue, 14 May 2024 15:09:46 -0700 (PDT)
Received: from postal.iol.unh.edu (postal.iol.unh.edu. [132.177.123.84])
 by smtp-relay.gmail.com with ESMTPS id
 6a1803df08f44-6a15f1c6e52sm7138266d6.40.2024.05.14.15.09.46
 (version=TLS1_2 cipher=ECDHE-ECDSA-AES128-GCM-SHA256 bits=128/128);
 Tue, 14 May 2024 15:09:46 -0700 (PDT)
X-Relaying-Domain: iol.unh.edu
Date: Tue, 14 May 2024 15:09:46 -0700 (PDT)
Message-ID: <6643e12a.d40a0220.bfad.9586SMTPIN_ADDED_MISSING@mx.google.com>
Received: from [172.21.0.6] (unknown [172.18.0.240])
 by postal.iol.unh.edu (Postfix) with ESMTP id D2D9C605C373;
 Tue, 14 May 2024 18:09:45 -0400 (EDT)
Subject: |SUCCESS| pw140075-140118 [PATCH] [v6,45/45] app/test-bbdev: use rte
From: dpdklab@iol.unh.edu
To: Test Report <test-report@dpdk.org>
Cc: dpdk-test-reports@iol.unh.edu
In-Reply-To: <1715704559-15839-46-git-send-email-roretzla@linux.microsoft.com>
References: <1715704559-15839-46-git-send-email-roretzla@linux.microsoft.com>
Content-Type: text/plain
X-BeenThere: test-report@dpdk.org
X-Mailman-Version: 2.1.29
Precedence: list
List-Id: automatic DPDK test reports <test-report.dpdk.org>
List-Unsubscribe: <https://mails.dpdk.org/options/test-report>,
 <mailto:test-report-request@dpdk.org?subject=unsubscribe>
List-Archive: <http://mails.dpdk.org/archives/test-report/>
List-Post: <mailto:test-report@dpdk.org>
List-Help: <mailto:test-report-request@dpdk.org?subject=help>
List-Subscribe: <https://mails.dpdk.org/listinfo/test-report>,
 <mailto:test-report-request@dpdk.org?subject=subscribe>
Errors-To: test-report-bounces@dpdk.org

Test-Label: iol-compile-arm64-testing
Test-Status: SUCCESS
http://dpdk.org/patch/140118

_Testing PASS_

Submitter: Tyler Retzlaff <roretzla@linux.microsoft.com>
Date: Tuesday, May 14 2024 16:35:59 
DPDK git baseline: Repo:dpdk
  Branch: master
  CommitID:7e06c0de1952d3109a5b0c4779d7e7d8059c9d78

140075-140118 --> testing pass

Test environment and result as below:

+----------------------------------------+--------------------+
|              Environment               | dpdk_meson_compile |
+========================================+====================+
| Ubuntu 20.04 aarch32 GCC Cross Compile | PASS               |
+----------------------------------------+--------------------+
| CentOS Stream 9 (ARM)                  | PASS               |
+----------------------------------------+--------------------+
| Ubuntu 20.04 ARM Clang Cross Compile   | PASS               |
+----------------------------------------+--------------------+
| Debian 12 (arm)                        | PASS               |
+----------------------------------------+--------------------+
| Ubuntu 20.04 (ARM)                     | PASS               |
+----------------------------------------+--------------------+
| Debian 11 (Buster) (ARM)               | PASS               |
+----------------------------------------+--------------------+
| Fedora 39 (ARM)                        | PASS               |
+----------------------------------------+--------------------+


Ubuntu 20.04 aarch32 GCC Cross Compile
	Kernel: 5.4.0-167-generic
	Compiler: gcc 9.4.0

CentOS Stream 9 (ARM)
	Kernel: Container Host Kernel
	Compiler: gcc 11.4.1

Ubuntu 20.04 ARM Clang Cross Compile
	Kernel: 5.4.0-72-generic
	Compiler: clang 10.0.0-4ubuntu1

Debian 12 (arm)
	Kernel: Container Host Kernel
	Compiler: gcc 12.2.0

Ubuntu 20.04 (ARM)
	Kernel: Container Host Kernel
	Compiler: gcc 9.4.0

Debian 11 (Buster) (ARM)
	Kernel: Container Host Kernel
	Compiler: gcc 10.2.1

Fedora 39 (ARM)
	Kernel: Depends on container host
	Compiler: gcc 13.2.1

To view detailed results, visit:
https://lab.dpdk.org/results/dashboard/patchsets/29960/

UNH-IOL DPDK Community Lab

To manage your email subscriptions, visit: 
https://lab.dpdk.org/results/dashboard/preferences/subscriptions/