From mboxrd@z Thu Jan  1 00:00:00 1970
Return-Path: <test-report-bounces@dpdk.org>
Received: from mails.dpdk.org (mails.dpdk.org [217.70.189.124])
	by inbox.dpdk.org (Postfix) with ESMTP id 2CB344402F
	for <public@inbox.dpdk.org>; Wed, 15 May 2024 01:07:28 +0200 (CEST)
Received: from mails.dpdk.org (localhost [127.0.0.1])
	by mails.dpdk.org (Postfix) with ESMTP id 26FA44029E;
	Wed, 15 May 2024 01:07:28 +0200 (CEST)
Received: from mail-ua1-f98.google.com (mail-ua1-f98.google.com
 [209.85.222.98]) by mails.dpdk.org (Postfix) with ESMTP id D00E64025C
 for <test-report@dpdk.org>; Wed, 15 May 2024 01:07:26 +0200 (CEST)
Received: by mail-ua1-f98.google.com with SMTP id
 a1e0cc1a2514c-7ebe09eb289so2275350241.2
 for <test-report@dpdk.org>; Tue, 14 May 2024 16:07:26 -0700 (PDT)
DKIM-Signature: v=1; a=rsa-sha256; c=relaxed/relaxed;
 d=iol.unh.edu; s=unh-iol; t=1715728046; x=1716332846; darn=dpdk.org;
 h=references:in-reply-to:cc:to:from:subject:message-id:date:from:to
 :cc:subject:date:message-id:reply-to;
 bh=1Sa33yZmmRa7N8W1cxgrePkpT4Qs0/feBxCbykFxVuI=;
 b=VRxmxn+1FFz90Cg0sDW57LPPKDpC/8cf1n2iZvbmjjoU4U9X410F8AaNoQXadPQoHG
 SLgnpYWVfaFu0XyUWEAXKC+Q4WjjK4/wba8iOsNuyU9iYd9jMpR7+IQ4e+eM1SuKmt0Y
 EtaS25f0RQ4TRpTFuaGaSrFZ7/Tpf0YCCOjbE=
X-Google-DKIM-Signature: v=1; a=rsa-sha256; c=relaxed/relaxed;
 d=1e100.net; s=20230601; t=1715728046; x=1716332846;
 h=references:in-reply-to:cc:to:from:subject:message-id:date
 :x-gm-message-state:from:to:cc:subject:date:message-id:reply-to;
 bh=1Sa33yZmmRa7N8W1cxgrePkpT4Qs0/feBxCbykFxVuI=;
 b=vOPCEprqnERBUyioxuRlqA67/XF1KWLG9P8Y8x36k3gsZqMK7ha4CuLiqNuK6vS50c
 9Q6f5hwwOTMlUg39cphHBK7f5/HUK3IJDYMXQVPeS79j3g7ASX9zQl0QmM+nV+g27TIE
 63X24IftLa4Ex6j4FWO7GzhhYaO1mmDGi+REboFe+QoouVwjwTRovrkEAFWkMkPLQFb8
 YsTpUgLPHa/xm6VIe1G0pP0Y4PkQK26ecodXgbbYPpIciVKJ/KVw81F6DhRX2UAYqBKP
 uMagt3ZYrdHJje+Q1IDYvHSbzRu/FY9HP13y54wqEafPNy2WFKe3rEZFjRmTNryjUDeg
 wkfg==
X-Gm-Message-State: AOJu0Yx/82Q0OpqDGwXar9y//7/3PyU29yfl09g+G2go3SRn/ye4Wdw1
 juJD9LFmpr/wX/bMwGBLx3iZyEAv4/QHuG4P5200iJ+8+TIe0S21fofebibBVjLHwr/+QSooqH8
 Yq5/jRSHeKdVbkhaqrWqc/jNjrmHoYnVUXD3ymGkxBaF+/evjAC1EdRYk
X-Google-Smtp-Source: AGHT+IFIK+itD67CdgZwH5sB/P83xknPA9Gh5Aar6u7HdVjGDLTfCEA7Um8BEAgkJKNxRQ/2Y7pDkD4gQlGO
X-Received: by 2002:a05:6102:2acc:b0:47e:f686:ccf with SMTP id
 ada2fe7eead31-48077e83663mr15006558137.23.1715728046110; 
 Tue, 14 May 2024 16:07:26 -0700 (PDT)
Received: from postal.iol.unh.edu (postal.iol.unh.edu.
 [2606:4100:3880:1234::84]) by smtp-relay.gmail.com with ESMTPS id
 a1e0cc1a2514c-7f8ffa0589esm640287241.7.2024.05.14.16.07.26
 (version=TLS1_2 cipher=ECDHE-ECDSA-AES128-GCM-SHA256 bits=128/128);
 Tue, 14 May 2024 16:07:26 -0700 (PDT)
X-Relaying-Domain: iol.unh.edu
Date: Tue, 14 May 2024 16:07:26 -0700 (PDT)
Message-ID: <6643eeae.b00a0220.e9235.31cfSMTPIN_ADDED_MISSING@mx.google.com>
Received: from [172.21.0.6] (unknown [172.18.0.240])
 by postal.iol.unh.edu (Postfix) with ESMTP id BB205605C373;
 Tue, 14 May 2024 19:07:25 -0400 (EDT)
Subject: |SUCCESS| pw140075-140118 [PATCH] [v6,45/45] app/test-bbdev: use rte
From: dpdklab@iol.unh.edu
To: Test Report <test-report@dpdk.org>
Cc: dpdk-test-reports@iol.unh.edu
In-Reply-To: <1715704559-15839-46-git-send-email-roretzla@linux.microsoft.com>
References: <1715704559-15839-46-git-send-email-roretzla@linux.microsoft.com>
Content-Type: text/plain
X-BeenThere: test-report@dpdk.org
X-Mailman-Version: 2.1.29
Precedence: list
List-Id: automatic DPDK test reports <test-report.dpdk.org>
List-Unsubscribe: <https://mails.dpdk.org/options/test-report>,
 <mailto:test-report-request@dpdk.org?subject=unsubscribe>
List-Archive: <http://mails.dpdk.org/archives/test-report/>
List-Post: <mailto:test-report@dpdk.org>
List-Help: <mailto:test-report-request@dpdk.org?subject=help>
List-Subscribe: <https://mails.dpdk.org/listinfo/test-report>,
 <mailto:test-report-request@dpdk.org?subject=subscribe>
Errors-To: test-report-bounces@dpdk.org

Test-Label: iol-compile-arm64-testing
Test-Status: SUCCESS
http://dpdk.org/patch/140118

_Testing PASS_

Submitter: Tyler Retzlaff <roretzla@linux.microsoft.com>
Date: Tuesday, May 14 2024 16:35:59 
DPDK git baseline: Repo:dpdk
  Branch: master
  CommitID:7e06c0de1952d3109a5b0c4779d7e7d8059c9d78

140075-140118 --> testing pass

Test environment and result as below:

+----------------------------------------+--------------------+
|              Environment               | dpdk_meson_compile |
+========================================+====================+
| Ubuntu 20.04 aarch32 GCC Cross Compile | PASS               |
+----------------------------------------+--------------------+
| CentOS Stream 9 (ARM)                  | PASS               |
+----------------------------------------+--------------------+
| Ubuntu 20.04 ARM Clang Cross Compile   | PASS               |
+----------------------------------------+--------------------+
| Debian 12 (arm)                        | PASS               |
+----------------------------------------+--------------------+
| Ubuntu 20.04 (ARM)                     | PASS               |
+----------------------------------------+--------------------+
| Debian 11 (Buster) (ARM)               | PASS               |
+----------------------------------------+--------------------+
| Fedora 39 (ARM)                        | PASS               |
+----------------------------------------+--------------------+
| Ubuntu 20.04 ARM SVE                   | PASS               |
+----------------------------------------+--------------------+
| Debian 12 with MUSDK                   | PASS               |
+----------------------------------------+--------------------+
| Fedora 38 (ARM)                        | PASS               |
+----------------------------------------+--------------------+
| Fedora 37 (ARM)                        | PASS               |
+----------------------------------------+--------------------+


Ubuntu 20.04 aarch32 GCC Cross Compile
	Kernel: 5.4.0-167-generic
	Compiler: gcc 9.4.0

CentOS Stream 9 (ARM)
	Kernel: Container Host Kernel
	Compiler: gcc 11.4.1

Ubuntu 20.04 ARM Clang Cross Compile
	Kernel: 5.4.0-72-generic
	Compiler: clang 10.0.0-4ubuntu1

Debian 12 (arm)
	Kernel: Container Host Kernel
	Compiler: gcc 12.2.0

Ubuntu 20.04 (ARM)
	Kernel: Container Host Kernel
	Compiler: gcc 9.4.0

Debian 11 (Buster) (ARM)
	Kernel: Container Host Kernel
	Compiler: gcc 10.2.1

Fedora 39 (ARM)
	Kernel: Depends on container host
	Compiler: gcc 13.2.1

Ubuntu 20.04 ARM SVE
	Kernel: 5.4.0-167-generic
	Compiler: gcc (Ubuntu 10.5.0-1ubuntu1~20.04) 10.5.0

Debian 12 with MUSDK
	Kernel: Container Host Kernel
	Compiler: gcc 12.2.0

Fedora 38 (ARM)
	Kernel: Depends on container host
	Compiler: gcc 13.2.1

Fedora 37 (ARM)
	Kernel: Depends on container host
	Compiler: gcc 12.3.1

To view detailed results, visit:
https://lab.dpdk.org/results/dashboard/patchsets/29960/

UNH-IOL DPDK Community Lab

To manage your email subscriptions, visit: 
https://lab.dpdk.org/results/dashboard/preferences/subscriptions/