From mboxrd@z Thu Jan  1 00:00:00 1970
Return-Path: <test-report-bounces@dpdk.org>
Received: from mails.dpdk.org (mails.dpdk.org [217.70.189.124])
	by inbox.dpdk.org (Postfix) with ESMTP id 10F9B4402F
	for <public@inbox.dpdk.org>; Wed, 15 May 2024 01:09:50 +0200 (CEST)
Received: from mails.dpdk.org (localhost [127.0.0.1])
	by mails.dpdk.org (Postfix) with ESMTP id 05C9C4029E;
	Wed, 15 May 2024 01:09:50 +0200 (CEST)
Received: from mail-yw1-f225.google.com (mail-yw1-f225.google.com
 [209.85.128.225])
 by mails.dpdk.org (Postfix) with ESMTP id 752EC4025C
 for <test-report@dpdk.org>; Wed, 15 May 2024 01:09:48 +0200 (CEST)
Received: by mail-yw1-f225.google.com with SMTP id
 00721157ae682-61b2218ab6fso50929517b3.1
 for <test-report@dpdk.org>; Tue, 14 May 2024 16:09:48 -0700 (PDT)
DKIM-Signature: v=1; a=rsa-sha256; c=relaxed/relaxed;
 d=iol.unh.edu; s=unh-iol; t=1715728188; x=1716332988; darn=dpdk.org;
 h=references:in-reply-to:cc:to:from:subject:message-id:date:from:to
 :cc:subject:date:message-id:reply-to;
 bh=cuykIkgjuGROLRQSbAoI5ZTLy5cxXpVDiap6DTf+4ek=;
 b=Ffgcm2i8064FRnQI1ZYQ4bduQD0eaE8NbWYzdlKnDPPYVwrtTzlI+Oa3gllOMqNm8s
 PMaJXpXEaq4D/aSO0AZYBfAuLWmnc4fBuF4uebPJlKxAfHS0IsX4FGiVQIJlvdQ/xPR7
 OTYZJhFF/v1Im1NF8d73nXKqmjJzY1clcwFsE=
X-Google-DKIM-Signature: v=1; a=rsa-sha256; c=relaxed/relaxed;
 d=1e100.net; s=20230601; t=1715728188; x=1716332988;
 h=references:in-reply-to:cc:to:from:subject:message-id:date
 :x-gm-message-state:from:to:cc:subject:date:message-id:reply-to;
 bh=cuykIkgjuGROLRQSbAoI5ZTLy5cxXpVDiap6DTf+4ek=;
 b=dhYvkxXzCCVnh2VdYo/JwJRg71DYzXoY/8SHqkH5KilQywH6Yf5jDkyEl1gByafM+w
 c0GOsah6waEUiNtXCFFp+sJV2pVxX54nGxzTUchUQPJvMekia9FgCmzYlQMTaiIQnX7k
 OvX64+d2hdztUt/V8lxfDPXrLTgXQ+NLh220gRlTh38ccKMpujAwtFCrnAC8oKgkDmyJ
 RSFgzbU34FpBOE9ZcliP2R/FkEsPvPP8GYQ1fqgfJxP5IIIwfR3dCaSAZyoWTyfbcxWI
 sSZZZnShBOeew2RL7xGTJPRrbUqEACmnPAcXoTsxt7VEi7BQLVm5uahDSebBmR3zgzJu
 k/dg==
X-Gm-Message-State: AOJu0YzSfpj8BIZhtBqPMfGa/KtmAc8L01nS6Gf3lr5rtg2ZFoPLOS2c
 PewUCPKPAlV8TGy+6yBzmGMhIkuZb6bb8jefv2F4Xuj+QtZ3s/9SulW6buI0pknTocAjtYtpz67
 VplbjtD2M/znOlT/Si+KmiGdkUOk0tHnmLbg5Jy7F
X-Google-Smtp-Source: AGHT+IHnFuuHF0+gc1ttatBiG58Cr+cP5HQDF6vyDOW/rA4E1OYjRw/8B8UNKV2F7kNOofg+gbzTBjhXSzDd
X-Received: by 2002:a05:690c:3504:b0:618:e5c:f7a with SMTP id
 00721157ae682-622affccf2bmr140317927b3.33.1715728187869; 
 Tue, 14 May 2024 16:09:47 -0700 (PDT)
Received: from postal.iol.unh.edu (postal.iol.unh.edu. [132.177.123.84])
 by smtp-relay.gmail.com with ESMTPS id
 00721157ae682-6209e591664sm9221527b3.76.2024.05.14.16.09.47
 (version=TLS1_2 cipher=ECDHE-ECDSA-AES128-GCM-SHA256 bits=128/128);
 Tue, 14 May 2024 16:09:47 -0700 (PDT)
X-Relaying-Domain: iol.unh.edu
Date: Tue, 14 May 2024 16:09:47 -0700 (PDT)
Message-ID: <6643ef3b.0d0a0220.bd36f.8052SMTPIN_ADDED_MISSING@mx.google.com>
Received: from [172.21.0.6] (unknown [172.18.0.240])
 by postal.iol.unh.edu (Postfix) with ESMTP id 8C122605C373;
 Tue, 14 May 2024 19:09:47 -0400 (EDT)
Subject: |SUCCESS| pw140075-140118 [PATCH] [v6,45/45] app/test-bbdev: use rte
From: dpdklab@iol.unh.edu
To: Test Report <test-report@dpdk.org>
Cc: dpdk-test-reports@iol.unh.edu
In-Reply-To: <1715704559-15839-46-git-send-email-roretzla@linux.microsoft.com>
References: <1715704559-15839-46-git-send-email-roretzla@linux.microsoft.com>
Content-Type: text/plain
X-BeenThere: test-report@dpdk.org
X-Mailman-Version: 2.1.29
Precedence: list
List-Id: automatic DPDK test reports <test-report.dpdk.org>
List-Unsubscribe: <https://mails.dpdk.org/options/test-report>,
 <mailto:test-report-request@dpdk.org?subject=unsubscribe>
List-Archive: <http://mails.dpdk.org/archives/test-report/>
List-Post: <mailto:test-report@dpdk.org>
List-Help: <mailto:test-report-request@dpdk.org?subject=help>
List-Subscribe: <https://mails.dpdk.org/listinfo/test-report>,
 <mailto:test-report-request@dpdk.org?subject=subscribe>
Errors-To: test-report-bounces@dpdk.org

Test-Label: iol-abi-testing
Test-Status: SUCCESS
http://dpdk.org/patch/140118

_Testing PASS_

Submitter: Tyler Retzlaff <roretzla@linux.microsoft.com>
Date: Tuesday, May 14 2024 16:35:59 
DPDK git baseline: Repo:dpdk
  Branch: master
  CommitID:7e06c0de1952d3109a5b0c4779d7e7d8059c9d78

140075-140118 --> testing pass

Test environment and result as below:

+------------------+----------+
|   Environment    | abi_test |
+==================+==========+
| CentOS Stream 9  | PASS     |
+------------------+----------+
| Debian Bullseye  | PASS     |
+------------------+----------+
| Debian 12        | PASS     |
+------------------+----------+
| CentOS Stream 8  | PASS     |
+------------------+----------+
| openSUSE Leap 15 | PASS     |
+------------------+----------+
| Fedora 38        | PASS     |
+------------------+----------+
| Fedora 37        | PASS     |
+------------------+----------+


CentOS Stream 9
	Kernel: 5.4.0-167-generic
	Compiler: gcc 11.4.1 20230605

Debian Bullseye
	Kernel: 5.4.0-167-generic
	Compiler: gcc 10.2.1-6

Debian 12
	Kernel: Container Host Kernel
	Compiler: gcc 10.2.1

CentOS Stream 8
	Kernel: 5.4.0-167-generic
	Compiler: gcc 8.5.0 20210514

openSUSE Leap 15
	Kernel: 5.4.0-167-generic
	Compiler: gcc 7.5.0

Fedora 38
	Kernel: Depends on container host
	Compiler: gcc 13.2.1

Fedora 37
	Kernel: Depends on container host system
	Compiler: gcc 12.3.1

To view detailed results, visit:
https://lab.dpdk.org/results/dashboard/patchsets/29960/

UNH-IOL DPDK Community Lab

To manage your email subscriptions, visit: 
https://lab.dpdk.org/results/dashboard/preferences/subscriptions/