From mboxrd@z Thu Jan  1 00:00:00 1970
Return-Path: <test-report-bounces@dpdk.org>
Received: from mails.dpdk.org (mails.dpdk.org [217.70.189.124])
	by inbox.dpdk.org (Postfix) with ESMTP id 35A8E4402F
	for <public@inbox.dpdk.org>; Wed, 15 May 2024 01:19:54 +0200 (CEST)
Received: from mails.dpdk.org (localhost [127.0.0.1])
	by mails.dpdk.org (Postfix) with ESMTP id 093A84029E;
	Wed, 15 May 2024 01:19:54 +0200 (CEST)
Received: from mail-qv1-f100.google.com (mail-qv1-f100.google.com
 [209.85.219.100])
 by mails.dpdk.org (Postfix) with ESMTP id 4F9754025C
 for <test-report@dpdk.org>; Wed, 15 May 2024 01:19:52 +0200 (CEST)
Received: by mail-qv1-f100.google.com with SMTP id
 6a1803df08f44-6a0ff97a9c7so55171356d6.0
 for <test-report@dpdk.org>; Tue, 14 May 2024 16:19:52 -0700 (PDT)
DKIM-Signature: v=1; a=rsa-sha256; c=relaxed/relaxed;
 d=iol.unh.edu; s=unh-iol; t=1715728791; x=1716333591; darn=dpdk.org;
 h=references:in-reply-to:cc:to:from:subject:message-id:date:from:to
 :cc:subject:date:message-id:reply-to;
 bh=5SmTIWBQ4OTKi+iAIRrJXmTaGVM6+7tTjdPBrBqOBBU=;
 b=aoGyoKGNTJGTuapGV7btOT4K+abbH4bhxorZJn8eIX1m6PrKxZx9Qoi+84MnaJJi0w
 +1nyJaHwYQAkqgoRMz6o3Fh2pvYsh4VoXa1DRVT6BeT1F/ntH5tjPxHnvg9t6mdkpLv2
 s3QKDdevSvW1i5zCEW9xoyJ0o/Pehdc0oeKH0=
X-Google-DKIM-Signature: v=1; a=rsa-sha256; c=relaxed/relaxed;
 d=1e100.net; s=20230601; t=1715728791; x=1716333591;
 h=references:in-reply-to:cc:to:from:subject:message-id:date
 :x-gm-message-state:from:to:cc:subject:date:message-id:reply-to;
 bh=5SmTIWBQ4OTKi+iAIRrJXmTaGVM6+7tTjdPBrBqOBBU=;
 b=RHgVBCtekBtvJnrSCaTsSfTvxZqXRdK+93MC5Phc/vTPeyQlAdkuoPbbQfkHaIZzvL
 7Ll/Z0hA9V1pdIYHWnBEppaztBsi5S1pI8+kQ19A2tkKHoXQEXtl/EF3/wdsi8V0ja9a
 AwHYii9aLUCHqBHp3aICCaGXlNB2i/3dr1do/FJCvSnuhIcJd5RORC0CxnIg4Jherqjk
 JnOAxisnk6FmdPkh1j1FEMoVHxe1vcKy4q5suIOq+fr3O0FsBvnSfxPr+NdMCEZnc8zq
 V4p4/o94sPzgT+JiOXcoLSIil/pEWhpVvEKfeA9fK5KiZ2yTguA0nlWNwrIbt3/nnZAO
 3pqQ==
X-Gm-Message-State: AOJu0YwVcDg3TBZfQZfbsUxWVYk0sAT1mF8qo3tsmqzq9kbzBtphqaG6
 Ut5oI8oq1CRTju7Wi5bLsY3BQQYeh8sMuTwg+AJ+tAY75ErRCquPW0dTJfDzTfvLmdzuiqtuBjf
 8htGAlSDNIPno148YhsD3C1ePQuV0fzAcNiORWn8u
X-Google-Smtp-Source: AGHT+IEqJXjPdXaJ9rdencO6NHwSe/3+8j5XneOqnCs0nB3WtapDlZmDHIxGbfAt+ICoaPEXiXIHqIow8n0E
X-Received: by 2002:a05:6214:2dc1:b0:6a0:a4db:b297 with SMTP id
 6a1803df08f44-6a16798c9c4mr252763746d6.23.1715728791657; 
 Tue, 14 May 2024 16:19:51 -0700 (PDT)
Received: from postal.iol.unh.edu (postal.iol.unh.edu. [132.177.123.84])
 by smtp-relay.gmail.com with ESMTPS id
 6a1803df08f44-6a15f1b6ae2sm7459576d6.17.2024.05.14.16.19.51
 (version=TLS1_2 cipher=ECDHE-ECDSA-AES128-GCM-SHA256 bits=128/128);
 Tue, 14 May 2024 16:19:51 -0700 (PDT)
X-Relaying-Domain: iol.unh.edu
Date: Tue, 14 May 2024 16:19:51 -0700 (PDT)
Message-ID: <6643f197.d40a0220.5af7a.b039SMTPIN_ADDED_MISSING@mx.google.com>
Received: from [172.21.0.6] (unknown [172.18.0.240])
 by postal.iol.unh.edu (Postfix) with ESMTP id 02F4B605C373;
 Tue, 14 May 2024 19:19:51 -0400 (EDT)
Subject: |SUCCESS| pw140067-140073 [PATCH] [v3,7/7] net/tap: use generic SW s
From: dpdklab@iol.unh.edu
To: Test Report <test-report@dpdk.org>
Cc: dpdk-test-reports@iol.unh.edu
In-Reply-To: <20240514153845.42489-8-stephen@networkplumber.org>
References: <20240514153845.42489-8-stephen@networkplumber.org>
Content-Type: text/plain
X-BeenThere: test-report@dpdk.org
X-Mailman-Version: 2.1.29
Precedence: list
List-Id: automatic DPDK test reports <test-report.dpdk.org>
List-Unsubscribe: <https://mails.dpdk.org/options/test-report>,
 <mailto:test-report-request@dpdk.org?subject=unsubscribe>
List-Archive: <http://mails.dpdk.org/archives/test-report/>
List-Post: <mailto:test-report@dpdk.org>
List-Help: <mailto:test-report-request@dpdk.org?subject=help>
List-Subscribe: <https://mails.dpdk.org/listinfo/test-report>,
 <mailto:test-report-request@dpdk.org?subject=subscribe>
Errors-To: test-report-bounces@dpdk.org

Test-Label: iol-abi-testing
Test-Status: SUCCESS
http://dpdk.org/patch/140073

_Testing PASS_

Submitter: Stephen Hemminger <stephen@networkplumber.org>
Date: Tuesday, May 14 2024 15:35:10 
DPDK git baseline: Repo:dpdk
  Branch: master
  CommitID:7e06c0de1952d3109a5b0c4779d7e7d8059c9d78

140067-140073 --> testing pass

Test environment and result as below:

+------------------+----------+
|   Environment    | abi_test |
+==================+==========+
| Debian 12        | PASS     |
+------------------+----------+
| CentOS Stream 9  | PASS     |
+------------------+----------+
| RHEL8            | PASS     |
+------------------+----------+
| Fedora 38        | PASS     |
+------------------+----------+
| Fedora 39        | PASS     |
+------------------+----------+
| Ubuntu 22.04     | PASS     |
+------------------+----------+
| openSUSE Leap 15 | PASS     |
+------------------+----------+
| Fedora 37        | PASS     |
+------------------+----------+
| Debian Bullseye  | PASS     |
+------------------+----------+
| CentOS Stream 8  | PASS     |
+------------------+----------+


Debian 12
	Kernel: Container Host Kernel
	Compiler: gcc 10.2.1

CentOS Stream 9
	Kernel: 5.4.0-167-generic
	Compiler: gcc 11.4.1 20230605

RHEL8
	Kernel: 5.4.0-167-generic
	Compiler: gcc 8.5.0 20210514 (Red Hat 8.5.0-20)

Fedora 38
	Kernel: Depends on container host
	Compiler: clang 16.0.6

Fedora 39
	Kernel: Depends on container host
	Compiler: clang 17.0.6

Ubuntu 22.04
	Kernel: 5.4.0-167-generic
	Compiler: gcc 11.4.0

openSUSE Leap 15
	Kernel: 5.4.0-167-generic
	Compiler: gcc 7.5.0

Fedora 37
	Kernel: Depends on container host system
	Compiler: gcc 12.3.1

Debian Bullseye
	Kernel: 5.4.0-167-generic
	Compiler: gcc 10.2.1-6

CentOS Stream 8
	Kernel: 5.4.0-167-generic
	Compiler: gcc 8.5.0 20210514

To view detailed results, visit:
https://lab.dpdk.org/results/dashboard/patchsets/29959/

UNH-IOL DPDK Community Lab

To manage your email subscriptions, visit: 
https://lab.dpdk.org/results/dashboard/preferences/subscriptions/