From mboxrd@z Thu Jan  1 00:00:00 1970
Return-Path: <test-report-bounces@dpdk.org>
Received: from mails.dpdk.org (mails.dpdk.org [217.70.189.124])
	by inbox.dpdk.org (Postfix) with ESMTP id AD10C4402F
	for <public@inbox.dpdk.org>; Wed, 15 May 2024 01:26:26 +0200 (CEST)
Received: from mails.dpdk.org (localhost [127.0.0.1])
	by mails.dpdk.org (Postfix) with ESMTP id A7B6E4029E;
	Wed, 15 May 2024 01:26:26 +0200 (CEST)
Received: from mail-ot1-f97.google.com (mail-ot1-f97.google.com
 [209.85.210.97]) by mails.dpdk.org (Postfix) with ESMTP id DD9074025C
 for <test-report@dpdk.org>; Wed, 15 May 2024 01:26:24 +0200 (CEST)
Received: by mail-ot1-f97.google.com with SMTP id
 46e09a7af769-6f0f08916c0so1760530a34.1
 for <test-report@dpdk.org>; Tue, 14 May 2024 16:26:24 -0700 (PDT)
DKIM-Signature: v=1; a=rsa-sha256; c=relaxed/relaxed;
 d=iol.unh.edu; s=unh-iol; t=1715729184; x=1716333984; darn=dpdk.org;
 h=references:in-reply-to:cc:to:from:subject:message-id:date:from:to
 :cc:subject:date:message-id:reply-to;
 bh=OgFP/zIyd8rtdNXEsPM5k/+ydvzlipvPvOzNDSNbvww=;
 b=BeKgN3q1pekvNlqUHuTAtV5tUGp3Z0orFkAoIbkRZf5VmEahNPAAj/IfBYMQM7GE5R
 ZVSsfx8dIIS5ByvRUswyfsmgpt7j7W1kSV8aXPuFLDyo6r5wyb9Se8etZJgf8t1vjv9c
 TahKs+d9ulVQnCuv/PlqZNx8IRuyGI4/dRpgA=
X-Google-DKIM-Signature: v=1; a=rsa-sha256; c=relaxed/relaxed;
 d=1e100.net; s=20230601; t=1715729184; x=1716333984;
 h=references:in-reply-to:cc:to:from:subject:message-id:date
 :x-gm-message-state:from:to:cc:subject:date:message-id:reply-to;
 bh=OgFP/zIyd8rtdNXEsPM5k/+ydvzlipvPvOzNDSNbvww=;
 b=JwsxQDGZrbw7qFpojneMZBi+Q8Ruqv6ZwGbinzFKin76KCuEmrM30QOF3SVLRV6zNJ
 UdrIvN5caESmC2bdpdNeBiiAqGwILFV8HWVAR0kF8fERiS16iNY/PChzqfv/n+qwdC4/
 qTjZwlrWuOIhgjNmwdiaw6Lhtn2W8gmZcmHKjlZGwvoa7wxDmYayqktaX33pQnbNAF0L
 5isXy6NxtP3iCjWzUPX2IxEPjTerQSNcB5MbgaE5fAVf2DGGSzJAswhiS2MWhF6iVEW4
 sB51RnoyCtPu3xcaFc/ngbOgZ/PMerUjP4hoMP8SeHFlY4fRAcAbwRvx8c7Iqj+0nuwD
 9Udg==
X-Gm-Message-State: AOJu0YzNwylRLi7NvK3JQQ2+lJ/NkpkMJ6Gd5gh5ts5hHpgPiEnXzepv
 q5O5miVSbgXDUvwn1jUE7hhcduW59B9veZA425NVe/poOqyxpEaUWEydZ7n9l0JW6/G7tI1fbzj
 JJcKZYm5PHlB6eqoiHgRHyVwNamghc5cdQpNAyozo
X-Google-Smtp-Source: AGHT+IGX02T+++MOnPOcsbgzEYLxcsmhQnd0yvzcrq/WKSlWJ+7QeoUO11fpTX7YeMuhCIO/C0521XI9uDSI
X-Received: by 2002:a9d:5a13:0:b0:6f0:f3b0:1644 with SMTP id
 46e09a7af769-6f0f3b01694mr4690400a34.14.1715729184263; 
 Tue, 14 May 2024 16:26:24 -0700 (PDT)
Received: from postal.iol.unh.edu (postal.iol.unh.edu. [132.177.123.84])
 by smtp-relay.gmail.com with ESMTPS id
 006d021491bc7-5b2d7198477sm158026eaf.6.2024.05.14.16.26.24
 (version=TLS1_2 cipher=ECDHE-ECDSA-AES128-GCM-SHA256 bits=128/128);
 Tue, 14 May 2024 16:26:24 -0700 (PDT)
X-Relaying-Domain: iol.unh.edu
Date: Tue, 14 May 2024 16:26:24 -0700 (PDT)
Message-ID: <6643f320.050a0220.c69a6.8fd3SMTPIN_ADDED_MISSING@mx.google.com>
Received: from [172.21.0.7] (unknown [172.18.0.240])
 by postal.iol.unh.edu (Postfix) with ESMTP id D2811605C373;
 Tue, 14 May 2024 19:26:23 -0400 (EDT)
Subject: |SUCCESS| pw140075-140118 [PATCH] [v6,45/45] app/test-bbdev: use rte
From: dpdklab@iol.unh.edu
To: Test Report <test-report@dpdk.org>
Cc: dpdk-test-reports@iol.unh.edu
In-Reply-To: <1715704559-15839-46-git-send-email-roretzla@linux.microsoft.com>
References: <1715704559-15839-46-git-send-email-roretzla@linux.microsoft.com>
Content-Type: text/plain
X-BeenThere: test-report@dpdk.org
X-Mailman-Version: 2.1.29
Precedence: list
List-Id: automatic DPDK test reports <test-report.dpdk.org>
List-Unsubscribe: <https://mails.dpdk.org/options/test-report>,
 <mailto:test-report-request@dpdk.org?subject=unsubscribe>
List-Archive: <http://mails.dpdk.org/archives/test-report/>
List-Post: <mailto:test-report@dpdk.org>
List-Help: <mailto:test-report-request@dpdk.org?subject=help>
List-Subscribe: <https://mails.dpdk.org/listinfo/test-report>,
 <mailto:test-report-request@dpdk.org?subject=subscribe>
Errors-To: test-report-bounces@dpdk.org

Test-Label: iol-compile-arm64-testing
Test-Status: SUCCESS
http://dpdk.org/patch/140118

_Testing PASS_

Submitter: Tyler Retzlaff <roretzla@linux.microsoft.com>
Date: Tuesday, May 14 2024 16:35:59 
DPDK git baseline: Repo:dpdk
  Branch: master
  CommitID:7e06c0de1952d3109a5b0c4779d7e7d8059c9d78

140075-140118 --> testing pass

Test environment and result as below:

+----------------------------------------+--------------------+
|              Environment               | dpdk_meson_compile |
+========================================+====================+
| Ubuntu 20.04 aarch32 GCC Cross Compile | PASS               |
+----------------------------------------+--------------------+
| CentOS Stream 9 (ARM)                  | PASS               |
+----------------------------------------+--------------------+
| Ubuntu 20.04 ARM Clang Cross Compile   | PASS               |
+----------------------------------------+--------------------+
| Debian 12 (arm)                        | PASS               |
+----------------------------------------+--------------------+
| Ubuntu 20.04 (ARM)                     | PASS               |
+----------------------------------------+--------------------+
| Debian 11 (Buster) (ARM)               | PASS               |
+----------------------------------------+--------------------+
| Fedora 39 (ARM)                        | PASS               |
+----------------------------------------+--------------------+
| Ubuntu 20.04 ARM SVE                   | PASS               |
+----------------------------------------+--------------------+
| Debian 12 with MUSDK                   | PASS               |
+----------------------------------------+--------------------+
| Fedora 38 (ARM)                        | PASS               |
+----------------------------------------+--------------------+
| Fedora 37 (ARM)                        | PASS               |
+----------------------------------------+--------------------+
| Ubuntu 20.04 ARM GCC Cross Compile     | PASS               |
+----------------------------------------+--------------------+


Ubuntu 20.04 aarch32 GCC Cross Compile
	Kernel: 5.4.0-167-generic
	Compiler: gcc 9.4.0

CentOS Stream 9 (ARM)
	Kernel: Container Host Kernel
	Compiler: gcc 11.4.1

Ubuntu 20.04 ARM Clang Cross Compile
	Kernel: 5.4.0-72-generic
	Compiler: clang 10.0.0-4ubuntu1

Debian 12 (arm)
	Kernel: Container Host Kernel
	Compiler: gcc 12.2.0

Ubuntu 20.04 (ARM)
	Kernel: Container Host Kernel
	Compiler: gcc 9.4.0

Debian 11 (Buster) (ARM)
	Kernel: Container Host Kernel
	Compiler: gcc 10.2.1

Fedora 39 (ARM)
	Kernel: Depends on container host
	Compiler: gcc 13.2.1

Ubuntu 20.04 ARM SVE
	Kernel: 5.4.0-167-generic
	Compiler: gcc (Ubuntu 10.5.0-1ubuntu1~20.04) 10.5.0

Debian 12 with MUSDK
	Kernel: Container Host Kernel
	Compiler: gcc 12.2.0

Fedora 38 (ARM)
	Kernel: Depends on container host
	Compiler: gcc 13.2.1

Fedora 37 (ARM)
	Kernel: Depends on container host
	Compiler: gcc 12.3.1

Ubuntu 20.04 ARM GCC Cross Compile
	Kernel: 5.4.0-167-generic
	Compiler: aarch64-linux-gnu-gcc (Ubuntu 9.4.0-1ubuntu1~20.04.2) 9.4.0

To view detailed results, visit:
https://lab.dpdk.org/results/dashboard/patchsets/29960/

UNH-IOL DPDK Community Lab

To manage your email subscriptions, visit: 
https://lab.dpdk.org/results/dashboard/preferences/subscriptions/