From mboxrd@z Thu Jan  1 00:00:00 1970
Return-Path: <test-report-bounces@dpdk.org>
Received: from mails.dpdk.org (mails.dpdk.org [217.70.189.124])
	by inbox.dpdk.org (Postfix) with ESMTP id AE74944030
	for <public@inbox.dpdk.org>; Wed, 15 May 2024 02:01:29 +0200 (CEST)
Received: from mails.dpdk.org (localhost [127.0.0.1])
	by mails.dpdk.org (Postfix) with ESMTP id AA0404029E;
	Wed, 15 May 2024 02:01:29 +0200 (CEST)
Received: from mail-pl1-f226.google.com (mail-pl1-f226.google.com
 [209.85.214.226])
 by mails.dpdk.org (Postfix) with ESMTP id C07304025C
 for <test-report@dpdk.org>; Wed, 15 May 2024 02:01:28 +0200 (CEST)
Received: by mail-pl1-f226.google.com with SMTP id
 d9443c01a7336-1ecd9a81966so50524555ad.0
 for <test-report@dpdk.org>; Tue, 14 May 2024 17:01:28 -0700 (PDT)
DKIM-Signature: v=1; a=rsa-sha256; c=relaxed/relaxed;
 d=iol.unh.edu; s=unh-iol; t=1715731288; x=1716336088; darn=dpdk.org;
 h=references:in-reply-to:cc:to:from:subject:message-id:date:from:to
 :cc:subject:date:message-id:reply-to;
 bh=+ifp+D9rh7MVngc2aPzhYAj1VLRCeLdIWZ15HQLJ9uE=;
 b=IbDV2ZHORagFTtDN6IklfWZwmvSKlsyHtfFThfBuGG1pv3s0vhI5oY32PVLD2moxYt
 Xh1E8krQ59XiajiFkkIJ6zZ079it5hoeDbNrnvNqDoi9FYRU2xt2vs0I2qCaWlXatZOE
 oTXzQ56gXe67rLvjmlmmrmj/wy/pUK7o92oa4=
X-Google-DKIM-Signature: v=1; a=rsa-sha256; c=relaxed/relaxed;
 d=1e100.net; s=20230601; t=1715731288; x=1716336088;
 h=references:in-reply-to:cc:to:from:subject:message-id:date
 :x-gm-message-state:from:to:cc:subject:date:message-id:reply-to;
 bh=+ifp+D9rh7MVngc2aPzhYAj1VLRCeLdIWZ15HQLJ9uE=;
 b=l0wvvH3f1ZpNkAl+/twgYXihc51lJEcYfrt8Q5Ig+4WAfYFA2QZa0w2J/KBUZFO5N3
 HIBhcjltayO4xovKMX6Iy/+0O2KJhk7BU17+war1HVQk4k/bdYZ6wb9HHY2Vas8eKzNd
 n2G1if0HN+KYgz91VscWDAkN2n4n8r+evCKzOXY7D8ZFioUNgNAHWyUwlDy9x0/NhSEt
 GCrIj0gh86wpDvnNEEoNhaQZr/sSAgz/uLSvw+RR2dZpNWuPeprDMR4y0Y89QAvembYM
 xJ2C8Czm8ErKOvnmayq8R/3s/A8n8l5xVKEtI8WvHGazvX/eGdFGIzJ/H6IWPSPgfTYi
 z4iQ==
X-Gm-Message-State: AOJu0YzfC4YHqsE9o7Y4gqsi5a08MxmIMEYeTGtWrw036P1MoAemCfzE
 DtEO8XkXEXyZsTQ52CZYl75DlHIaqDziBmoEXgplJ1xJ+2AjrOXpHSPZd84HIGtK04Rt/WZ3I7H
 HMPrk6nvMmMdI8hcheNJE20bE628meoN/39Y002wi9VoXc2EwX41AlWhZ
X-Google-Smtp-Source: AGHT+IFxwuX+yZfcCNO0UsN38OjsSfehQkAF9eCn3hsxMYhpz4E9nRopoYqwGAjcUA6wJDdWx4crkjInS6PI
X-Received: by 2002:a17:902:ecc4:b0:1e2:c350:b46a with SMTP id
 d9443c01a7336-1ef4318d6f8mr218097155ad.27.1715731287974; 
 Tue, 14 May 2024 17:01:27 -0700 (PDT)
Received: from postal.iol.unh.edu (postal.iol.unh.edu.
 [2606:4100:3880:1234::84]) by smtp-relay.gmail.com with ESMTPS id
 d9443c01a7336-1ef0b9deb26sm3909445ad.58.2024.05.14.17.01.27
 (version=TLS1_2 cipher=ECDHE-ECDSA-AES128-GCM-SHA256 bits=128/128);
 Tue, 14 May 2024 17:01:27 -0700 (PDT)
X-Relaying-Domain: iol.unh.edu
Date: Tue, 14 May 2024 17:01:27 -0700 (PDT)
Message-ID: <6643fb57.170a0220.77154.799bSMTPIN_ADDED_MISSING@mx.google.com>
Received: from [172.21.0.6] (unknown [172.18.0.240])
 by postal.iol.unh.edu (Postfix) with ESMTP id 12598605C373;
 Tue, 14 May 2024 20:01:27 -0400 (EDT)
Subject: |SUCCESS| pw140067-140073 [PATCH] [v3,7/7] net/tap: use generic SW s
From: dpdklab@iol.unh.edu
To: Test Report <test-report@dpdk.org>
Cc: dpdk-test-reports@iol.unh.edu
In-Reply-To: <20240514153845.42489-8-stephen@networkplumber.org>
References: <20240514153845.42489-8-stephen@networkplumber.org>
Content-Type: text/plain
X-BeenThere: test-report@dpdk.org
X-Mailman-Version: 2.1.29
Precedence: list
List-Id: automatic DPDK test reports <test-report.dpdk.org>
List-Unsubscribe: <https://mails.dpdk.org/options/test-report>,
 <mailto:test-report-request@dpdk.org?subject=unsubscribe>
List-Archive: <http://mails.dpdk.org/archives/test-report/>
List-Post: <mailto:test-report@dpdk.org>
List-Help: <mailto:test-report-request@dpdk.org?subject=help>
List-Subscribe: <https://mails.dpdk.org/listinfo/test-report>,
 <mailto:test-report-request@dpdk.org?subject=subscribe>
Errors-To: test-report-bounces@dpdk.org

Test-Label: iol-compile-amd64-testing
Test-Status: SUCCESS
http://dpdk.org/patch/140073

_Testing PASS_

Submitter: Stephen Hemminger <stephen@networkplumber.org>
Date: Tuesday, May 14 2024 15:35:10 
DPDK git baseline: Repo:dpdk
  Branch: master
  CommitID:7e06c0de1952d3109a5b0c4779d7e7d8059c9d78

140067-140073 --> testing pass

Test environment and result as below:

+---------------------+--------------------+----------------------+-------------------+
|     Environment     | dpdk_meson_compile | dpdk_mingw64_compile | dpdk_msvc_compile |
+=====================+====================+======================+===================+
| FreeBSD 13.3        | PASS               | SKIPPED              | SKIPPED           |
+---------------------+--------------------+----------------------+-------------------+
| Windows Server 2022 | PASS               | PASS                 | PASS              |
+---------------------+--------------------+----------------------+-------------------+
| FreeBSD 14.0        | PASS               | SKIPPED              | SKIPPED           |
+---------------------+--------------------+----------------------+-------------------+
| Windows Server 2019 | PASS               | PASS                 | SKIPPED           |
+---------------------+--------------------+----------------------+-------------------+
| Debian Bullseye     | PASS               | SKIPPED              | SKIPPED           |
+---------------------+--------------------+----------------------+-------------------+
| Debian 12           | PASS               | SKIPPED              | SKIPPED           |
+---------------------+--------------------+----------------------+-------------------+
| Fedora 37           | PASS               | SKIPPED              | SKIPPED           |
+---------------------+--------------------+----------------------+-------------------+
| Fedora 38           | PASS               | SKIPPED              | SKIPPED           |
+---------------------+--------------------+----------------------+-------------------+
| CentOS Stream 8     | PASS               | SKIPPED              | SKIPPED           |
+---------------------+--------------------+----------------------+-------------------+
| Fedora 39           | PASS               | SKIPPED              | SKIPPED           |
+---------------------+--------------------+----------------------+-------------------+
| Ubuntu 20.04        | PASS               | SKIPPED              | SKIPPED           |
+---------------------+--------------------+----------------------+-------------------+
| openSUSE Leap 15    | PASS               | SKIPPED              | SKIPPED           |
+---------------------+--------------------+----------------------+-------------------+
| RHEL8               | PASS               | SKIPPED              | SKIPPED           |
+---------------------+--------------------+----------------------+-------------------+
| Ubuntu 22.04        | PASS               | SKIPPED              | SKIPPED           |
+---------------------+--------------------+----------------------+-------------------+
| CentOS Stream 9     | PASS               | SKIPPED              | SKIPPED           |
+---------------------+--------------------+----------------------+-------------------+


FreeBSD 13.3
	Kernel: 13.3-RELEASE-p1
	Compiler: clang 17.0.6

Windows Server 2022
	Kernel: 10.0.20348.2031
	Compiler: clang 15.0.7, gcc 8.1.0 (MinGW), and MSVC VS 17.9

FreeBSD 14.0
	Kernel: 14.0
	Compiler: clang 16.0.6

Windows Server 2019
	Kernel: 10.0.17763
	Compiler: clang 14.0 and gcc 8.1.0 (MinGW)

Debian Bullseye
	Kernel: 5.4.0-167-generic
	Compiler: gcc 10.2.1-6

Debian 12
	Kernel: Container Host Kernel
	Compiler: gcc 10.2.1

Fedora 37
	Kernel: Depends on container host system
	Compiler: gcc 12.3.1

Fedora 38
	Kernel: Depends on container host
	Compiler: gcc 13.2.1

CentOS Stream 8
	Kernel: 5.4.0-167-generic
	Compiler: gcc 8.5.0 20210514

Fedora 39
	Kernel: Depends on container host
	Compiler: gcc 13.2.1

Ubuntu 20.04
	Kernel: 5.4.0-167-generic
	Compiler: gcc 9.4.0-1ubuntu1~20.04.1

openSUSE Leap 15
	Kernel: 5.4.0-167-generic
	Compiler: gcc 7.5.0

RHEL8
	Kernel: 5.4.0-167-generic
	Compiler: gcc 8.5.0 20210514 (Red Hat 8.5.0-20)

Ubuntu 22.04
	Kernel: 5.4.0-167-generic
	Compiler: gcc 11.4.0

CentOS Stream 9
	Kernel: 5.4.0-167-generic
	Compiler: gcc 11.4.1 20230605

To view detailed results, visit:
https://lab.dpdk.org/results/dashboard/patchsets/29959/

UNH-IOL DPDK Community Lab

To manage your email subscriptions, visit: 
https://lab.dpdk.org/results/dashboard/preferences/subscriptions/