From: dpdklab@iol.unh.edu
To: Test Report <test-report@dpdk.org>
Cc: dpdk-test-reports@iol.unh.edu
Subject: |SUCCESS| pw140139 [PATCH] mempool: dump includes list of memory chu
Date: Thu, 16 May 2024 10:40:37 -0700 (PDT) [thread overview]
Message-ID: <66464515.050a0220.efd34.de6eSMTPIN_ADDED_MISSING@mx.google.com> (raw)
In-Reply-To: <20240516085940.61119-1-mb@smartsharesystems.com>
Test-Label: iol-abi-testing
Test-Status: SUCCESS
http://dpdk.org/patch/140139
_Testing PASS_
Submitter: Morten Brorup <mb@smartsharesystems.com>
Date: Thursday, May 16 2024 08:59:40
DPDK git baseline: Repo:dpdk
Branch: master
CommitID:884f83ccf74b5364430d3b21c653d5f6e359e091
140139 --> testing pass
Test environment and result as below:
+------------------+----------+
| Environment | abi_test |
+==================+==========+
| Fedora 37 | PASS |
+------------------+----------+
| CentOS Stream 9 | PASS |
+------------------+----------+
| Fedora 39 | PASS |
+------------------+----------+
| CentOS Stream 8 | PASS |
+------------------+----------+
| Fedora 38 | PASS |
+------------------+----------+
| Ubuntu 22.04 | PASS |
+------------------+----------+
| RHEL8 | PASS |
+------------------+----------+
| Debian 12 | PASS |
+------------------+----------+
| openSUSE Leap 15 | PASS |
+------------------+----------+
| Debian Bullseye | PASS |
+------------------+----------+
Fedora 37
Kernel: Depends on container host system
Compiler: gcc 12.3.1
CentOS Stream 9
Kernel: 5.4.0-167-generic
Compiler: gcc 11.4.1 20230605
Fedora 39
Kernel: Depends on container host
Compiler: clang 17.0.6
CentOS Stream 8
Kernel: 5.4.0-167-generic
Compiler: gcc 8.5.0 20210514
Fedora 38
Kernel: Depends on container host
Compiler: gcc 13.2.1
Ubuntu 22.04
Kernel: 5.4.0-167-generic
Compiler: gcc 11.4.0
RHEL8
Kernel: 5.4.0-167-generic
Compiler: gcc 8.5.0 20210514 (Red Hat 8.5.0-20)
Debian 12
Kernel: Container Host Kernel
Compiler: gcc 10.2.1
openSUSE Leap 15
Kernel: 5.4.0-167-generic
Compiler: gcc 7.5.0
Debian Bullseye
Kernel: 5.4.0-167-generic
Compiler: gcc 10.2.1-6
To view detailed results, visit:
https://lab.dpdk.org/results/dashboard/patchsets/29970/
UNH-IOL DPDK Community Lab
To manage your email subscriptions, visit:
https://lab.dpdk.org/results/dashboard/preferences/subscriptions/
next prev parent reply other threads:[~2024-05-16 17:40 UTC|newest]
Thread overview: 89+ messages / expand[flat|nested] mbox.gz Atom feed top
[not found] <20240516085940.61119-1-mb@smartsharesystems.com>
2024-05-16 8:33 ` |SUCCESS| pw140139 [PATCH] mempool: dump includes list of memory chunks qemudev
2024-05-16 8:38 ` qemudev
2024-05-16 8:59 ` checkpatch
2024-05-16 10:04 ` 0-day Robot
2024-05-16 16:59 ` |SUCCESS| pw140139 [PATCH] mempool: dump includes list of memory chu dpdklab
2024-05-16 17:00 ` dpdklab
2024-05-16 17:02 ` dpdklab
2024-05-16 17:03 ` dpdklab
2024-05-16 17:03 ` dpdklab
2024-05-16 17:03 ` dpdklab
2024-05-16 17:28 ` dpdklab
2024-05-16 17:28 ` dpdklab
2024-05-16 17:29 ` dpdklab
2024-05-16 17:29 ` dpdklab
2024-05-16 17:29 ` dpdklab
2024-05-16 17:29 ` dpdklab
2024-05-16 17:30 ` dpdklab
2024-05-16 17:30 ` dpdklab
2024-05-16 17:30 ` dpdklab
2024-05-16 17:30 ` dpdklab
2024-05-16 17:30 ` dpdklab
2024-05-16 17:31 ` dpdklab
2024-05-16 17:31 ` dpdklab
2024-05-16 17:31 ` dpdklab
2024-05-16 17:31 ` dpdklab
2024-05-16 17:31 ` dpdklab
2024-05-16 17:32 ` dpdklab
2024-05-16 17:32 ` dpdklab
2024-05-16 17:33 ` dpdklab
2024-05-16 17:33 ` dpdklab
2024-05-16 17:34 ` dpdklab
2024-05-16 17:34 ` dpdklab
2024-05-16 17:35 ` dpdklab
2024-05-16 17:35 ` dpdklab
2024-05-16 17:35 ` dpdklab
2024-05-16 17:35 ` dpdklab
2024-05-16 17:36 ` dpdklab
2024-05-16 17:36 ` dpdklab
2024-05-16 17:36 ` dpdklab
2024-05-16 17:36 ` dpdklab
2024-05-16 17:37 ` dpdklab
2024-05-16 17:37 ` dpdklab
2024-05-16 17:37 ` dpdklab
2024-05-16 17:37 ` dpdklab
2024-05-16 17:38 ` dpdklab
2024-05-16 17:38 ` dpdklab
2024-05-16 17:38 ` dpdklab
2024-05-16 17:38 ` dpdklab
2024-05-16 17:39 ` dpdklab
2024-05-16 17:39 ` dpdklab
2024-05-16 17:39 ` dpdklab
2024-05-16 17:39 ` dpdklab
2024-05-16 17:39 ` dpdklab
2024-05-16 17:39 ` dpdklab
2024-05-16 17:40 ` dpdklab
2024-05-16 17:40 ` dpdklab
2024-05-16 17:40 ` dpdklab
2024-05-16 17:40 ` dpdklab [this message]
2024-05-16 17:40 ` dpdklab
2024-05-16 17:41 ` dpdklab
2024-05-16 17:41 ` dpdklab
2024-05-16 17:41 ` dpdklab
2024-05-16 17:41 ` dpdklab
2024-05-16 17:41 ` dpdklab
2024-05-16 17:41 ` dpdklab
2024-05-16 17:42 ` dpdklab
2024-05-16 17:42 ` dpdklab
2024-05-16 17:42 ` dpdklab
2024-05-16 17:42 ` dpdklab
2024-05-16 17:42 ` dpdklab
2024-05-16 17:44 ` dpdklab
2024-05-16 17:45 ` dpdklab
2024-05-16 17:45 ` dpdklab
2024-05-16 17:47 ` dpdklab
2024-05-16 17:47 ` dpdklab
2024-05-16 17:48 ` dpdklab
2024-05-16 17:51 ` dpdklab
2024-05-16 17:51 ` dpdklab
2024-05-16 17:52 ` dpdklab
2024-05-16 17:55 ` dpdklab
2024-05-16 17:59 ` dpdklab
2024-05-16 18:05 ` dpdklab
2024-05-16 18:06 ` dpdklab
2024-05-16 18:07 ` dpdklab
2024-05-16 18:11 ` dpdklab
2024-05-16 18:24 ` dpdklab
2024-05-16 18:37 ` dpdklab
2024-05-16 18:42 ` dpdklab
2024-05-16 18:45 ` dpdklab
Reply instructions:
You may reply publicly to this message via plain-text email
using any one of the following methods:
* Save the following mbox file, import it into your mail client,
and reply-to-all from there: mbox
Avoid top-posting and favor interleaved quoting:
https://en.wikipedia.org/wiki/Posting_style#Interleaved_style
* Reply using the --to, --cc, and --in-reply-to
switches of git-send-email(1):
git send-email \
--in-reply-to=66464515.050a0220.efd34.de6eSMTPIN_ADDED_MISSING@mx.google.com \
--to=dpdklab@iol.unh.edu \
--cc=dpdk-test-reports@iol.unh.edu \
--cc=test-report@dpdk.org \
/path/to/YOUR_REPLY
https://kernel.org/pub/software/scm/git/docs/git-send-email.html
* If your mail client supports setting the In-Reply-To header
via mailto: links, try the mailto: link
Be sure your reply has a Subject: header at the top and a blank line
before the message body.
This is a public inbox, see mirroring instructions
for how to clone and mirror all data and code used for this inbox;
as well as URLs for NNTP newsgroup(s).