From mboxrd@z Thu Jan  1 00:00:00 1970
Return-Path: <test-report-bounces@dpdk.org>
Received: from mails.dpdk.org (mails.dpdk.org [217.70.189.124])
	by inbox.dpdk.org (Postfix) with ESMTP id E9F0144055
	for <public@inbox.dpdk.org>; Fri, 17 May 2024 21:41:45 +0200 (CEST)
Received: from mails.dpdk.org (localhost [127.0.0.1])
	by mails.dpdk.org (Postfix) with ESMTP id E303C40278;
	Fri, 17 May 2024 21:41:45 +0200 (CEST)
Received: from mail-yw1-f226.google.com (mail-yw1-f226.google.com
 [209.85.128.226])
 by mails.dpdk.org (Postfix) with ESMTP id 9149E40268
 for <test-report@dpdk.org>; Fri, 17 May 2024 21:41:44 +0200 (CEST)
Received: by mail-yw1-f226.google.com with SMTP id
 00721157ae682-6277a2bb35fso4725977b3.1
 for <test-report@dpdk.org>; Fri, 17 May 2024 12:41:44 -0700 (PDT)
DKIM-Signature: v=1; a=rsa-sha256; c=relaxed/relaxed;
 d=iol.unh.edu; s=unh-iol; t=1715974904; x=1716579704; darn=dpdk.org;
 h=references:in-reply-to:cc:to:from:subject:message-id:date:from:to
 :cc:subject:date:message-id:reply-to;
 bh=rFp00ZzqBskgxTfprggfK+paehT/KW/9mh4T1Re054Y=;
 b=B6a1WHpeIa2itA8Kqqkntgh7YANwisSZgscfZqtI8T7bAIdFMqot88EPO9mEC9/TDX
 xUo+rnPAY4zcbUE2RPG5RTwEzUJzx6qya8XHMI0ZME9YuaMD6ieCkJKvgYn6KdSgkN3J
 dx33NnlMj6tP51HpeLA0xglhIHJnpABQrGyoQ=
X-Google-DKIM-Signature: v=1; a=rsa-sha256; c=relaxed/relaxed;
 d=1e100.net; s=20230601; t=1715974904; x=1716579704;
 h=references:in-reply-to:cc:to:from:subject:message-id:date
 :x-gm-message-state:from:to:cc:subject:date:message-id:reply-to;
 bh=rFp00ZzqBskgxTfprggfK+paehT/KW/9mh4T1Re054Y=;
 b=Uj35r2X7IEPRfDr5yI1bVXOHvEKVSzfkSfl9DQzAhfr0WY2UYuhC3cmB0CMdZfF0Oa
 E2TQDz52udl6/M+nxUMEcO1slirBcP5YZN4r9cf+ZjYhKNFRDfwhi3ekRvLev9wZL0Nu
 nym700QffIhOBbntIoAmm7i5dRyl0AsheQcKCYBhAIeGHaDH0hmRwTM8CbAe5nUXRnYo
 Z7phHhKnVCz9oj3ftpqBqUsoMCG18Z0zMNyCLVVAU+G7ypinBxR7HRwYahxxyGdsl/ja
 k1Gg87ekdV3vpwAzqDtTmGz2x4U9AIlsCXADRncCOPxwuo6t0HBPOU5akDo+cABZTUTV
 QMrQ==
X-Gm-Message-State: AOJu0Yxpf+Wq5Kg7xyMkAOSuLBUt99dyRvctQNJ0JSCcm3JbwurV/d5x
 jrIdbFErzTuxTP6D3WajSI68IbxQfzxNgVT83+tTTsgv8TmkFUCDWrE8f/6eLSnP2sN+NSwvpIT
 ca/STrO0qcmb4A8c6kyjw9GHfN7aT7Uvq0R41wBq4gVV97eclZnmWrcUG
X-Google-Smtp-Source: AGHT+IEEzpv9aWrVSlABGVMAN+edAu9KzKj0lD9OuC1CyFBQR8EdjzmbbGR6cRoh2+xfystXQKZGeOPfo8Is
X-Received: by 2002:a05:690c:6509:b0:61b:12d8:64cf with SMTP id
 00721157ae682-627972b5193mr906067b3.20.1715974904035; 
 Fri, 17 May 2024 12:41:44 -0700 (PDT)
Received: from postal.iol.unh.edu (postal.iol.unh.edu.
 [2606:4100:3880:1234::84]) by smtp-relay.gmail.com with ESMTPS id
 00721157ae682-6209e24f1f3sm14516187b3.18.2024.05.17.12.41.43
 (version=TLS1_2 cipher=ECDHE-ECDSA-AES128-GCM-SHA256 bits=128/128);
 Fri, 17 May 2024 12:41:44 -0700 (PDT)
X-Relaying-Domain: iol.unh.edu
Date: Fri, 17 May 2024 12:41:44 -0700 (PDT)
Message-ID: <6647b2f8.810a0220.30ed9.00b8SMTPIN_ADDED_MISSING@mx.google.com>
Received: from [172.21.0.6] (unknown [172.18.0.240])
 by postal.iol.unh.edu (Postfix) with ESMTP id A826E605C373;
 Fri, 17 May 2024 15:41:43 -0400 (EDT)
Subject: |SUCCESS| pw140171-140172 [PATCH] [v1,2/2] app/testpmd: introduce VX
From: dpdklab@iol.unh.edu
To: Test Report <test-report@dpdk.org>
Cc: dpdk-test-reports@iol.unh.edu
In-Reply-To: <20240517080735.1787616-3-gavinl@nvidia.com>
References: <20240517080735.1787616-3-gavinl@nvidia.com>
Content-Type: text/plain
X-BeenThere: test-report@dpdk.org
X-Mailman-Version: 2.1.29
Precedence: list
List-Id: automatic DPDK test reports <test-report.dpdk.org>
List-Unsubscribe: <https://mails.dpdk.org/options/test-report>,
 <mailto:test-report-request@dpdk.org?subject=unsubscribe>
List-Archive: <http://mails.dpdk.org/archives/test-report/>
List-Post: <mailto:test-report@dpdk.org>
List-Help: <mailto:test-report-request@dpdk.org?subject=help>
List-Subscribe: <https://mails.dpdk.org/listinfo/test-report>,
 <mailto:test-report-request@dpdk.org?subject=subscribe>
Errors-To: test-report-bounces@dpdk.org

Test-Label: iol-abi-testing
Test-Status: SUCCESS
http://dpdk.org/patch/140172

_Testing PASS_

Submitter: Gavin Li <gavinl@nvidia.com>
Date: Friday, May 17 2024 08:07:35 
DPDK git baseline: Repo:dpdk
  Branch: master
  CommitID:baa8e2c6b4d7ce289e891b9c96fb3193311c0f01

140171-140172 --> testing pass

Test environment and result as below:

+-----------------+----------+
|   Environment   | abi_test |
+=================+==========+
| Debian Bullseye | PASS     |
+-----------------+----------+
| Fedora 37       | PASS     |
+-----------------+----------+
| CentOS Stream 9 | PASS     |
+-----------------+----------+
| RHEL8           | PASS     |
+-----------------+----------+


Debian Bullseye
	Kernel: 5.4.0-167-generic
	Compiler: gcc 10.2.1-6

Fedora 37
	Kernel: Depends on container host system
	Compiler: gcc 12.3.1

CentOS Stream 9
	Kernel: 5.4.0-167-generic
	Compiler: gcc 11.4.1 20230605

RHEL8
	Kernel: 5.4.0-167-generic
	Compiler: gcc 8.5.0 20210514 (Red Hat 8.5.0-20)

To view detailed results, visit:
https://lab.dpdk.org/results/dashboard/patchsets/29975/

UNH-IOL DPDK Community Lab

To manage your email subscriptions, visit: 
https://lab.dpdk.org/results/dashboard/preferences/subscriptions/