From mboxrd@z Thu Jan  1 00:00:00 1970
Return-Path: <test-report-bounces@dpdk.org>
Received: from mails.dpdk.org (mails.dpdk.org [217.70.189.124])
	by inbox.dpdk.org (Postfix) with ESMTP id 13FA343C49
	for <public@inbox.dpdk.org>; Fri, 17 May 2024 23:23:56 +0200 (CEST)
Received: from mails.dpdk.org (localhost [127.0.0.1])
	by mails.dpdk.org (Postfix) with ESMTP id E1D6440278;
	Fri, 17 May 2024 23:23:55 +0200 (CEST)
Received: from mail-qk1-f226.google.com (mail-qk1-f226.google.com
 [209.85.222.226])
 by mails.dpdk.org (Postfix) with ESMTP id 462F440268
 for <test-report@dpdk.org>; Fri, 17 May 2024 23:23:54 +0200 (CEST)
Received: by mail-qk1-f226.google.com with SMTP id
 af79cd13be357-7931a0a4d8fso56075285a.1
 for <test-report@dpdk.org>; Fri, 17 May 2024 14:23:54 -0700 (PDT)
DKIM-Signature: v=1; a=rsa-sha256; c=relaxed/relaxed;
 d=iol.unh.edu; s=unh-iol; t=1715981033; x=1716585833; darn=dpdk.org;
 h=references:in-reply-to:cc:to:from:subject:message-id:date:from:to
 :cc:subject:date:message-id:reply-to;
 bh=hLxboAPN9SRhF3eykI0jMOqf3WtAh0TR+q2Dqu6RRyY=;
 b=jqxBzfU8ZurH3t1UkJru1/MN+aDV1tHIfgGSBuU/1RBlJ2g787RG44bx5UmZRLD5yQ
 PpoX52JdXUxKcmhblUG0RsaQbvK8ZKlV65YT/DAoPDFwLs6Oww5DURLmFCZgtEj3Q8Wd
 SkliJRVHPjLDhXkYOdTJlAP+kk35izvWoe1Hs=
X-Google-DKIM-Signature: v=1; a=rsa-sha256; c=relaxed/relaxed;
 d=1e100.net; s=20230601; t=1715981033; x=1716585833;
 h=references:in-reply-to:cc:to:from:subject:message-id:date
 :x-gm-message-state:from:to:cc:subject:date:message-id:reply-to;
 bh=hLxboAPN9SRhF3eykI0jMOqf3WtAh0TR+q2Dqu6RRyY=;
 b=NUVzWPW98yMhOhcew3fMgKw57hVDNnghCPqTh7WPUqYbS261Zl3vI58Z6EYFaeEMKJ
 1SlrI8EHORW9JkV0C7bMGm5zK45GD/Sn6kSQJMabQZLQlRvoCON9Ya7jQMRwcl52NFUp
 h7v/17H3k48UGM4Dg/jAmewHLnySKtyD/0cP9QvGyRWIHhAYZgYb0P1+1Aw6zMedYo56
 AoMvezHyvUDS4Xe+EuidlbkG6+3nTFH4pEU6Ei9sOw9vBT2YqNOraVZXPJWbtO5HK4wm
 xGu4OuhH2T5Q1tpNTnp68jJ8YU/tdoXIJ4sVbMht4QWubx4Z1GG+/O1g1ugRbaNTvDUI
 MGqQ==
X-Gm-Message-State: AOJu0Ywu9+aqEzfVpKHEZkFpGGHIeoCmnfULrDoc/dmSQI+GorbL++I5
 rbrOKY3riFmHsWRE6G8ft/esvE/U3PtW6lg8zV7hppOP4rT/x8D9r8+JNiuAUMH0+wxck1sYZTB
 GkfZiV1MjmT2WK6RQb/bqhqsM4KuUqGfNrKEq2FQZANbwL6gI9UUE9j6S
X-Google-Smtp-Source: AGHT+IE9vc3OWTdusiy4vdrt0FZ4W0+ECDcGo+u4j5QxCN0tCTzzXHlsH6s2m4g3Q7xPl+ocN4w2+PEt63Lk
X-Received: by 2002:a05:6214:2c06:b0:6a3:48d9:b39e with SMTP id
 6a1803df08f44-6a348d9b573mr133339746d6.18.1715981033590; 
 Fri, 17 May 2024 14:23:53 -0700 (PDT)
Received: from postal.iol.unh.edu (postal.iol.unh.edu.
 [2606:4100:3880:1234::84]) by smtp-relay.gmail.com with ESMTPS id
 6a1803df08f44-6a15f1b74cdsm11900016d6.23.2024.05.17.14.23.53
 (version=TLS1_2 cipher=ECDHE-ECDSA-AES128-GCM-SHA256 bits=128/128);
 Fri, 17 May 2024 14:23:53 -0700 (PDT)
X-Relaying-Domain: iol.unh.edu
Date: Fri, 17 May 2024 14:23:53 -0700 (PDT)
Message-ID: <6647cae9.050a0220.e2b2d.149bSMTPIN_ADDED_MISSING@mx.google.com>
Received: from [172.21.0.6] (unknown [172.18.0.240])
 by postal.iol.unh.edu (Postfix) with ESMTP id 476E6605C380;
 Fri, 17 May 2024 17:23:53 -0400 (EDT)
Subject: |SUCCESS| pw140161-140170 [PATCH] [10/10] net/cnxk: define CPT HW re
From: dpdklab@iol.unh.edu
To: Test Report <test-report@dpdk.org>
Cc: dpdk-test-reports@iol.unh.edu
In-Reply-To: <20240517074448.3146611-10-ndabilpuram@marvell.com>
References: <20240517074448.3146611-10-ndabilpuram@marvell.com>
Content-Type: text/plain
X-BeenThere: test-report@dpdk.org
X-Mailman-Version: 2.1.29
Precedence: list
List-Id: automatic DPDK test reports <test-report.dpdk.org>
List-Unsubscribe: <https://mails.dpdk.org/options/test-report>,
 <mailto:test-report-request@dpdk.org?subject=unsubscribe>
List-Archive: <http://mails.dpdk.org/archives/test-report/>
List-Post: <mailto:test-report@dpdk.org>
List-Help: <mailto:test-report-request@dpdk.org?subject=help>
List-Subscribe: <https://mails.dpdk.org/listinfo/test-report>,
 <mailto:test-report-request@dpdk.org?subject=subscribe>
Errors-To: test-report-bounces@dpdk.org

Test-Label: iol-compile-amd64-testing
Test-Status: SUCCESS
http://dpdk.org/patch/140170

_Testing PASS_

Submitter: Nithin Dabilpuram <ndabilpuram@marvell.com>
Date: Friday, May 17 2024 07:44:48 
DPDK git baseline: Repo:dpdk
  Branch: master
  CommitID:7e06c0de1952d3109a5b0c4779d7e7d8059c9d78

140161-140170 --> testing pass

Test environment and result as below:

+---------------------+-------------------+--------------------+----------------------+------------------+
|     Environment     | dpdk_msvc_compile | dpdk_meson_compile | dpdk_mingw64_compile | dpdk_compile_ovs |
+=====================+===================+====================+======================+==================+
| Windows Server 2022 | PASS              | PASS               | PASS                 | SKIPPED          |
+---------------------+-------------------+--------------------+----------------------+------------------+
| FreeBSD 13.3        | SKIPPED           | PASS               | SKIPPED              | SKIPPED          |
+---------------------+-------------------+--------------------+----------------------+------------------+
| FreeBSD 14.0        | SKIPPED           | PASS               | SKIPPED              | SKIPPED          |
+---------------------+-------------------+--------------------+----------------------+------------------+
| Windows Server 2019 | SKIPPED           | PASS               | PASS                 | SKIPPED          |
+---------------------+-------------------+--------------------+----------------------+------------------+
| CentOS Stream 9     | SKIPPED           | PASS               | SKIPPED              | PASS             |
+---------------------+-------------------+--------------------+----------------------+------------------+
| CentOS Stream 8     | SKIPPED           | PASS               | SKIPPED              | PASS             |
+---------------------+-------------------+--------------------+----------------------+------------------+
| Debian Bullseye     | SKIPPED           | PASS               | SKIPPED              | PASS             |
+---------------------+-------------------+--------------------+----------------------+------------------+
| Fedora 38           | SKIPPED           | PASS               | SKIPPED              | PASS             |
+---------------------+-------------------+--------------------+----------------------+------------------+
| Fedora 37           | SKIPPED           | PASS               | SKIPPED              | PASS             |
+---------------------+-------------------+--------------------+----------------------+------------------+


Windows Server 2022
	Kernel: 10.0.20348.2031
	Compiler: clang 15.0.7, gcc 8.1.0 (MinGW), and MSVC VS 17.9

FreeBSD 13.3
	Kernel: 13.3-RELEASE-p1
	Compiler: clang 17.0.6

FreeBSD 14.0
	Kernel: 14.0
	Compiler: clang 16.0.6

Windows Server 2019
	Kernel: 10.0.17763
	Compiler: clang 14.0 and gcc 8.1.0 (MinGW)

CentOS Stream 9
	Kernel: 5.4.0-167-generic
	Compiler: gcc 11.4.1 20230605

CentOS Stream 8
	Kernel: 5.4.0-167-generic
	Compiler: gcc 8.5.0 20210514

Debian Bullseye
	Kernel: 5.4.0-167-generic
	Compiler: gcc 10.2.1-6

Fedora 38
	Kernel: Depends on container host
	Compiler: gcc 13.2.1

Fedora 37
	Kernel: Depends on container host system
	Compiler: gcc 12.3.1

To view detailed results, visit:
https://lab.dpdk.org/results/dashboard/patchsets/29974/

UNH-IOL DPDK Community Lab

To manage your email subscriptions, visit: 
https://lab.dpdk.org/results/dashboard/preferences/subscriptions/