From mboxrd@z Thu Jan  1 00:00:00 1970
Return-Path: <test-report-bounces@dpdk.org>
Received: from mails.dpdk.org (mails.dpdk.org [217.70.189.124])
	by inbox.dpdk.org (Postfix) with ESMTP id 06E6744079
	for <public@inbox.dpdk.org>; Mon, 20 May 2024 19:50:24 +0200 (CEST)
Received: from mails.dpdk.org (localhost [127.0.0.1])
	by mails.dpdk.org (Postfix) with ESMTP id 977D940687;
	Mon, 20 May 2024 19:50:23 +0200 (CEST)
Received: from mail-ot1-f99.google.com (mail-ot1-f99.google.com
 [209.85.210.99]) by mails.dpdk.org (Postfix) with ESMTP id C3BDF402CD
 for <test-report@dpdk.org>; Mon, 20 May 2024 19:50:21 +0200 (CEST)
Received: by mail-ot1-f99.google.com with SMTP id
 46e09a7af769-6f0f87f9545so2209516a34.2
 for <test-report@dpdk.org>; Mon, 20 May 2024 10:50:21 -0700 (PDT)
DKIM-Signature: v=1; a=rsa-sha256; c=relaxed/relaxed;
 d=iol.unh.edu; s=unh-iol; t=1716227421; x=1716832221; darn=dpdk.org;
 h=references:in-reply-to:cc:to:from:subject:message-id:date:from:to
 :cc:subject:date:message-id:reply-to;
 bh=F9LKstQkgPce/cR1TDTgi5gNEUynUjUfTD8QS25KPm0=;
 b=i/OgNSzrOFu1iEnM0ZkbRPQaqNChpHpG28+YJc6OeNX6WWEtRpRKyrateaBQJmYeNX
 AMsAV0+zS+6hVV2NZdrXLCAFU7jDgDIkGCbxJ8RfGiVCVx22nIB2J4ybtRFuS5bRglbs
 8eHIIBi7meokmb/tDZoqbQLlc1Qn4itwnf0pY=
X-Google-DKIM-Signature: v=1; a=rsa-sha256; c=relaxed/relaxed;
 d=1e100.net; s=20230601; t=1716227421; x=1716832221;
 h=references:in-reply-to:cc:to:from:subject:message-id:date
 :x-gm-message-state:from:to:cc:subject:date:message-id:reply-to;
 bh=F9LKstQkgPce/cR1TDTgi5gNEUynUjUfTD8QS25KPm0=;
 b=Mv5ofaCQjJupYpgcFbHYU1SiXUzbHeqOhnatg+b1S2IG4tWuCwsZcvpVO8vbaNkz8R
 jOjkJo1YJpl9HG1Cn2krbsvgSqR9EOfQy/LYttEfww2wWEkpDoIgMQqAP/Z7iT17bG6U
 151wgpSNhlWnTVRkL5HdUhkKwQyeSzSBPvdv5ie+A6bWcNOf1okDwuzohWX9soYQbU33
 rjqEb5tSb1OY18uUR/2wHtsewhUs2q7AulHQvDE/PskbWqeUNIi61SxmzpstkKSiM/Y9
 997GzU4kc9Nu2bRk1rVCt1kKqAX8xbMJkx0iP8+BC+4l+XOWAI5oAjJII5GrNygLDHCy
 kKzg==
X-Gm-Message-State: AOJu0YwQcbX07yckMFlNSoal6og8ELDPW3Fv2eLHkwYcpL2WzANIG/QP
 5zB3+PznF+ETOuc60Y5wYS1Ls2Ph6NnrAgw2fj2fwKRyTKe9tsCQqvVsL6YebWL6yHLkURTuCXR
 k7EtW7sQa+rCHoJFAeXJUMwVgcMbMeruUNC84t3S7ziS5yyf8difNCDuu
X-Google-Smtp-Source: AGHT+IH3jtxb3l/HxFBVGdGPRIcjcn+/IEkYdUYDsr8XMSY371RmiH6jLhLrUh3LG4wJEC63ffcfNIxTMyCX
X-Received: by 2002:a05:6870:b6a7:b0:239:8687:d01 with SMTP id
 586e51a60fabf-2417291dd8bmr36991499fac.6.1716227421041; 
 Mon, 20 May 2024 10:50:21 -0700 (PDT)
Received: from postal.iol.unh.edu (postal.iol.unh.edu.
 [2606:4100:3880:1234::84]) by smtp-relay.gmail.com with ESMTPS id
 586e51a60fabf-2412a3d3367sm1100395fac.6.2024.05.20.10.50.20
 (version=TLS1_2 cipher=ECDHE-ECDSA-AES128-GCM-SHA256 bits=128/128);
 Mon, 20 May 2024 10:50:21 -0700 (PDT)
X-Relaying-Domain: iol.unh.edu
Date: Mon, 20 May 2024 10:50:21 -0700 (PDT)
Message-ID: <664b8d5d.050a0220.c5f50.6c8fSMTPIN_ADDED_MISSING@mx.google.com>
Received: from [172.17.0.4] (unknown [172.18.0.217])
 by postal.iol.unh.edu (Postfix) with ESMTP id 851C4605C380;
 Mon, 20 May 2024 13:50:20 -0400 (EDT)
Subject: |SUCCESS| pw140184 [PATCH] net/mlx5/hws: add support for NVGRE match
From: dpdklab@iol.unh.edu
To: Test Report <test-report@dpdk.org>
Cc: dpdk-test-reports@iol.unh.edu
In-Reply-To: <20240520062524.2401676-1-dongzhou@nvidia.com>
References: <20240520062524.2401676-1-dongzhou@nvidia.com>
Content-Type: text/plain
X-BeenThere: test-report@dpdk.org
X-Mailman-Version: 2.1.29
Precedence: list
List-Id: automatic DPDK test reports <test-report.dpdk.org>
List-Unsubscribe: <https://mails.dpdk.org/options/test-report>,
 <mailto:test-report-request@dpdk.org?subject=unsubscribe>
List-Archive: <http://mails.dpdk.org/archives/test-report/>
List-Post: <mailto:test-report@dpdk.org>
List-Help: <mailto:test-report-request@dpdk.org?subject=help>
List-Subscribe: <https://mails.dpdk.org/listinfo/test-report>,
 <mailto:test-report-request@dpdk.org?subject=subscribe>
Errors-To: test-report-bounces@dpdk.org

Test-Label: iol-compile-arm64-testing
Test-Status: SUCCESS
http://dpdk.org/patch/140184

_Testing PASS_

Submitter: Dong Zhou <dongzhou@nvidia.com>
Date: Monday, May 20 2024 06:25:24 
DPDK git baseline: Repo:dpdk
  Branch: master
  CommitID:7c0b8f196f0593ff2cb32a59332beea20a1ce5dc

140184 --> testing pass

Test environment and result as below:

+----------------------------------------+--------------------+
|              Environment               | dpdk_meson_compile |
+========================================+====================+
| Ubuntu 20.04 ARM SVE                   | PASS               |
+----------------------------------------+--------------------+
| Debian 12 with MUSDK                   | PASS               |
+----------------------------------------+--------------------+
| Fedora 39 (ARM)                        | PASS               |
+----------------------------------------+--------------------+
| Fedora 38 (ARM)                        | PASS               |
+----------------------------------------+--------------------+
| Fedora 37 (ARM)                        | PASS               |
+----------------------------------------+--------------------+
| Ubuntu 20.04 aarch32 GCC Cross Compile | PASS               |
+----------------------------------------+--------------------+
| Ubuntu 20.04 (ARM)                     | PASS               |
+----------------------------------------+--------------------+
| Debian 11 (Buster) (ARM)               | PASS               |
+----------------------------------------+--------------------+
| CentOS Stream 9 (ARM)                  | PASS               |
+----------------------------------------+--------------------+
| Debian 12 (arm)                        | PASS               |
+----------------------------------------+--------------------+


Ubuntu 20.04 ARM SVE
	Kernel: 5.4.0-167-generic
	Compiler: gcc (Ubuntu 10.5.0-1ubuntu1~20.04) 10.5.0

Debian 12 with MUSDK
	Kernel: Container Host Kernel
	Compiler: gcc 12.2.0

Fedora 39 (ARM)
	Kernel: Depends on container host
	Compiler: gcc 13.2.1

Fedora 38 (ARM)
	Kernel: Depends on container host
	Compiler: gcc 13.2.1

Fedora 37 (ARM)
	Kernel: Depends on container host
	Compiler: gcc 12.3.1

Ubuntu 20.04 aarch32 GCC Cross Compile
	Kernel: 5.4.0-167-generic
	Compiler: gcc 9.4.0

Ubuntu 20.04 (ARM)
	Kernel: Container Host Kernel
	Compiler: gcc 9.4.0

Debian 11 (Buster) (ARM)
	Kernel: Container Host Kernel
	Compiler: gcc 10.2.1

CentOS Stream 9 (ARM)
	Kernel: Container Host Kernel
	Compiler: gcc 11.4.1

Debian 12 (arm)
	Kernel: Container Host Kernel
	Compiler: gcc 12.2.0

To view detailed results, visit:
https://lab.dpdk.org/results/dashboard/patchsets/29978/

UNH-IOL DPDK Community Lab

To manage your email subscriptions, visit: 
https://lab.dpdk.org/results/dashboard/preferences/subscriptions/