From mboxrd@z Thu Jan  1 00:00:00 1970
Return-Path: <test-report-bounces@dpdk.org>
Received: from mails.dpdk.org (mails.dpdk.org [217.70.189.124])
	by inbox.dpdk.org (Postfix) with ESMTP id 621BC4407D
	for <public@inbox.dpdk.org>; Tue, 21 May 2024 00:48:20 +0200 (CEST)
Received: from mails.dpdk.org (localhost [127.0.0.1])
	by mails.dpdk.org (Postfix) with ESMTP id 5A64A402D2;
	Tue, 21 May 2024 00:48:20 +0200 (CEST)
Received: from mail-vs1-f99.google.com (mail-vs1-f99.google.com
 [209.85.217.99]) by mails.dpdk.org (Postfix) with ESMTP id 607D44021E
 for <test-report@dpdk.org>; Tue, 21 May 2024 00:48:18 +0200 (CEST)
Received: by mail-vs1-f99.google.com with SMTP id
 ada2fe7eead31-48072da2f81so770045137.0
 for <test-report@dpdk.org>; Mon, 20 May 2024 15:48:18 -0700 (PDT)
DKIM-Signature: v=1; a=rsa-sha256; c=relaxed/relaxed;
 d=iol.unh.edu; s=unh-iol; t=1716245298; x=1716850098; darn=dpdk.org;
 h=references:in-reply-to:cc:to:from:subject:message-id:date:from:to
 :cc:subject:date:message-id:reply-to;
 bh=li6ahcGoK9uSscO6X8z8dzCifLVbtHlNi5umL1tr6OI=;
 b=ZBMOe19MwXgGf4OgYimhssUXzcZ1l5YeIGLwFqQuiGnuNXqkC5LTU8cqr8PZFe9eTN
 UKvuXcddL3lUnU87TbKjiTP35Ha2oAMFfkFhIgdHCUvb9ulPAP6zULg4PgPZR008CTVq
 oc/Blhf/TtokV5loMX1TFsPUQ4s8LvdsFvRsk=
X-Google-DKIM-Signature: v=1; a=rsa-sha256; c=relaxed/relaxed;
 d=1e100.net; s=20230601; t=1716245298; x=1716850098;
 h=references:in-reply-to:cc:to:from:subject:message-id:date
 :x-gm-message-state:from:to:cc:subject:date:message-id:reply-to;
 bh=li6ahcGoK9uSscO6X8z8dzCifLVbtHlNi5umL1tr6OI=;
 b=JtKjxvBqDoJghiB8ztwHQSgcgv3dqazieSRwUpiKR3+Q6HZY84/9U7C2uRLrKzzJwi
 SbLfBcfcNq9GMxjfBXAwNzLl19cXD4Qwix4nQtLL+/nyMQF1wEqN+nwfd3wzGIzXEZ2W
 PBP7aC9bdWAvD73cdsrAuFI9W0fFjRKQTqF6V8bGM7auytLdHX8a1rlPGv1H9AtbDAfy
 vzkb805QhfjVntgAsZ0tA1VMxuDdutceXZijuAQPHJ8Ky04jVqT6XDoMnt/h+BnTCC9W
 GfQK8a9BIKbeccAAUyXje0sn9NZIqZ3sUlUTNIbLqkqeCkSffAG+hsQnz/ahAxdDWeww
 SlPQ==
X-Gm-Message-State: AOJu0YwBFt0QHE9msADFsFph+ZbD16s8fZO0hOqDvs5wd9VOMu6sLNTn
 a2Uv2dKulma95XxyitG0h9Bnyh7QSVn4DgfdpGr77OtQdKeKJqC3sVRm8seyMTAI7Ff3QtwCbXg
 jJyWduZ5WaWJ7lnYTMwCNhPl0FhFStpotiauepbk5
X-Google-Smtp-Source: AGHT+IG5sGJlwvUAIrKi6ealhgSu+vsHIuZ8DEhEqlomWP+uBvWohW40jH2l+/3wUWvMOOOuDFi7JIou9vVA
X-Received: by 2002:a05:6102:54ab:b0:47f:684:a3f with SMTP id
 ada2fe7eead31-48077e834b5mr32832789137.25.1716245297138; 
 Mon, 20 May 2024 15:48:17 -0700 (PDT)
Received: from postal.iol.unh.edu (postal.iol.unh.edu. [132.177.123.84])
 by smtp-relay.gmail.com with ESMTPS id
 ada2fe7eead31-4806cc1bcecsm1549877137.3.2024.05.20.15.48.17
 (version=TLS1_2 cipher=ECDHE-ECDSA-AES128-GCM-SHA256 bits=128/128);
 Mon, 20 May 2024 15:48:17 -0700 (PDT)
X-Relaying-Domain: iol.unh.edu
Date: Mon, 20 May 2024 15:48:17 -0700 (PDT)
Message-ID: <664bd331.050a0220.c6bda.e831SMTPIN_ADDED_MISSING@mx.google.com>
Received: from [172.17.0.4] (unknown [172.18.0.217])
 by postal.iol.unh.edu (Postfix) with ESMTP id B163A605C380;
 Mon, 20 May 2024 18:48:16 -0400 (EDT)
Subject: |SUCCESS| pw140048-140051 [PATCH] [v2,4/4] net/af_xdp: remove unused
From: dpdklab@iol.unh.edu
To: Test Report <test-report@dpdk.org>
Cc: dpdk-test-reports@iol.unh.edu
In-Reply-To: <20240514084155.50673-5-ciara.loftus@intel.com>
References: <20240514084155.50673-5-ciara.loftus@intel.com>
Content-Type: text/plain
X-BeenThere: test-report@dpdk.org
X-Mailman-Version: 2.1.29
Precedence: list
List-Id: automatic DPDK test reports <test-report.dpdk.org>
List-Unsubscribe: <https://mails.dpdk.org/options/test-report>,
 <mailto:test-report-request@dpdk.org?subject=unsubscribe>
List-Archive: <http://mails.dpdk.org/archives/test-report/>
List-Post: <mailto:test-report@dpdk.org>
List-Help: <mailto:test-report-request@dpdk.org?subject=help>
List-Subscribe: <https://mails.dpdk.org/listinfo/test-report>,
 <mailto:test-report-request@dpdk.org?subject=subscribe>
Errors-To: test-report-bounces@dpdk.org

Test-Label: iol-unit-amd64-testing
Test-Status: SUCCESS
http://dpdk.org/patch/140051

_Testing PASS_

Submitter: Loftus, Ciara <ciara.loftus@intel.com>
Date: Tuesday, May 14 2024 08:41:55 
DPDK git baseline: Repo:dpdk
  Branch: master
  CommitID:baa8e2c6b4d7ce289e891b9c96fb3193311c0f01

140048-140051 --> testing pass

Test environment and result as below:

+---------------------+----------------+
|     Environment     | dpdk_unit_test |
+=====================+================+
| Windows Server 2019 | PASS           |
+---------------------+----------------+
| CentOS Stream 9     | PASS           |
+---------------------+----------------+
| CentOS Stream 8     | PASS           |
+---------------------+----------------+
| Ubuntu 22.04        | PASS           |
+---------------------+----------------+
| Debian 12           | PASS           |
+---------------------+----------------+
| Fedora 37           | PASS           |
+---------------------+----------------+
| Fedora 38           | PASS           |
+---------------------+----------------+
| RHEL8               | PASS           |
+---------------------+----------------+
| Debian Bullseye     | PASS           |
+---------------------+----------------+
| Ubuntu 20.04        | PASS           |
+---------------------+----------------+
| openSUSE Leap 15    | PASS           |
+---------------------+----------------+
| Fedora 39           | PASS           |
+---------------------+----------------+
| Windows Server 2022 | PASS           |
+---------------------+----------------+


Windows Server 2019
	Kernel: 10.0.17763
	Compiler: clang 14.0 and gcc 8.1.0 (MinGW)

CentOS Stream 9
	Kernel: 5.4.0-167-generic
	Compiler: gcc 11.4.1 20230605

CentOS Stream 8
	Kernel: 5.4.0-167-generic
	Compiler: gcc 8.5.0 20210514

Ubuntu 22.04
	Kernel: 5.4.0-167-generic
	Compiler: gcc 11.4.0

Debian 12
	Kernel: Container Host Kernel
	Compiler: gcc 10.2.1

Fedora 37
	Kernel: Depends on container host system
	Compiler: gcc 12.3.1

Fedora 38
	Kernel: Depends on container host
	Compiler: gcc 13.2.1

RHEL8
	Kernel: 5.4.0-167-generic
	Compiler: gcc 8.5.0 20210514 (Red Hat 8.5.0-20)

Debian Bullseye
	Kernel: 5.4.0-167-generic
	Compiler: gcc 10.2.1-6

Ubuntu 20.04
	Kernel: 5.4.0-167-generic
	Compiler: gcc 9.4.0-1ubuntu1~20.04.1

openSUSE Leap 15
	Kernel: 5.4.0-167-generic
	Compiler: gcc 7.5.0

Fedora 39
	Kernel: Depends on container host
	Compiler: gcc 13.2.1

Windows Server 2022
	Kernel: 10.0.20348.2031
	Compiler: clang 15.0.7, gcc 8.1.0 (MinGW), and MSVC VS 17.9

To view detailed results, visit:
https://lab.dpdk.org/results/dashboard/patchsets/29950/

UNH-IOL DPDK Community Lab

To manage your email subscriptions, visit: 
https://lab.dpdk.org/results/dashboard/preferences/subscriptions/