From mboxrd@z Thu Jan  1 00:00:00 1970
Return-Path: <test-report-bounces@dpdk.org>
Received: from mails.dpdk.org (mails.dpdk.org [217.70.189.124])
	by inbox.dpdk.org (Postfix) with ESMTP id C39884407D
	for <public@inbox.dpdk.org>; Tue, 21 May 2024 01:13:41 +0200 (CEST)
Received: from mails.dpdk.org (localhost [127.0.0.1])
	by mails.dpdk.org (Postfix) with ESMTP id A2A8E402D2;
	Tue, 21 May 2024 01:13:41 +0200 (CEST)
Received: from mail-il1-f227.google.com (mail-il1-f227.google.com
 [209.85.166.227])
 by mails.dpdk.org (Postfix) with ESMTP id 02A804021E
 for <test-report@dpdk.org>; Tue, 21 May 2024 01:13:40 +0200 (CEST)
Received: by mail-il1-f227.google.com with SMTP id
 e9e14a558f8ab-36db3304053so20696885ab.2
 for <test-report@dpdk.org>; Mon, 20 May 2024 16:13:40 -0700 (PDT)
DKIM-Signature: v=1; a=rsa-sha256; c=relaxed/relaxed;
 d=iol.unh.edu; s=unh-iol; t=1716246820; x=1716851620; darn=dpdk.org;
 h=references:in-reply-to:cc:to:from:subject:message-id:date:from:to
 :cc:subject:date:message-id:reply-to;
 bh=li6ahcGoK9uSscO6X8z8dzCifLVbtHlNi5umL1tr6OI=;
 b=LemFAc/0NRUULbK+GRmAX07CtXFDHZm/3dV1eXzJOnGTR5T/svJXonImI032+9lwf5
 s/8/msyc+ochqe7mJvzGuRw8+kTODGZMQD8tGFZOdGiTEr+O4acdXSkaYOhvVGDTAoc1
 apJ7tAW+YXaZ+gzxzbx9V5Y48bIc8maPnIfRw=
X-Google-DKIM-Signature: v=1; a=rsa-sha256; c=relaxed/relaxed;
 d=1e100.net; s=20230601; t=1716246820; x=1716851620;
 h=references:in-reply-to:cc:to:from:subject:message-id:date
 :x-gm-message-state:from:to:cc:subject:date:message-id:reply-to;
 bh=li6ahcGoK9uSscO6X8z8dzCifLVbtHlNi5umL1tr6OI=;
 b=iYUSqS6AFpMFFBVUOD9TffrAa+8uiyw6PQg4ujlmRP19vs3EpTbA1o/+k1kr3HAXrI
 hU41x0kEjW2yslfODC/YOZISBJf9SxohWaHBxeKVyLul580Lvn9R92p4oYzEs4SbkWR6
 Of3LtswI61kS0ooIGGP0GpNVE09gLYvV2VPD2kQsxx6HXZUQCjjURl6tD+1n0xzi8a6A
 JzsX9dN4bgLtS8W5yfx7bobeoo28r+gbQagfKjz5prMkSvH8NDFlehYVspQyk+lIaRoR
 24lcHDvAKxtdlrOYJ8AzOkPRCfPTBpOVC1hOIRJjYmYt3SB8c3GMOSQ2YKkHJ4vmsUwc
 P7pQ==
X-Gm-Message-State: AOJu0YxQHSz1Dmx/8kU26s8SBPWmr20CXrEb4o3L2Xhret1xmjc3/xbF
 j8YRyKXZWO6tFlsZlAqppvi+l1qzYLf7WUXky/oCkC78wJT7styjH9jU2fV49GJ9vOVWX3bu1Om
 F1Zunkw0l6CHKUPraVXt3x9kE4T1Y/G0ZHkQTdg3n
X-Google-Smtp-Source: AGHT+IFiAJUdP9sx3itpUy1RvB3BE7LXQ3gEqbNQa6vPc4/e4uZW8bmGOTZ37C0gFK7kvH+4n7eMcMj4CpbQ
X-Received: by 2002:a05:6e02:1fea:b0:36b:80d:b930 with SMTP id
 e9e14a558f8ab-36cc14f83b6mr363626025ab.26.1716246820262; 
 Mon, 20 May 2024 16:13:40 -0700 (PDT)
Received: from postal.iol.unh.edu (postal.iol.unh.edu. [132.177.123.84])
 by smtp-relay.gmail.com with ESMTPS id
 e9e14a558f8ab-36dd0962a7fsm2901145ab.73.2024.05.20.16.13.39
 (version=TLS1_2 cipher=ECDHE-ECDSA-AES128-GCM-SHA256 bits=128/128);
 Mon, 20 May 2024 16:13:40 -0700 (PDT)
X-Relaying-Domain: iol.unh.edu
Date: Mon, 20 May 2024 16:13:40 -0700 (PDT)
Message-ID: <664bd924.920a0220.e6977.f40fSMTPIN_ADDED_MISSING@mx.google.com>
Received: from [172.17.0.3] (unknown [172.18.0.217])
 by postal.iol.unh.edu (Postfix) with ESMTP id 47301605C380;
 Mon, 20 May 2024 19:13:39 -0400 (EDT)
Subject: |SUCCESS| pw140048-140051 [PATCH] [v2,4/4] net/af_xdp: remove unused
From: dpdklab@iol.unh.edu
To: Test Report <test-report@dpdk.org>
Cc: dpdk-test-reports@iol.unh.edu
In-Reply-To: <20240514084155.50673-5-ciara.loftus@intel.com>
References: <20240514084155.50673-5-ciara.loftus@intel.com>
Content-Type: text/plain
X-BeenThere: test-report@dpdk.org
X-Mailman-Version: 2.1.29
Precedence: list
List-Id: automatic DPDK test reports <test-report.dpdk.org>
List-Unsubscribe: <https://mails.dpdk.org/options/test-report>,
 <mailto:test-report-request@dpdk.org?subject=unsubscribe>
List-Archive: <http://mails.dpdk.org/archives/test-report/>
List-Post: <mailto:test-report@dpdk.org>
List-Help: <mailto:test-report-request@dpdk.org?subject=help>
List-Subscribe: <https://mails.dpdk.org/listinfo/test-report>,
 <mailto:test-report-request@dpdk.org?subject=subscribe>
Errors-To: test-report-bounces@dpdk.org

Test-Label: iol-unit-amd64-testing
Test-Status: SUCCESS
http://dpdk.org/patch/140051

_Testing PASS_

Submitter: Loftus, Ciara <ciara.loftus@intel.com>
Date: Tuesday, May 14 2024 08:41:55 
DPDK git baseline: Repo:dpdk
  Branch: master
  CommitID:baa8e2c6b4d7ce289e891b9c96fb3193311c0f01

140048-140051 --> testing pass

Test environment and result as below:

+---------------------+----------------+
|     Environment     | dpdk_unit_test |
+=====================+================+
| Windows Server 2019 | PASS           |
+---------------------+----------------+
| CentOS Stream 9     | PASS           |
+---------------------+----------------+
| CentOS Stream 8     | PASS           |
+---------------------+----------------+
| Ubuntu 22.04        | PASS           |
+---------------------+----------------+
| Debian 12           | PASS           |
+---------------------+----------------+
| Fedora 37           | PASS           |
+---------------------+----------------+
| Fedora 38           | PASS           |
+---------------------+----------------+
| RHEL8               | PASS           |
+---------------------+----------------+
| Debian Bullseye     | PASS           |
+---------------------+----------------+
| Ubuntu 20.04        | PASS           |
+---------------------+----------------+
| openSUSE Leap 15    | PASS           |
+---------------------+----------------+
| Fedora 39           | PASS           |
+---------------------+----------------+
| Windows Server 2022 | PASS           |
+---------------------+----------------+


Windows Server 2019
	Kernel: 10.0.17763
	Compiler: clang 14.0 and gcc 8.1.0 (MinGW)

CentOS Stream 9
	Kernel: 5.4.0-167-generic
	Compiler: gcc 11.4.1 20230605

CentOS Stream 8
	Kernel: 5.4.0-167-generic
	Compiler: gcc 8.5.0 20210514

Ubuntu 22.04
	Kernel: 5.4.0-167-generic
	Compiler: gcc 11.4.0

Debian 12
	Kernel: Container Host Kernel
	Compiler: gcc 10.2.1

Fedora 37
	Kernel: Depends on container host system
	Compiler: gcc 12.3.1

Fedora 38
	Kernel: Depends on container host
	Compiler: gcc 13.2.1

RHEL8
	Kernel: 5.4.0-167-generic
	Compiler: gcc 8.5.0 20210514 (Red Hat 8.5.0-20)

Debian Bullseye
	Kernel: 5.4.0-167-generic
	Compiler: gcc 10.2.1-6

Ubuntu 20.04
	Kernel: 5.4.0-167-generic
	Compiler: gcc 9.4.0-1ubuntu1~20.04.1

openSUSE Leap 15
	Kernel: 5.4.0-167-generic
	Compiler: gcc 7.5.0

Fedora 39
	Kernel: Depends on container host
	Compiler: gcc 13.2.1

Windows Server 2022
	Kernel: 10.0.20348.2031
	Compiler: clang 15.0.7, gcc 8.1.0 (MinGW), and MSVC VS 17.9

To view detailed results, visit:
https://lab.dpdk.org/results/dashboard/patchsets/29950/

UNH-IOL DPDK Community Lab

To manage your email subscriptions, visit: 
https://lab.dpdk.org/results/dashboard/preferences/subscriptions/