From mboxrd@z Thu Jan  1 00:00:00 1970
Return-Path: <test-report-bounces@dpdk.org>
Received: from mails.dpdk.org (mails.dpdk.org [217.70.189.124])
	by inbox.dpdk.org (Postfix) with ESMTP id B33AE4407D
	for <public@inbox.dpdk.org>; Tue, 21 May 2024 01:51:39 +0200 (CEST)
Received: from mails.dpdk.org (localhost [127.0.0.1])
	by mails.dpdk.org (Postfix) with ESMTP id A1B4B402CD;
	Tue, 21 May 2024 01:51:39 +0200 (CEST)
Received: from mail-pl1-f225.google.com (mail-pl1-f225.google.com
 [209.85.214.225])
 by mails.dpdk.org (Postfix) with ESMTP id 2763E4021E
 for <test-report@dpdk.org>; Tue, 21 May 2024 01:51:38 +0200 (CEST)
Received: by mail-pl1-f225.google.com with SMTP id
 d9443c01a7336-1f2ecea41deso84919365ad.1
 for <test-report@dpdk.org>; Mon, 20 May 2024 16:51:38 -0700 (PDT)
DKIM-Signature: v=1; a=rsa-sha256; c=relaxed/relaxed;
 d=iol.unh.edu; s=unh-iol; t=1716249097; x=1716853897; darn=dpdk.org;
 h=references:in-reply-to:cc:to:from:subject:message-id:date:from:to
 :cc:subject:date:message-id:reply-to;
 bh=s3hO0sipoG+U3drAqZdX2ZC9i4evq71uU5tE13i0k7A=;
 b=cr2ZvveD2LnXny7W3F1V50mjZrJ3SZ4gBj840cE9WGptfCP9xyRsRG3xiN+gHCVmLM
 FdfUa2uBK52NdnpahtZmxcH/vtx2th4RUGiOo5Ej1a8/7Qryg8VWYnS5lpnb07F8fAIk
 KPOMbQH4C91Jt6+qcgA1NQ25AVcxgXTv5Ofs4=
X-Google-DKIM-Signature: v=1; a=rsa-sha256; c=relaxed/relaxed;
 d=1e100.net; s=20230601; t=1716249097; x=1716853897;
 h=references:in-reply-to:cc:to:from:subject:message-id:date
 :x-gm-message-state:from:to:cc:subject:date:message-id:reply-to;
 bh=s3hO0sipoG+U3drAqZdX2ZC9i4evq71uU5tE13i0k7A=;
 b=ZuIWHbBgX25TVLXpwf5zL1mIhuyPvVoH8dMSRNsYDYwWe++N1ESyUYJcFc2crZRR49
 HaIJkh211hkRb1bCVthks2tP3vMjFPJpvedbPDhN74vQhYm7JsulW+HpdlTNbl0DrKJ1
 JcvTI9s65MlZUciXAR++DDodIJYpNLfg6yfQvMOhDmq3VPizAjQFdO1FEhPbG2w5ZmTv
 FV72EeeS55BhRppCKL7iquczw3JEa1Ngvh5SCE2jjADMSPyygbWXTb8JwEdYib32lDJy
 cSemOcvFXXe1/OfjLnrpGBEQ6OaF1gJPxj51V26eC16v50laztA+fnS2WDiHaTjxsKiz
 25UQ==
X-Gm-Message-State: AOJu0YxvHJG+etMs3C9UAKbpgLdz+5P8ny4QEOXWFVw93pr+qNCur4jF
 DWEhzzMu/xg8+vAlfcyYbZuqmK1aza2fs1UioVnTH933dTCzzU6JtcfQL70G9l6s4q3CRP2pUDG
 On657u8yUVBmVCGYXVLhWIzP+bub+nI+6sfDjGR4J
X-Google-Smtp-Source: AGHT+IG+58IVeibXsfVCpxSf7iCSmRlEXhXX3owDwQO7kkH0dQkD3i1EgaDF/wGelrZyGu10vVg6Z5ZJJDM/
X-Received: by 2002:a05:6a21:2727:b0:1a3:e2c4:956e with SMTP id
 adf61e73a8af0-1afde0d54e0mr29338416637.25.1716249097287; 
 Mon, 20 May 2024 16:51:37 -0700 (PDT)
Received: from postal.iol.unh.edu (postal.iol.unh.edu. [132.177.123.84])
 by smtp-relay.gmail.com with ESMTPS id
 d2e1a72fcca58-6f69baf0763sm350274b3a.18.2024.05.20.16.51.37
 (version=TLS1_2 cipher=ECDHE-ECDSA-AES128-GCM-SHA256 bits=128/128);
 Mon, 20 May 2024 16:51:37 -0700 (PDT)
X-Relaying-Domain: iol.unh.edu
Date: Mon, 20 May 2024 16:51:37 -0700 (PDT)
Message-ID: <664be209.a70a0220.709bc.03faSMTPIN_ADDED_MISSING@mx.google.com>
Received: from [172.17.0.2] (unknown [172.18.0.217])
 by postal.iol.unh.edu (Postfix) with ESMTP id 5E215605C380;
 Mon, 20 May 2024 19:51:36 -0400 (EDT)
Subject: |SUCCESS| pw140048-140051 [PATCH] [v2,4/4] net/af_xdp: remove unused
From: dpdklab@iol.unh.edu
To: Test Report <test-report@dpdk.org>
Cc: dpdk-test-reports@iol.unh.edu
In-Reply-To: <20240514084155.50673-5-ciara.loftus@intel.com>
References: <20240514084155.50673-5-ciara.loftus@intel.com>
Content-Type: text/plain
X-BeenThere: test-report@dpdk.org
X-Mailman-Version: 2.1.29
Precedence: list
List-Id: automatic DPDK test reports <test-report.dpdk.org>
List-Unsubscribe: <https://mails.dpdk.org/options/test-report>,
 <mailto:test-report-request@dpdk.org?subject=unsubscribe>
List-Archive: <http://mails.dpdk.org/archives/test-report/>
List-Post: <mailto:test-report@dpdk.org>
List-Help: <mailto:test-report-request@dpdk.org?subject=help>
List-Subscribe: <https://mails.dpdk.org/listinfo/test-report>,
 <mailto:test-report-request@dpdk.org?subject=subscribe>
Errors-To: test-report-bounces@dpdk.org

Test-Label: iol-unit-arm64-testing
Test-Status: SUCCESS
http://dpdk.org/patch/140051

_Testing PASS_

Submitter: Loftus, Ciara <ciara.loftus@intel.com>
Date: Tuesday, May 14 2024 08:41:55 
DPDK git baseline: Repo:dpdk
  Branch: master
  CommitID:baa8e2c6b4d7ce289e891b9c96fb3193311c0f01

140048-140051 --> testing pass

Test environment and result as below:

+-----------------------------+------------------------------+---------------------------+----------------+--------------+
|         Environment         | cryptodev_sw_snow3g_autotest | cryptodev_sw_zuc_autotest | dpdk_unit_test | lpm_autotest |
+=============================+==============================+===========================+================+==============+
| Debian 12 (arm)             | PASS                         | PASS                      | PASS           | SKIPPED      |
+-----------------------------+------------------------------+---------------------------+----------------+--------------+
| Fedora 37 (ARM)             | SKIPPED                      | SKIPPED                   | PASS           | SKIPPED      |
+-----------------------------+------------------------------+---------------------------+----------------+--------------+
| Debian 11 (Buster) (ARM)    | SKIPPED                      | SKIPPED                   | PASS           | SKIPPED      |
+-----------------------------+------------------------------+---------------------------+----------------+--------------+
| CentOS Stream 9 (ARM)       | SKIPPED                      | SKIPPED                   | PASS           | SKIPPED      |
+-----------------------------+------------------------------+---------------------------+----------------+--------------+
| 32-bit Ubuntu 20.04.4 (ARM) | SKIPPED                      | SKIPPED                   | PASS           | SKIPPED      |
+-----------------------------+------------------------------+---------------------------+----------------+--------------+
| Fedora 38 (ARM)             | SKIPPED                      | SKIPPED                   | PASS           | SKIPPED      |
+-----------------------------+------------------------------+---------------------------+----------------+--------------+
| Ubuntu 20.04 (ARM)          | SKIPPED                      | SKIPPED                   | PASS           | SKIPPED      |
+-----------------------------+------------------------------+---------------------------+----------------+--------------+
| Fedora 39 (ARM)             | SKIPPED                      | SKIPPED                   | PASS           | SKIPPED      |
+-----------------------------+------------------------------+---------------------------+----------------+--------------+
| Fedora 39 (ARM Clang)       | SKIPPED                      | SKIPPED                   | PASS           | SKIPPED      |
+-----------------------------+------------------------------+---------------------------+----------------+--------------+
| Fedora 38 (ARM Clang)       | SKIPPED                      | SKIPPED                   | PASS           | SKIPPED      |
+-----------------------------+------------------------------+---------------------------+----------------+--------------+
| Ubuntu 20.04 ARM SVE        | SKIPPED                      | SKIPPED                   | SKIPPED        | PASS         |
+-----------------------------+------------------------------+---------------------------+----------------+--------------+


Debian 12 (arm)
	Kernel: Container Host Kernel
	Compiler: gcc 12.2.0

Fedora 37 (ARM)
	Kernel: Depends on container host
	Compiler: gcc 12.3.1

Debian 11 (Buster) (ARM)
	Kernel: Container Host Kernel
	Compiler: gcc 10.2.1

CentOS Stream 9 (ARM)
	Kernel: Container Host Kernel
	Compiler: gcc 11.4.1

32-bit Ubuntu 20.04.4 (ARM)
	Kernel: 5.4.0-155-generic aarch64
	Compiler: gcc 9.4

Fedora 38 (ARM)
	Kernel: Depends on container host
	Compiler: gcc 13.2.1

Ubuntu 20.04 (ARM)
	Kernel: Container Host Kernel
	Compiler: gcc 9.4.0

Fedora 39 (ARM)
	Kernel: Depends on container host
	Compiler: gcc 13.2.1

Fedora 39 (ARM Clang)
	Kernel: Depends on container host
	Compiler: clang 17.0.6

Fedora 38 (ARM Clang)
	Kernel: Depends on container host
	Compiler: clang 16.0.6

Ubuntu 20.04 ARM SVE
	Kernel: 5.4.0-167-generic
	Compiler: gcc (Ubuntu 10.5.0-1ubuntu1~20.04) 10.5.0

To view detailed results, visit:
https://lab.dpdk.org/results/dashboard/patchsets/29950/

UNH-IOL DPDK Community Lab

To manage your email subscriptions, visit: 
https://lab.dpdk.org/results/dashboard/preferences/subscriptions/