From mboxrd@z Thu Jan  1 00:00:00 1970
Return-Path: <test-report-bounces@dpdk.org>
Received: from mails.dpdk.org (mails.dpdk.org [217.70.189.124])
	by inbox.dpdk.org (Postfix) with ESMTP id F26444407F
	for <public@inbox.dpdk.org>; Tue, 21 May 2024 04:24:36 +0200 (CEST)
Received: from mails.dpdk.org (localhost [127.0.0.1])
	by mails.dpdk.org (Postfix) with ESMTP id EF55F402BA;
	Tue, 21 May 2024 04:24:36 +0200 (CEST)
Received: from mail-yw1-f226.google.com (mail-yw1-f226.google.com
 [209.85.128.226])
 by mails.dpdk.org (Postfix) with ESMTP id 327484021E
 for <test-report@dpdk.org>; Tue, 21 May 2024 04:24:36 +0200 (CEST)
Received: by mail-yw1-f226.google.com with SMTP id
 00721157ae682-61bec6bab2bso34910417b3.1
 for <test-report@dpdk.org>; Mon, 20 May 2024 19:24:36 -0700 (PDT)
DKIM-Signature: v=1; a=rsa-sha256; c=relaxed/relaxed;
 d=iol.unh.edu; s=unh-iol; t=1716258275; x=1716863075; darn=dpdk.org;
 h=references:in-reply-to:cc:to:from:subject:message-id:date:from:to
 :cc:subject:date:message-id:reply-to;
 bh=kGhR+02nnPv2DaZeUnTAAwHKffokruf2HPlKa16++tY=;
 b=VDBemc8Ku04l0dpPjBXfkRhk+4Y3CnxY8dfGVs79O47nzT2GaWw+zGOzp+QKxzhkQg
 cX8Su3MqZVWRhT6DwXdWdqTXSPn07ilcPU+OXOGD4/OFXjo2TfcH3/r4RHFtzmd6B0tD
 mRBPC+IeiyKItaYiuThHK/S4XIfOuiCt18xb8=
X-Google-DKIM-Signature: v=1; a=rsa-sha256; c=relaxed/relaxed;
 d=1e100.net; s=20230601; t=1716258275; x=1716863075;
 h=references:in-reply-to:cc:to:from:subject:message-id:date
 :x-gm-message-state:from:to:cc:subject:date:message-id:reply-to;
 bh=kGhR+02nnPv2DaZeUnTAAwHKffokruf2HPlKa16++tY=;
 b=PnCzln9q33WDEGw7PR1WMP7zZV8RY/eti+GrwFAwAbjhwQVwdDUgFyICv9FlJB5pK9
 uNjW0Nmjxl1Kb8cyqg71T0c9lWtUqYeqEjwm/CJnUJsePsY6IQ7Pncn1XyGXVl3fW/No
 Zyh5wwNo3KwWzaHfbSd61ZR+EUduQ/N1kAnF4se4U4Uu8KGJjr2aaHPQTXdzTUhsrDr2
 KxiCILHv0MEPUdstcibPpEZ+ZRZpVCPpFIdjFD2Bres7iF9nSfyO4zEnauDvtF0t+2Xg
 3IdSGtDvPmf80kzb3IdEvFaumcPwe8emRGfDxt9VrLshj8z6bNAVc+8tMGMB6zRlCp+j
 4Jyg==
X-Gm-Message-State: AOJu0YxBFt8XnDaId47pMhklDwnL4Tv4gOx3BYeZiwhe/R8e/Tet3RW6
 LR2LWYl3pkv6U+fNJ/Erfu8+WaHrDltOrQiRzfZs8EhjXuGwxYVKZ0W91ByUdR/FaFd4se/KTdG
 OSyh3BlZXI+zZEfIm9pYlPBslrqQ0odWnIxhPCa/+
X-Google-Smtp-Source: AGHT+IHoeDQ99v/BClqwEQmJ0eVmx6EXMmW5X6Rd7QFsHb1uH++dwJTNC6mpNeK6YI42be384MC7PDstys03
X-Received: by 2002:a25:8c02:0:b0:de5:5575:99b5 with SMTP id
 3f1490d57ef6-dee4f0d21d4mr27395075276.0.1716258275623; 
 Mon, 20 May 2024 19:24:35 -0700 (PDT)
Received: from postal.iol.unh.edu (postal.iol.unh.edu. [132.177.123.84])
 by smtp-relay.gmail.com with ESMTPS id
 6a1803df08f44-6ab6e7e4be1sm990446d6.61.2024.05.20.19.24.35
 (version=TLS1_2 cipher=ECDHE-ECDSA-AES128-GCM-SHA256 bits=128/128);
 Mon, 20 May 2024 19:24:35 -0700 (PDT)
X-Relaying-Domain: iol.unh.edu
Date: Mon, 20 May 2024 19:24:35 -0700 (PDT)
Message-ID: <664c05e3.050a0220.2e597.4ce4SMTPIN_ADDED_MISSING@mx.google.com>
Received: from [172.17.0.3] (unknown [172.18.0.217])
 by postal.iol.unh.edu (Postfix) with ESMTP id 54D15605C380;
 Mon, 20 May 2024 22:24:35 -0400 (EDT)
Subject: |SUCCESS| pw140186-140187 [PATCH] [2/2] net/virtio: fix fortify memc
From: dpdklab@iol.unh.edu
To: Test Report <test-report@dpdk.org>
Cc: dpdk-test-reports@iol.unh.edu
In-Reply-To: <20240521010105.81868-2-stephen@networkplumber.org>
References: <20240521010105.81868-2-stephen@networkplumber.org>
Content-Type: text/plain
X-BeenThere: test-report@dpdk.org
X-Mailman-Version: 2.1.29
Precedence: list
List-Id: automatic DPDK test reports <test-report.dpdk.org>
List-Unsubscribe: <https://mails.dpdk.org/options/test-report>,
 <mailto:test-report-request@dpdk.org?subject=unsubscribe>
List-Archive: <http://mails.dpdk.org/archives/test-report/>
List-Post: <mailto:test-report@dpdk.org>
List-Help: <mailto:test-report-request@dpdk.org?subject=help>
List-Subscribe: <https://mails.dpdk.org/listinfo/test-report>,
 <mailto:test-report-request@dpdk.org?subject=subscribe>
Errors-To: test-report-bounces@dpdk.org

Test-Label: iol-unit-amd64-testing
Test-Status: SUCCESS
http://dpdk.org/patch/140187

_Testing PASS_

Submitter: Stephen Hemminger <stephen@networkplumber.org>
Date: Tuesday, May 21 2024 01:01:04 
DPDK git baseline: Repo:dpdk
  Branch: master
  CommitID:7e06c0de1952d3109a5b0c4779d7e7d8059c9d78

140186-140187 --> testing pass

Test environment and result as below:

+---------------------+----------------+
|     Environment     | dpdk_unit_test |
+=====================+================+
| Windows Server 2019 | PASS           |
+---------------------+----------------+
| Windows Server 2022 | PASS           |
+---------------------+----------------+
| Debian 12           | PASS           |
+---------------------+----------------+
| CentOS Stream 8     | PASS           |
+---------------------+----------------+
| CentOS Stream 9     | PASS           |
+---------------------+----------------+
| Debian Bullseye     | PASS           |
+---------------------+----------------+
| Fedora 37           | PASS           |
+---------------------+----------------+


Windows Server 2019
	Kernel: 10.0.17763
	Compiler: clang 14.0 and gcc 8.1.0 (MinGW)

Windows Server 2022
	Kernel: 10.0.20348.2031
	Compiler: clang 15.0.7, gcc 8.1.0 (MinGW), and MSVC VS 17.9

Debian 12
	Kernel: Container Host Kernel
	Compiler: gcc 10.2.1

CentOS Stream 8
	Kernel: 5.4.0-167-generic
	Compiler: gcc 8.5.0 20210514

CentOS Stream 9
	Kernel: 5.4.0-167-generic
	Compiler: gcc 11.4.1 20230605

Debian Bullseye
	Kernel: 5.4.0-167-generic
	Compiler: gcc 10.2.1-6

Fedora 37
	Kernel: Depends on container host system
	Compiler: gcc 12.3.1

To view detailed results, visit:
https://lab.dpdk.org/results/dashboard/patchsets/29980/

UNH-IOL DPDK Community Lab

To manage your email subscriptions, visit: 
https://lab.dpdk.org/results/dashboard/preferences/subscriptions/