From: dpdklab@iol.unh.edu
To: Test Report <test-report@dpdk.org>
Cc: dpdk-test-reports@iol.unh.edu, Xueming Li <xuemingl@nvidia.com>,
Christian Ehrhardt <christian.ehrhardt@canonical.com>,
Kevin Traynor <ktraynor@redhat.com>,
Luca Boccassi <bluca@debian.org>
Subject: |SUCCESS| [GIT MASTER] a6ec5765cf83d3d58cbd6d4ed5b92b4a06f8a808
Date: Mon, 20 May 2024 22:13:39 -0700 (PDT) [thread overview]
Message-ID: <664c2d83.170a0220.b6b45.27a5SMTPIN_ADDED_MISSING@mx.google.com> (raw)
_Testing PASS_
Branch: tags/v23.11
a6ec5765cf83d3d58cbd6d4ed5b92b4a06f8a808 --> testing pass
Test environment and result as below:
+-----------------------------+------------------------------+---------------------------+----------------+--------------+
| Environment | cryptodev_sw_snow3g_autotest | cryptodev_sw_zuc_autotest | dpdk_unit_test | lpm_autotest |
+=============================+==============================+===========================+================+==============+
| Debian 12 (arm) | PASS | PASS | PASS | SKIPPED |
+-----------------------------+------------------------------+---------------------------+----------------+--------------+
| Debian 11 (Buster) (ARM) | SKIPPED | SKIPPED | PASS | SKIPPED |
+-----------------------------+------------------------------+---------------------------+----------------+--------------+
| CentOS Stream 9 (ARM) | SKIPPED | SKIPPED | PASS | SKIPPED |
+-----------------------------+------------------------------+---------------------------+----------------+--------------+
| Fedora 38 (ARM) | SKIPPED | SKIPPED | PASS | SKIPPED |
+-----------------------------+------------------------------+---------------------------+----------------+--------------+
| Fedora 37 (ARM) | SKIPPED | SKIPPED | PASS | SKIPPED |
+-----------------------------+------------------------------+---------------------------+----------------+--------------+
| 32-bit Ubuntu 20.04.4 (ARM) | SKIPPED | SKIPPED | PASS | SKIPPED |
+-----------------------------+------------------------------+---------------------------+----------------+--------------+
| Fedora 39 (ARM) | SKIPPED | SKIPPED | PASS | SKIPPED |
+-----------------------------+------------------------------+---------------------------+----------------+--------------+
| Ubuntu 20.04 (ARM) | SKIPPED | SKIPPED | PASS | SKIPPED |
+-----------------------------+------------------------------+---------------------------+----------------+--------------+
| Fedora 38 (ARM Clang) | SKIPPED | SKIPPED | PASS | SKIPPED |
+-----------------------------+------------------------------+---------------------------+----------------+--------------+
| Ubuntu 20.04 ARM SVE | SKIPPED | SKIPPED | SKIPPED | PASS |
+-----------------------------+------------------------------+---------------------------+----------------+--------------+
Debian 12 (arm)
Kernel: Container Host Kernel
Compiler: gcc 12.2.0
Debian 11 (Buster) (ARM)
Kernel: Container Host Kernel
Compiler: gcc 10.2.1
CentOS Stream 9 (ARM)
Kernel: Container Host Kernel
Compiler: gcc 11.4.1
Fedora 38 (ARM)
Kernel: Depends on container host
Compiler: gcc 13.2.1
Fedora 37 (ARM)
Kernel: Depends on container host
Compiler: gcc 12.3.1
32-bit Ubuntu 20.04.4 (ARM)
Kernel: 5.4.0-155-generic aarch64
Compiler: gcc 9.4
Fedora 39 (ARM)
Kernel: Depends on container host
Compiler: gcc 13.2.1
Ubuntu 20.04 (ARM)
Kernel: Container Host Kernel
Compiler: gcc 9.4.0
Fedora 38 (ARM Clang)
Kernel: Depends on container host
Compiler: clang 16.0.6
Ubuntu 20.04 ARM SVE
Kernel: 5.4.0-167-generic
Compiler: gcc (Ubuntu 10.5.0-1ubuntu1~20.04) 10.5.0
To view detailed results, visit:
https://lab.dpdk.org/results/dashboard/tarballs/29149/
UNH-IOL DPDK Community Lab
To manage your email subscriptions, visit:
https://lab.dpdk.org/results/dashboard/preferences/subscriptions/
next reply other threads:[~2024-05-21 5:13 UTC|newest]
Thread overview: 1918+ messages / expand[flat|nested] mbox.gz Atom feed top
2024-05-21 5:13 dpdklab [this message]
2024-06-04 4:56 dpdklab
2024-06-04 4:56 dpdklab
2024-06-04 4:56 dpdklab
2024-06-04 4:58 dpdklab
2024-06-04 4:59 dpdklab
2024-06-04 4:59 dpdklab
2024-06-04 5:02 dpdklab
2024-06-04 5:05 dpdklab
2024-06-04 5:07 dpdklab
2024-06-04 5:07 dpdklab
2024-06-04 5:08 dpdklab
2024-06-04 5:11 dpdklab
2024-06-04 5:11 dpdklab
2024-06-04 5:14 dpdklab
2024-06-04 5:15 dpdklab
2024-06-04 5:27 dpdklab
2024-06-04 5:32 dpdklab
2024-06-04 5:44 dpdklab
2024-06-04 5:48 dpdklab
2024-06-04 6:06 dpdklab
2024-06-04 21:05 dpdklab
2024-06-04 21:06 dpdklab
2024-06-04 21:07 dpdklab
2024-06-04 21:10 dpdklab
2024-06-04 21:11 dpdklab
2024-06-04 21:14 dpdklab
2024-06-04 21:14 dpdklab
2024-06-04 21:15 dpdklab
2024-06-04 21:15 dpdklab
2024-06-04 21:16 dpdklab
2024-06-04 21:17 dpdklab
2024-06-04 21:18 dpdklab
2024-06-04 21:19 dpdklab
2024-06-04 21:19 dpdklab
2024-06-04 21:20 dpdklab
2024-06-04 21:20 dpdklab
2024-06-04 21:21 dpdklab
2024-06-04 21:21 dpdklab
2024-06-04 21:21 dpdklab
2024-06-04 21:22 dpdklab
2024-06-04 21:23 dpdklab
2024-06-04 21:23 dpdklab
2024-06-04 21:24 dpdklab
2024-06-04 21:24 dpdklab
2024-06-04 21:24 dpdklab
2024-06-04 21:25 dpdklab
2024-06-04 21:25 dpdklab
2024-06-04 21:25 dpdklab
2024-06-04 21:26 dpdklab
2024-06-04 21:27 dpdklab
2024-06-04 21:28 dpdklab
2024-06-04 21:30 dpdklab
2024-06-04 21:33 dpdklab
2024-06-04 21:35 dpdklab
2024-06-04 21:36 dpdklab
2024-06-04 21:36 dpdklab
2024-06-04 21:38 dpdklab
2024-06-04 21:38 dpdklab
2024-06-04 21:38 dpdklab
2024-06-04 21:41 dpdklab
2024-06-04 21:45 dpdklab
2024-06-04 21:49 dpdklab
2024-06-04 22:04 dpdklab
2024-06-04 22:36 dpdklab
2024-06-05 4:27 dpdklab
2024-06-05 4:30 dpdklab
2024-06-05 4:31 dpdklab
2024-06-05 4:31 dpdklab
2024-06-05 4:32 dpdklab
2024-06-05 4:33 dpdklab
2024-06-05 4:33 dpdklab
2024-06-05 4:34 dpdklab
2024-06-05 4:35 dpdklab
2024-06-05 4:38 dpdklab
2024-06-05 4:40 dpdklab
2024-06-05 4:41 dpdklab
2024-06-05 4:43 dpdklab
2024-06-05 4:45 dpdklab
2024-06-05 4:45 dpdklab
2024-06-05 4:46 dpdklab
2024-06-05 4:46 dpdklab
2024-06-05 4:51 dpdklab
2024-06-05 4:54 dpdklab
2024-06-05 4:54 dpdklab
2024-06-05 4:55 dpdklab
2024-06-05 5:37 dpdklab
2024-06-05 5:38 dpdklab
2024-06-05 5:59 dpdklab
2024-06-05 18:14 dpdklab
2024-06-05 18:19 dpdklab
2024-06-05 19:56 dpdklab
2024-06-06 4:42 dpdklab
2024-06-06 4:48 dpdklab
2024-06-06 4:48 dpdklab
2024-06-06 4:49 dpdklab
2024-06-06 4:49 dpdklab
2024-06-06 4:50 dpdklab
2024-06-06 4:50 dpdklab
2024-06-06 4:51 dpdklab
2024-06-06 4:51 dpdklab
2024-06-06 4:51 dpdklab
2024-06-06 4:52 dpdklab
2024-06-06 4:54 dpdklab
2024-06-06 4:54 dpdklab
2024-06-06 4:55 dpdklab
2024-06-06 4:56 dpdklab
2024-06-06 5:12 dpdklab
2024-06-06 5:13 dpdklab
2024-06-06 5:14 dpdklab
2024-06-06 5:15 dpdklab
2024-06-06 5:16 dpdklab
2024-06-06 5:16 dpdklab
2024-06-06 5:19 dpdklab
2024-06-06 5:19 dpdklab
2024-06-06 5:20 dpdklab
2024-06-06 5:22 dpdklab
2024-06-06 5:24 dpdklab
2024-06-06 5:31 dpdklab
2024-06-06 5:35 dpdklab
2024-06-06 5:37 dpdklab
2024-06-06 5:38 dpdklab
2024-06-06 5:55 dpdklab
2024-06-06 6:03 dpdklab
2024-06-06 6:07 dpdklab
2024-06-06 6:12 dpdklab
2024-06-06 6:12 dpdklab
2024-06-06 6:13 dpdklab
2024-06-06 6:23 dpdklab
2024-06-06 6:26 dpdklab
2024-06-06 6:31 dpdklab
2024-06-06 6:33 dpdklab
2024-06-06 6:36 dpdklab
2024-06-06 6:39 dpdklab
2024-06-06 6:41 dpdklab
2024-06-06 8:12 dpdklab
2024-06-06 8:19 dpdklab
2024-06-06 9:01 dpdklab
2024-06-07 4:53 dpdklab
2024-06-07 5:00 dpdklab
2024-06-07 5:00 dpdklab
2024-06-07 5:01 dpdklab
2024-06-07 5:03 dpdklab
2024-06-07 5:04 dpdklab
2024-06-07 5:05 dpdklab
2024-06-07 5:07 dpdklab
2024-06-07 5:08 dpdklab
2024-06-07 5:09 dpdklab
2024-06-07 5:09 dpdklab
2024-06-07 5:17 dpdklab
2024-06-07 5:23 dpdklab
2024-06-07 5:24 dpdklab
2024-06-07 5:29 dpdklab
2024-06-07 5:30 dpdklab
2024-06-07 5:31 dpdklab
2024-06-07 5:32 dpdklab
2024-06-07 5:33 dpdklab
2024-06-07 5:36 dpdklab
2024-06-07 5:44 dpdklab
2024-06-07 5:48 dpdklab
2024-06-07 5:49 dpdklab
2024-06-07 5:53 dpdklab
2024-06-07 5:54 dpdklab
2024-06-07 5:54 dpdklab
2024-06-07 5:59 dpdklab
2024-06-07 6:00 dpdklab
2024-06-07 6:05 dpdklab
2024-06-07 6:11 dpdklab
2024-06-07 6:12 dpdklab
2024-06-07 6:12 dpdklab
2024-06-07 6:14 dpdklab
2024-06-07 6:20 dpdklab
2024-06-07 6:24 dpdklab
2024-06-07 6:28 dpdklab
2024-06-07 6:47 dpdklab
2024-06-08 4:50 dpdklab
2024-06-08 4:50 dpdklab
2024-06-08 4:51 dpdklab
2024-06-08 4:51 dpdklab
2024-06-08 4:52 dpdklab
2024-06-08 4:53 dpdklab
2024-06-08 4:54 dpdklab
2024-06-08 4:54 dpdklab
2024-06-08 5:03 dpdklab
2024-06-08 5:04 dpdklab
2024-06-08 5:04 dpdklab
2024-06-08 5:07 dpdklab
2024-06-08 5:07 dpdklab
2024-06-08 5:08 dpdklab
2024-06-08 5:14 dpdklab
2024-06-08 5:18 dpdklab
2024-06-08 5:19 dpdklab
2024-06-09 4:46 dpdklab
2024-06-09 5:37 dpdklab
2024-06-09 5:40 dpdklab
2024-06-09 5:41 dpdklab
2024-06-09 5:42 dpdklab
2024-06-09 5:44 dpdklab
2024-06-09 5:45 dpdklab
2024-06-09 5:45 dpdklab
2024-06-09 5:46 dpdklab
2024-06-09 5:46 dpdklab
2024-06-09 5:46 dpdklab
2024-06-09 5:47 dpdklab
2024-06-09 5:47 dpdklab
2024-06-09 5:55 dpdklab
2024-06-09 6:00 dpdklab
2024-06-09 6:02 dpdklab
2024-06-09 6:05 dpdklab
2024-06-09 6:09 dpdklab
2024-06-09 6:09 dpdklab
2024-06-09 6:12 dpdklab
2024-06-09 6:12 dpdklab
2024-06-09 6:13 dpdklab
2024-06-09 6:15 dpdklab
2024-06-09 6:15 dpdklab
2024-06-09 6:19 dpdklab
2024-06-09 6:23 dpdklab
2024-06-09 6:23 dpdklab
2024-06-09 6:24 dpdklab
2024-06-09 6:26 dpdklab
2024-06-09 6:27 dpdklab
2024-06-09 6:29 dpdklab
2024-06-09 6:38 dpdklab
2024-06-10 4:10 dpdklab
2024-06-10 4:37 dpdklab
2024-06-10 4:37 dpdklab
2024-06-10 4:37 dpdklab
2024-06-10 4:38 dpdklab
2024-06-10 4:38 dpdklab
2024-06-10 4:39 dpdklab
2024-06-10 4:39 dpdklab
2024-06-10 4:40 dpdklab
2024-06-10 4:40 dpdklab
2024-06-10 4:40 dpdklab
2024-06-10 4:43 dpdklab
2024-06-10 4:43 dpdklab
2024-06-10 4:44 dpdklab
2024-06-10 4:45 dpdklab
2024-06-10 4:45 dpdklab
2024-06-10 4:49 dpdklab
2024-06-10 4:51 dpdklab
2024-06-10 5:08 dpdklab
2024-06-10 5:21 dpdklab
2024-06-10 5:43 dpdklab
2024-06-11 4:48 dpdklab
2024-06-11 5:10 dpdklab
2024-06-11 5:13 dpdklab
2024-06-11 5:49 dpdklab
2024-06-11 5:52 dpdklab
2024-06-11 6:06 dpdklab
2024-06-12 4:49 dpdklab
2024-06-12 4:57 dpdklab
2024-06-12 5:01 dpdklab
2024-06-12 5:23 dpdklab
2024-06-12 5:25 dpdklab
2024-06-12 6:06 dpdklab
2024-06-12 23:51 dpdklab
2024-06-12 23:54 dpdklab
2024-06-12 23:56 dpdklab
2024-06-12 23:57 dpdklab
2024-06-12 23:57 dpdklab
2024-06-12 23:57 dpdklab
2024-06-12 23:58 dpdklab
2024-06-12 23:58 dpdklab
2024-06-13 0:00 dpdklab
2024-06-13 0:00 dpdklab
2024-06-13 0:03 dpdklab
2024-06-13 0:04 dpdklab
2024-06-13 0:05 dpdklab
2024-06-13 0:05 dpdklab
2024-06-13 0:07 dpdklab
2024-06-13 0:10 dpdklab
2024-06-13 0:10 dpdklab
2024-06-13 3:18 dpdklab
2024-06-13 3:20 dpdklab
2024-06-13 3:24 dpdklab
2024-06-13 3:25 dpdklab
2024-06-13 3:26 dpdklab
2024-06-13 3:27 dpdklab
2024-06-13 3:28 dpdklab
2024-06-13 3:29 dpdklab
2024-06-13 3:30 dpdklab
2024-06-13 3:30 dpdklab
2024-06-13 3:31 dpdklab
2024-06-13 3:35 dpdklab
2024-06-13 3:37 dpdklab
2024-06-13 3:37 dpdklab
2024-06-13 3:38 dpdklab
2024-06-13 3:38 dpdklab
2024-06-13 3:40 dpdklab
2024-06-13 5:33 dpdklab
2024-06-13 5:34 dpdklab
2024-06-13 5:34 dpdklab
2024-06-13 5:34 dpdklab
2024-06-13 5:35 dpdklab
2024-06-13 5:35 dpdklab
2024-06-13 5:36 dpdklab
2024-06-13 6:04 dpdklab
2024-06-13 6:04 dpdklab
2024-06-13 6:05 dpdklab
2024-06-13 6:05 dpdklab
2024-06-13 6:07 dpdklab
2024-06-13 6:20 dpdklab
2024-06-13 6:21 dpdklab
2024-06-13 6:25 dpdklab
2024-06-13 6:33 dpdklab
2024-06-13 6:35 dpdklab
2024-06-13 6:36 dpdklab
2024-06-13 6:36 dpdklab
2024-06-13 6:49 dpdklab
2024-06-13 7:29 dpdklab
2024-06-13 8:43 dpdklab
2024-06-14 4:52 dpdklab
2024-06-14 4:54 dpdklab
2024-06-14 4:56 dpdklab
2024-06-14 4:56 dpdklab
2024-06-14 4:57 dpdklab
2024-06-14 4:57 dpdklab
2024-06-14 4:58 dpdklab
2024-06-14 4:58 dpdklab
2024-06-14 4:58 dpdklab
2024-06-14 4:58 dpdklab
2024-06-14 4:59 dpdklab
2024-06-14 5:30 dpdklab
2024-06-14 5:30 dpdklab
2024-06-14 5:33 dpdklab
2024-06-14 5:34 dpdklab
2024-06-14 5:35 dpdklab
2024-06-14 5:35 dpdklab
2024-06-14 5:36 dpdklab
2024-06-14 5:36 dpdklab
2024-06-14 5:38 dpdklab
2024-06-14 5:39 dpdklab
2024-06-14 5:39 dpdklab
2024-06-14 5:40 dpdklab
2024-06-14 5:41 dpdklab
2024-06-14 5:43 dpdklab
2024-06-14 5:49 dpdklab
2024-06-14 5:53 dpdklab
2024-06-14 5:58 dpdklab
2024-06-14 5:59 dpdklab
2024-06-14 6:08 dpdklab
2024-06-14 6:11 dpdklab
2024-06-14 6:12 dpdklab
2024-06-14 6:16 dpdklab
2024-06-14 6:17 dpdklab
2024-06-14 6:17 dpdklab
2024-06-14 6:17 dpdklab
2024-06-14 6:18 dpdklab
2024-06-14 6:18 dpdklab
2024-06-14 6:19 dpdklab
2024-06-14 6:24 dpdklab
2024-06-14 6:25 dpdklab
2024-06-15 5:33 dpdklab
2024-06-15 5:35 dpdklab
2024-06-15 5:36 dpdklab
2024-06-15 5:38 dpdklab
2024-06-15 5:39 dpdklab
2024-06-15 5:40 dpdklab
2024-06-15 5:43 dpdklab
2024-06-15 5:43 dpdklab
2024-06-15 5:44 dpdklab
2024-06-15 5:45 dpdklab
2024-06-15 5:46 dpdklab
2024-06-15 5:47 dpdklab
2024-06-15 5:50 dpdklab
2024-06-15 5:50 dpdklab
2024-06-15 5:52 dpdklab
2024-06-15 5:53 dpdklab
2024-06-15 5:56 dpdklab
2024-06-15 5:57 dpdklab
2024-06-15 5:57 dpdklab
2024-06-15 6:00 dpdklab
2024-06-15 6:09 dpdklab
2024-06-15 6:12 dpdklab
2024-06-15 6:13 dpdklab
2024-06-15 6:13 dpdklab
2024-06-15 6:13 dpdklab
2024-06-15 6:14 dpdklab
2024-06-15 6:14 dpdklab
2024-06-15 6:15 dpdklab
2024-06-15 6:16 dpdklab
2024-06-15 6:19 dpdklab
2024-06-15 6:19 dpdklab
2024-06-15 6:27 dpdklab
2024-06-15 6:28 dpdklab
2024-06-15 6:29 dpdklab
2024-06-15 6:31 dpdklab
2024-06-15 6:35 dpdklab
2024-06-15 6:39 dpdklab
2024-06-15 6:42 dpdklab
2024-06-15 6:54 dpdklab
2024-06-15 6:58 dpdklab
2024-06-16 4:40 dpdklab
2024-06-16 4:43 dpdklab
2024-06-16 4:46 dpdklab
2024-06-16 4:47 dpdklab
2024-06-16 4:49 dpdklab
2024-06-16 4:49 dpdklab
2024-06-16 4:49 dpdklab
2024-06-16 4:51 dpdklab
2024-06-16 4:52 dpdklab
2024-06-16 4:58 dpdklab
2024-06-16 4:59 dpdklab
2024-06-16 4:59 dpdklab
2024-06-16 5:00 dpdklab
2024-06-16 5:00 dpdklab
2024-06-16 5:02 dpdklab
2024-06-16 5:04 dpdklab
2024-06-16 5:04 dpdklab
2024-06-16 5:05 dpdklab
2024-06-16 5:06 dpdklab
2024-06-16 5:07 dpdklab
2024-06-16 5:10 dpdklab
2024-06-16 5:12 dpdklab
2024-06-16 5:12 dpdklab
2024-06-16 5:14 dpdklab
2024-06-16 5:21 dpdklab
2024-06-16 5:22 dpdklab
2024-06-16 5:23 dpdklab
2024-06-16 5:24 dpdklab
2024-06-16 5:25 dpdklab
2024-06-16 5:26 dpdklab
2024-06-16 5:27 dpdklab
2024-06-16 5:27 dpdklab
2024-06-16 5:27 dpdklab
2024-06-16 5:28 dpdklab
2024-06-16 5:29 dpdklab
2024-06-16 5:30 dpdklab
2024-06-16 5:31 dpdklab
2024-06-16 5:32 dpdklab
2024-06-16 5:32 dpdklab
2024-06-16 5:34 dpdklab
2024-06-16 5:34 dpdklab
2024-06-16 5:35 dpdklab
2024-06-16 5:37 dpdklab
2024-06-16 5:38 dpdklab
2024-06-17 5:20 dpdklab
2024-06-17 5:21 dpdklab
2024-06-17 5:22 dpdklab
2024-06-17 5:24 dpdklab
2024-06-17 5:24 dpdklab
2024-06-17 5:24 dpdklab
2024-06-17 5:25 dpdklab
2024-06-17 5:27 dpdklab
2024-06-17 5:33 dpdklab
2024-06-17 5:35 dpdklab
2024-06-17 5:36 dpdklab
2024-06-17 5:39 dpdklab
2024-06-17 5:39 dpdklab
2024-06-17 5:40 dpdklab
2024-06-17 5:44 dpdklab
2024-06-17 5:45 dpdklab
2024-06-17 5:46 dpdklab
2024-06-17 5:47 dpdklab
2024-06-17 5:47 dpdklab
2024-06-17 5:48 dpdklab
2024-06-17 5:48 dpdklab
2024-06-17 5:48 dpdklab
2024-06-17 5:49 dpdklab
2024-06-17 5:50 dpdklab
2024-06-17 5:51 dpdklab
2024-06-17 5:51 dpdklab
2024-06-17 5:52 dpdklab
2024-06-17 5:52 dpdklab
2024-06-17 5:53 dpdklab
2024-06-17 5:55 dpdklab
2024-06-17 5:57 dpdklab
2024-06-17 5:59 dpdklab
2024-06-17 6:01 dpdklab
2024-06-17 6:02 dpdklab
2024-06-17 6:03 dpdklab
2024-06-17 6:04 dpdklab
2024-06-17 6:05 dpdklab
2024-06-17 6:08 dpdklab
2024-06-17 6:08 dpdklab
2024-06-17 6:09 dpdklab
2024-06-17 6:10 dpdklab
2024-06-17 6:11 dpdklab
2024-06-17 6:11 dpdklab
2024-06-17 6:14 dpdklab
2024-06-17 6:16 dpdklab
2024-06-17 6:17 dpdklab
2024-06-17 6:22 dpdklab
2024-06-17 6:23 dpdklab
2024-06-17 6:23 dpdklab
2024-06-17 6:36 dpdklab
2024-06-17 6:37 dpdklab
2024-06-17 6:38 dpdklab
2024-06-17 6:40 dpdklab
2024-06-17 6:42 dpdklab
2024-06-17 7:22 dpdklab
2024-06-17 7:26 dpdklab
2024-06-18 4:39 dpdklab
2024-06-18 4:40 dpdklab
2024-06-18 4:40 dpdklab
2024-06-18 4:40 dpdklab
2024-06-18 4:40 dpdklab
2024-06-18 4:40 dpdklab
2024-06-18 4:41 dpdklab
2024-06-18 4:41 dpdklab
2024-06-18 4:41 dpdklab
2024-06-18 4:42 dpdklab
2024-06-18 4:43 dpdklab
2024-06-18 4:44 dpdklab
2024-06-18 5:18 dpdklab
2024-06-18 5:19 dpdklab
2024-06-18 5:27 dpdklab
2024-06-18 5:27 dpdklab
2024-06-18 5:45 dpdklab
2024-06-18 5:45 dpdklab
2024-06-18 5:46 dpdklab
2024-06-18 5:46 dpdklab
2024-06-18 5:48 dpdklab
2024-06-18 5:49 dpdklab
2024-06-18 5:53 dpdklab
2024-06-18 5:54 dpdklab
2024-06-18 5:59 dpdklab
2024-06-18 6:06 dpdklab
2024-06-18 17:40 dpdklab
2024-06-19 5:56 dpdklab
2024-06-19 5:57 dpdklab
2024-06-19 6:05 dpdklab
2024-06-19 6:07 dpdklab
2024-06-19 6:08 dpdklab
2024-06-19 6:09 dpdklab
2024-06-19 6:09 dpdklab
2024-06-19 6:09 dpdklab
2024-06-19 6:12 dpdklab
2024-06-19 6:15 dpdklab
2024-06-19 6:16 dpdklab
2024-06-19 6:17 dpdklab
2024-06-19 6:25 dpdklab
2024-06-19 6:28 dpdklab
2024-06-19 6:31 dpdklab
2024-06-19 7:10 dpdklab
2024-06-19 7:10 dpdklab
2024-06-19 7:11 dpdklab
2024-06-19 7:12 dpdklab
2024-06-19 7:15 dpdklab
2024-06-19 7:32 dpdklab
2024-06-19 7:33 dpdklab
2024-06-19 7:53 dpdklab
2024-06-19 7:54 dpdklab
2024-06-19 10:34 dpdklab
2024-06-19 13:44 dpdklab
2024-06-19 14:04 dpdklab
2024-06-19 14:06 dpdklab
2024-06-19 14:15 dpdklab
2024-06-19 14:18 dpdklab
2024-06-19 14:18 dpdklab
2024-06-19 14:32 dpdklab
2024-06-19 14:33 dpdklab
2024-06-19 14:38 dpdklab
2024-06-19 14:49 dpdklab
2024-06-19 14:53 dpdklab
2024-06-20 4:48 dpdklab
2024-06-20 5:19 dpdklab
2024-06-20 6:06 dpdklab
2024-06-20 6:22 dpdklab
2024-06-20 6:24 dpdklab
2024-06-20 6:32 dpdklab
2024-06-20 6:32 dpdklab
2024-06-20 6:32 dpdklab
2024-06-20 6:32 dpdklab
2024-06-20 6:33 dpdklab
2024-06-20 6:33 dpdklab
2024-06-20 6:33 dpdklab
2024-06-20 6:34 dpdklab
2024-06-20 6:34 dpdklab
2024-06-20 6:36 dpdklab
2024-06-20 6:41 dpdklab
2024-06-20 6:52 dpdklab
2024-06-20 6:57 dpdklab
2024-06-20 7:02 dpdklab
2024-06-20 7:12 dpdklab
2024-06-20 7:13 dpdklab
2024-06-20 7:16 dpdklab
2024-06-20 7:17 dpdklab
2024-06-20 7:18 dpdklab
2024-06-20 10:19 dpdklab
2024-06-20 10:20 dpdklab
2024-06-20 10:20 dpdklab
2024-06-20 10:21 dpdklab
2024-06-20 10:24 dpdklab
2024-06-20 10:26 dpdklab
2024-06-20 10:27 dpdklab
2024-06-20 10:33 dpdklab
2024-06-20 10:33 dpdklab
2024-06-20 10:33 dpdklab
2024-06-20 10:38 dpdklab
2024-06-20 10:39 dpdklab
2024-06-20 10:51 dpdklab
2024-06-20 10:53 dpdklab
2024-06-21 5:25 dpdklab
2024-06-21 5:52 dpdklab
2024-06-21 5:53 dpdklab
2024-06-21 5:54 dpdklab
2024-06-21 5:56 dpdklab
2024-06-21 5:57 dpdklab
2024-06-21 6:02 dpdklab
2024-06-21 6:08 dpdklab
2024-06-21 6:08 dpdklab
2024-06-21 6:14 dpdklab
2024-06-21 6:16 dpdklab
2024-06-21 6:23 dpdklab
2024-06-21 6:30 dpdklab
2024-06-21 6:54 dpdklab
2024-06-21 7:33 dpdklab
2024-06-21 7:46 dpdklab
2024-06-21 8:00 dpdklab
2024-06-21 8:26 dpdklab
2024-06-21 8:27 dpdklab
2024-06-21 8:36 dpdklab
2024-06-21 8:41 dpdklab
2024-06-21 8:59 dpdklab
2024-06-21 9:01 dpdklab
2024-06-21 9:01 dpdklab
2024-06-21 9:34 dpdklab
2024-06-21 15:27 dpdklab
2024-06-22 2:22 dpdklab
2024-06-22 4:31 dpdklab
2024-06-22 4:32 dpdklab
2024-06-22 4:32 dpdklab
2024-06-22 4:33 dpdklab
2024-06-22 4:36 dpdklab
2024-06-22 4:36 dpdklab
2024-06-22 4:38 dpdklab
2024-06-22 4:38 dpdklab
2024-06-22 4:44 dpdklab
2024-06-22 4:45 dpdklab
2024-06-22 4:46 dpdklab
2024-06-22 4:46 dpdklab
2024-06-22 4:48 dpdklab
2024-06-22 4:50 dpdklab
2024-06-22 4:51 dpdklab
2024-06-22 4:51 dpdklab
2024-06-22 4:52 dpdklab
2024-06-22 4:56 dpdklab
2024-06-22 4:57 dpdklab
2024-06-22 4:58 dpdklab
2024-06-22 4:58 dpdklab
2024-06-22 4:59 dpdklab
2024-06-22 5:01 dpdklab
2024-06-22 5:02 dpdklab
2024-06-22 5:07 dpdklab
2024-06-22 5:25 dpdklab
2024-06-22 5:25 dpdklab
2024-06-22 5:26 dpdklab
2024-06-22 5:27 dpdklab
2024-06-22 5:28 dpdklab
2024-06-22 5:28 dpdklab
2024-06-22 5:31 dpdklab
2024-06-22 5:32 dpdklab
2024-06-22 5:32 dpdklab
2024-06-22 5:33 dpdklab
2024-06-22 5:35 dpdklab
2024-06-22 5:36 dpdklab
2024-06-22 11:11 dpdklab
2024-06-22 14:41 dpdklab
2024-06-23 5:15 dpdklab
2024-06-23 5:15 dpdklab
2024-06-23 5:16 dpdklab
2024-06-23 5:16 dpdklab
2024-06-23 5:16 dpdklab
2024-06-23 5:16 dpdklab
2024-06-23 5:16 dpdklab
2024-06-23 5:17 dpdklab
2024-06-23 5:17 dpdklab
2024-06-23 5:20 dpdklab
2024-06-23 5:22 dpdklab
2024-06-23 5:22 dpdklab
2024-06-23 5:29 dpdklab
2024-06-23 5:31 dpdklab
2024-06-23 5:36 dpdklab
2024-06-23 5:46 dpdklab
2024-06-23 5:50 dpdklab
2024-06-23 5:57 dpdklab
2024-06-24 5:10 dpdklab
2024-06-24 5:26 dpdklab
2024-06-24 5:41 dpdklab
2024-06-24 5:42 dpdklab
2024-06-24 5:43 dpdklab
2024-06-24 5:43 dpdklab
2024-06-24 5:44 dpdklab
2024-06-24 5:46 dpdklab
2024-06-24 5:47 dpdklab
2024-06-24 5:47 dpdklab
2024-06-24 5:52 dpdklab
2024-06-24 5:53 dpdklab
2024-06-24 5:53 dpdklab
2024-06-24 5:54 dpdklab
2024-06-24 5:54 dpdklab
2024-06-24 5:56 dpdklab
2024-06-24 5:57 dpdklab
2024-06-24 5:57 dpdklab
2024-06-24 5:59 dpdklab
2024-06-24 6:03 dpdklab
2024-06-24 6:03 dpdklab
2024-06-24 6:05 dpdklab
2024-06-24 6:06 dpdklab
2024-06-24 6:17 dpdklab
2024-06-24 6:17 dpdklab
2024-06-24 6:19 dpdklab
2024-06-24 6:21 dpdklab
2024-06-24 6:22 dpdklab
2024-06-24 6:23 dpdklab
2024-06-24 6:23 dpdklab
2024-06-24 6:26 dpdklab
2024-06-24 6:27 dpdklab
2024-06-24 6:29 dpdklab
2024-06-24 6:30 dpdklab
2024-06-24 6:32 dpdklab
2024-06-24 6:35 dpdklab
2024-06-24 6:39 dpdklab
2024-06-24 6:41 dpdklab
2024-06-24 6:42 dpdklab
2024-06-24 6:58 dpdklab
2024-06-24 7:02 dpdklab
2024-06-24 7:08 dpdklab
2024-06-24 7:09 dpdklab
2024-06-24 7:09 dpdklab
2024-06-24 8:10 dpdklab
2024-06-25 5:59 dpdklab
2024-06-25 6:11 dpdklab
2024-06-25 6:12 dpdklab
2024-06-25 6:15 dpdklab
2024-06-25 6:16 dpdklab
2024-06-25 6:17 dpdklab
2024-06-25 6:17 dpdklab
2024-06-25 6:33 dpdklab
2024-06-25 6:33 dpdklab
2024-06-25 6:37 dpdklab
2024-06-25 7:07 dpdklab
2024-06-25 7:24 dpdklab
2024-06-25 8:25 dpdklab
2024-06-25 8:30 dpdklab
2024-06-25 8:36 dpdklab
2024-06-25 8:47 dpdklab
2024-06-25 8:58 dpdklab
2024-06-25 11:06 dpdklab
2024-06-25 11:07 dpdklab
2024-06-25 11:08 dpdklab
2024-06-25 11:08 dpdklab
2024-06-25 11:10 dpdklab
2024-06-26 5:57 dpdklab
2024-06-26 6:22 dpdklab
2024-06-26 6:36 dpdklab
2024-06-26 6:36 dpdklab
2024-06-26 6:37 dpdklab
2024-06-26 6:37 dpdklab
2024-06-26 6:38 dpdklab
2024-06-26 6:38 dpdklab
2024-06-26 6:38 dpdklab
2024-06-26 6:39 dpdklab
2024-06-26 6:39 dpdklab
2024-06-26 6:41 dpdklab
2024-06-26 6:42 dpdklab
2024-06-26 6:43 dpdklab
2024-06-26 6:48 dpdklab
2024-06-26 6:48 dpdklab
2024-06-26 6:50 dpdklab
2024-06-26 16:32 dpdklab
2024-06-27 4:34 dpdklab
2024-06-27 4:36 dpdklab
2024-06-27 4:39 dpdklab
2024-06-27 4:42 dpdklab
2024-06-27 4:42 dpdklab
2024-06-27 4:45 dpdklab
2024-06-27 4:50 dpdklab
2024-06-27 4:52 dpdklab
2024-06-27 4:52 dpdklab
2024-06-27 4:55 dpdklab
2024-06-27 4:55 dpdklab
2024-06-27 4:55 dpdklab
2024-06-27 4:59 dpdklab
2024-06-27 5:00 dpdklab
2024-06-27 5:04 dpdklab
2024-06-27 5:07 dpdklab
2024-06-27 5:32 dpdklab
2024-06-27 7:52 dpdklab
2024-06-27 7:57 dpdklab
2024-06-27 8:02 dpdklab
2024-06-27 8:08 dpdklab
2024-06-27 8:08 dpdklab
2024-06-27 8:08 dpdklab
2024-06-27 8:13 dpdklab
2024-06-27 8:17 dpdklab
2024-06-27 8:28 dpdklab
2024-06-27 8:29 dpdklab
2024-06-27 8:30 dpdklab
2024-06-27 8:33 dpdklab
2024-06-27 8:34 dpdklab
2024-06-27 8:38 dpdklab
2024-06-27 8:38 dpdklab
2024-06-27 8:43 dpdklab
2024-06-27 8:44 dpdklab
2024-06-27 8:48 dpdklab
2024-06-27 8:54 dpdklab
2024-06-27 8:55 dpdklab
2024-06-27 9:02 dpdklab
2024-06-27 9:07 dpdklab
2024-06-27 9:07 dpdklab
2024-06-27 9:38 dpdklab
2024-06-27 9:42 dpdklab
2024-06-27 9:45 dpdklab
2024-06-27 9:48 dpdklab
2024-06-27 10:02 dpdklab
2024-06-27 10:03 dpdklab
2024-06-27 10:07 dpdklab
2024-06-27 10:15 dpdklab
2024-06-27 10:18 dpdklab
2024-06-27 10:26 dpdklab
2024-06-27 10:31 dpdklab
2024-06-27 10:34 dpdklab
2024-06-27 10:35 dpdklab
2024-06-27 10:42 dpdklab
2024-06-27 10:56 dpdklab
2024-06-28 4:51 dpdklab
2024-06-28 5:11 dpdklab
2024-06-28 5:15 dpdklab
2024-06-28 5:17 dpdklab
2024-06-28 5:18 dpdklab
2024-06-28 5:18 dpdklab
2024-06-28 5:19 dpdklab
2024-06-28 5:20 dpdklab
2024-06-28 5:23 dpdklab
2024-06-28 5:25 dpdklab
2024-06-28 5:34 dpdklab
2024-06-28 5:35 dpdklab
2024-06-28 5:38 dpdklab
2024-06-28 5:47 dpdklab
2024-06-28 6:07 dpdklab
2024-06-28 6:15 dpdklab
2024-06-28 6:22 dpdklab
2024-06-28 6:25 dpdklab
2024-06-28 6:36 dpdklab
2024-06-28 6:46 dpdklab
2024-06-28 6:50 dpdklab
2024-06-28 7:50 dpdklab
2024-06-28 7:54 dpdklab
2024-06-28 7:59 dpdklab
2024-06-28 8:05 dpdklab
2024-06-28 8:29 dpdklab
2024-06-28 9:20 dpdklab
2024-06-28 9:33 dpdklab
2024-06-28 9:36 dpdklab
2024-06-28 9:43 dpdklab
2024-06-28 9:54 dpdklab
2024-06-28 9:58 dpdklab
2024-06-28 10:05 dpdklab
2024-06-28 10:10 dpdklab
2024-06-28 10:14 dpdklab
2024-06-28 10:23 dpdklab
2024-06-28 10:25 dpdklab
2024-06-28 10:27 dpdklab
2024-06-28 10:28 dpdklab
2024-06-28 10:29 dpdklab
2024-06-28 10:32 dpdklab
2024-06-28 10:36 dpdklab
2024-06-28 10:37 dpdklab
2024-06-28 10:41 dpdklab
2024-06-28 10:42 dpdklab
2024-06-28 10:43 dpdklab
2024-06-28 10:48 dpdklab
2024-06-28 10:51 dpdklab
2024-06-28 10:57 dpdklab
2024-06-28 10:59 dpdklab
2024-06-28 11:11 dpdklab
2024-06-28 11:15 dpdklab
2024-06-28 11:16 dpdklab
2024-06-28 11:20 dpdklab
2024-06-28 11:32 dpdklab
2024-06-28 11:39 dpdklab
2024-06-28 11:41 dpdklab
2024-06-28 11:46 dpdklab
2024-06-28 11:49 dpdklab
2024-06-28 12:02 dpdklab
2024-06-28 12:09 dpdklab
2024-06-28 12:13 dpdklab
2024-06-28 12:17 dpdklab
2024-06-28 12:17 dpdklab
2024-06-28 12:20 dpdklab
2024-06-28 12:53 dpdklab
2024-06-28 13:01 dpdklab
2024-06-28 20:56 dpdklab
2024-06-29 4:33 dpdklab
2024-06-29 4:33 dpdklab
2024-06-29 4:34 dpdklab
2024-06-29 4:37 dpdklab
2024-06-29 4:39 dpdklab
2024-06-29 4:52 dpdklab
2024-06-29 5:01 dpdklab
2024-06-29 5:07 dpdklab
2024-06-29 5:20 dpdklab
2024-06-29 5:36 dpdklab
2024-06-29 5:52 dpdklab
2024-06-29 8:42 dpdklab
2024-06-29 14:17 dpdklab
2024-06-30 4:10 dpdklab
2024-06-30 4:14 dpdklab
2024-06-30 4:14 dpdklab
2024-06-30 4:15 dpdklab
2024-06-30 4:18 dpdklab
2024-06-30 4:18 dpdklab
2024-06-30 4:19 dpdklab
2024-06-30 4:28 dpdklab
2024-06-30 4:37 dpdklab
2024-06-30 5:04 dpdklab
2024-06-30 5:12 dpdklab
2024-07-01 4:32 dpdklab
2024-07-01 4:32 dpdklab
2024-07-01 4:51 dpdklab
2024-07-01 4:52 dpdklab
2024-07-01 4:52 dpdklab
2024-07-01 5:05 dpdklab
2024-07-01 5:16 dpdklab
2024-07-01 5:27 dpdklab
2024-07-01 5:37 dpdklab
2024-07-01 6:04 dpdklab
2024-07-01 6:29 dpdklab
2024-07-01 6:56 dpdklab
2024-07-02 5:14 dpdklab
2024-07-02 5:16 dpdklab
2024-07-02 5:27 dpdklab
2024-07-02 5:32 dpdklab
2024-07-02 5:39 dpdklab
2024-07-02 6:02 dpdklab
2024-07-02 6:14 dpdklab
2024-07-02 6:47 dpdklab
2024-07-02 7:42 dpdklab
2024-07-02 7:43 dpdklab
2024-07-02 7:43 dpdklab
2024-07-02 11:00 dpdklab
2024-07-02 18:06 dpdklab
2024-07-02 18:13 dpdklab
2024-07-02 19:27 dpdklab
2024-07-04 7:01 dpdklab
2024-07-04 7:05 dpdklab
2024-07-04 7:07 dpdklab
2024-07-04 7:10 dpdklab
2024-07-04 7:24 dpdklab
2024-07-04 7:35 dpdklab
2024-07-04 10:57 dpdklab
2024-07-04 11:01 dpdklab
2024-07-04 11:06 dpdklab
2024-07-04 11:36 dpdklab
2024-07-04 11:56 dpdklab
2024-07-04 12:28 dpdklab
2024-07-04 12:36 dpdklab
2024-07-04 13:10 dpdklab
2024-07-04 18:30 dpdklab
2024-07-05 4:50 dpdklab
2024-07-05 4:58 dpdklab
2024-07-05 5:04 dpdklab
2024-07-05 5:05 dpdklab
2024-07-05 5:08 dpdklab
2024-07-05 5:33 dpdklab
2024-07-05 5:41 dpdklab
2024-07-05 5:46 dpdklab
2024-07-05 6:09 dpdklab
2024-07-05 7:07 dpdklab
2024-07-05 11:46 dpdklab
2024-07-05 12:30 dpdklab
2024-07-05 12:40 dpdklab
2024-07-05 12:59 dpdklab
2024-07-05 13:16 dpdklab
2024-07-05 19:24 dpdklab
2024-07-06 7:40 dpdklab
2024-07-06 7:42 dpdklab
2024-07-06 7:49 dpdklab
2024-07-06 7:56 dpdklab
2024-07-06 8:03 dpdklab
2024-07-06 8:21 dpdklab
2024-07-06 8:26 dpdklab
2024-07-06 8:30 dpdklab
2024-07-06 8:31 dpdklab
2024-07-06 8:38 dpdklab
2024-07-06 9:03 dpdklab
2024-07-06 9:08 dpdklab
2024-07-06 9:13 dpdklab
2024-07-06 9:28 dpdklab
2024-07-06 10:48 dpdklab
2024-07-06 15:29 dpdklab
2024-07-07 0:03 dpdklab
2024-07-07 4:58 dpdklab
2024-07-07 5:10 dpdklab
2024-07-07 5:14 dpdklab
2024-07-07 5:37 dpdklab
2024-07-07 5:40 dpdklab
2024-07-07 5:42 dpdklab
2024-07-07 5:44 dpdklab
2024-07-07 6:03 dpdklab
2024-07-07 6:34 dpdklab
2024-07-07 6:43 dpdklab
2024-07-07 7:09 dpdklab
2024-07-07 7:26 dpdklab
2024-07-07 7:31 dpdklab
2024-07-07 7:50 dpdklab
Reply instructions:
You may reply publicly to this message via plain-text email
using any one of the following methods:
* Save the following mbox file, import it into your mail client,
and reply-to-all from there: mbox
Avoid top-posting and favor interleaved quoting:
https://en.wikipedia.org/wiki/Posting_style#Interleaved_style
* Reply using the --to, --cc, and --in-reply-to
switches of git-send-email(1):
git send-email \
--in-reply-to=664c2d83.170a0220.b6b45.27a5SMTPIN_ADDED_MISSING@mx.google.com \
--to=dpdklab@iol.unh.edu \
--cc=bluca@debian.org \
--cc=christian.ehrhardt@canonical.com \
--cc=dpdk-test-reports@iol.unh.edu \
--cc=ktraynor@redhat.com \
--cc=test-report@dpdk.org \
--cc=xuemingl@nvidia.com \
/path/to/YOUR_REPLY
https://kernel.org/pub/software/scm/git/docs/git-send-email.html
* If your mail client supports setting the In-Reply-To header
via mailto: links, try the mailto: link
Be sure your reply has a Subject: header at the top and a blank line
before the message body.
This is a public inbox, see mirroring instructions
for how to clone and mirror all data and code used for this inbox;
as well as URLs for NNTP newsgroup(s).