* |SUCCESS| [GIT MASTER] eb6e71e757155f219721086599a294cbd3b51ea9
@ 2024-05-21 8:27 dpdklab
0 siblings, 0 replies; 73+ messages in thread
From: dpdklab @ 2024-05-21 8:27 UTC (permalink / raw)
To: Test Report; +Cc: dpdk-test-reports, Andrew Rybchenko, Ferruh Yigit
_Testing PASS_
Branch: dpdk-next-net
eb6e71e757155f219721086599a294cbd3b51ea9 --> testing pass
Test environment and result as below:
+----------------------------------------+--------------------+
| Environment | dpdk_meson_compile |
+========================================+====================+
| Ubuntu 20.04 ARM SVE | PASS |
+----------------------------------------+--------------------+
| Debian 12 with MUSDK | PASS |
+----------------------------------------+--------------------+
| Ubuntu 20.04 aarch32 GCC Cross Compile | PASS |
+----------------------------------------+--------------------+
| Fedora 37 (ARM) | PASS |
+----------------------------------------+--------------------+
| Ubuntu 20.04 ARM GCC Cross Compile | PASS |
+----------------------------------------+--------------------+
| Ubuntu 20.04 ARM Clang Cross Compile | PASS |
+----------------------------------------+--------------------+
| Fedora 38 (ARM) | PASS |
+----------------------------------------+--------------------+
| CentOS Stream 9 (ARM) | PASS |
+----------------------------------------+--------------------+
| Fedora 39 (ARM) | PASS |
+----------------------------------------+--------------------+
| Debian 11 (Buster) (ARM) | PASS |
+----------------------------------------+--------------------+
Ubuntu 20.04 ARM SVE
Kernel: 5.4.0-167-generic
Compiler: gcc (Ubuntu 10.5.0-1ubuntu1~20.04) 10.5.0
Debian 12 with MUSDK
Kernel: Container Host Kernel
Compiler: gcc 12.2.0
Ubuntu 20.04 aarch32 GCC Cross Compile
Kernel: 5.4.0-167-generic
Compiler: gcc 9.4.0
Fedora 37 (ARM)
Kernel: Depends on container host
Compiler: gcc 12.3.1
Ubuntu 20.04 ARM GCC Cross Compile
Kernel: 5.4.0-167-generic
Compiler: aarch64-linux-gnu-gcc (Ubuntu 9.4.0-1ubuntu1~20.04.2) 9.4.0
Ubuntu 20.04 ARM Clang Cross Compile
Kernel: 5.4.0-72-generic
Compiler: clang 10.0.0-4ubuntu1
Fedora 38 (ARM)
Kernel: Depends on container host
Compiler: gcc 13.2.1
CentOS Stream 9 (ARM)
Kernel: Container Host Kernel
Compiler: gcc 11.4.1
Fedora 39 (ARM)
Kernel: Depends on container host
Compiler: gcc 13.2.1
Debian 11 (Buster) (ARM)
Kernel: Container Host Kernel
Compiler: gcc 10.2.1
To view detailed results, visit:
https://lab.dpdk.org/results/dashboard/tarballs/29152/
UNH-IOL DPDK Community Lab
To manage your email subscriptions, visit:
https://lab.dpdk.org/results/dashboard/preferences/subscriptions/
^ permalink raw reply [flat|nested] 73+ messages in thread
* |SUCCESS| [GIT MASTER] eb6e71e757155f219721086599a294cbd3b51ea9
@ 2024-05-21 9:48 dpdklab
0 siblings, 0 replies; 73+ messages in thread
From: dpdklab @ 2024-05-21 9:48 UTC (permalink / raw)
To: Test Report; +Cc: dpdk-test-reports, Andrew Rybchenko, Ferruh Yigit
_Testing PASS_
Branch: dpdk-next-net
eb6e71e757155f219721086599a294cbd3b51ea9 --> testing pass
Test environment and result as below:
+----------------------------------------+--------------------+
| Environment | dpdk_meson_compile |
+========================================+====================+
| Ubuntu 20.04 ARM SVE | PASS |
+----------------------------------------+--------------------+
| Debian 12 with MUSDK | PASS |
+----------------------------------------+--------------------+
| Ubuntu 20.04 aarch32 GCC Cross Compile | PASS |
+----------------------------------------+--------------------+
| Fedora 37 (ARM) | PASS |
+----------------------------------------+--------------------+
| Ubuntu 20.04 ARM GCC Cross Compile | PASS |
+----------------------------------------+--------------------+
| Ubuntu 20.04 ARM Clang Cross Compile | PASS |
+----------------------------------------+--------------------+
| Fedora 38 (ARM) | PASS |
+----------------------------------------+--------------------+
| CentOS Stream 9 (ARM) | PASS |
+----------------------------------------+--------------------+
| Fedora 39 (ARM) | PASS |
+----------------------------------------+--------------------+
| Debian 11 (Buster) (ARM) | PASS |
+----------------------------------------+--------------------+
| Ubuntu 20.04 (ARM) | PASS |
+----------------------------------------+--------------------+
| Debian 12 (arm) | PASS |
+----------------------------------------+--------------------+
| Fedora 39 (ARM Clang) | PASS |
+----------------------------------------+--------------------+
| Fedora 38 (ARM Clang) | PASS |
+----------------------------------------+--------------------+
Ubuntu 20.04 ARM SVE
Kernel: 5.4.0-167-generic
Compiler: gcc (Ubuntu 10.5.0-1ubuntu1~20.04) 10.5.0
Debian 12 with MUSDK
Kernel: Container Host Kernel
Compiler: gcc 12.2.0
Ubuntu 20.04 aarch32 GCC Cross Compile
Kernel: 5.4.0-167-generic
Compiler: gcc 9.4.0
Fedora 37 (ARM)
Kernel: Depends on container host
Compiler: gcc 12.3.1
Ubuntu 20.04 ARM GCC Cross Compile
Kernel: 5.4.0-167-generic
Compiler: aarch64-linux-gnu-gcc (Ubuntu 9.4.0-1ubuntu1~20.04.2) 9.4.0
Ubuntu 20.04 ARM Clang Cross Compile
Kernel: 5.4.0-72-generic
Compiler: clang 10.0.0-4ubuntu1
Fedora 38 (ARM)
Kernel: Depends on container host
Compiler: gcc 13.2.1
CentOS Stream 9 (ARM)
Kernel: Container Host Kernel
Compiler: gcc 11.4.1
Fedora 39 (ARM)
Kernel: Depends on container host
Compiler: gcc 13.2.1
Debian 11 (Buster) (ARM)
Kernel: Container Host Kernel
Compiler: gcc 10.2.1
Ubuntu 20.04 (ARM)
Kernel: Container Host Kernel
Compiler: gcc 9.4.0
Debian 12 (arm)
Kernel: Container Host Kernel
Compiler: gcc 12.2.0
Fedora 39 (ARM Clang)
Kernel: Depends on container host
Compiler: clang 17.0.6
Fedora 38 (ARM Clang)
Kernel: Depends on container host
Compiler: clang 16.0.6
To view detailed results, visit:
https://lab.dpdk.org/results/dashboard/tarballs/29152/
UNH-IOL DPDK Community Lab
To manage your email subscriptions, visit:
https://lab.dpdk.org/results/dashboard/preferences/subscriptions/
^ permalink raw reply [flat|nested] 73+ messages in thread
* |SUCCESS| [GIT MASTER] eb6e71e757155f219721086599a294cbd3b51ea9
@ 2024-05-21 9:34 dpdklab
0 siblings, 0 replies; 73+ messages in thread
From: dpdklab @ 2024-05-21 9:34 UTC (permalink / raw)
To: Test Report; +Cc: dpdk-test-reports, Andrew Rybchenko, Ferruh Yigit
_Functional Testing PASS_
Branch: dpdk-next-net
eb6e71e757155f219721086599a294cbd3b51ea9 --> functional testing pass
Test environment and result as below:
Arm Ampere Altra - Ubuntu 22.04.3
Kernel: 5.15.83+
Compiler: gcc 11.4.0
NIC: Broadcom Inc. and subsidiaries BCM957508-P2100G Dual-Port 100 Gb/s QSFP56 100 Mbps
Target: x86_64-native-linuxapp-gcc
Fail/Total: 0/1
Ubuntu 22.04 ARM
Kernel: 5.15.83+
Compiler: gcc 11.4.0
NIC: Arm Broadcom Inc. brcm_57414 25000 Mbps
Target: x86_64-native-linuxapp-gcc
Fail/Total: 0/1
Ubuntu 22.04
Kernel: 5.15.0-100-generic x86_64
Compiler: gcc (Ubuntu 11.4.0-1ubuntu1~22.04) 11.4.0
NIC: Broadcom Inc. and subsidiaries BCM957508-P2100G Dual-Port 100 Gb/s QSFP56 100 Mbps
Target: x86_64-native-linuxapp-gcc
Fail/Total: 0/1
To view detailed results, visit:
https://lab.dpdk.org/results/dashboard/tarballs/29152/
UNH-IOL DPDK Community Lab
To manage your email subscriptions, visit:
https://lab.dpdk.org/results/dashboard/preferences/subscriptions/
^ permalink raw reply [flat|nested] 73+ messages in thread
* |SUCCESS| [GIT MASTER] eb6e71e757155f219721086599a294cbd3b51ea9
@ 2024-05-21 9:33 dpdklab
0 siblings, 0 replies; 73+ messages in thread
From: dpdklab @ 2024-05-21 9:33 UTC (permalink / raw)
To: Test Report; +Cc: dpdk-test-reports, Andrew Rybchenko, Ferruh Yigit
_Testing PASS_
Branch: dpdk-next-net
eb6e71e757155f219721086599a294cbd3b51ea9 --> testing pass
Test environment and result as below:
+----------------------------------------+--------------------+
| Environment | dpdk_meson_compile |
+========================================+====================+
| Ubuntu 20.04 ARM SVE | PASS |
+----------------------------------------+--------------------+
| Debian 12 with MUSDK | PASS |
+----------------------------------------+--------------------+
| Ubuntu 20.04 aarch32 GCC Cross Compile | PASS |
+----------------------------------------+--------------------+
| Fedora 37 (ARM) | PASS |
+----------------------------------------+--------------------+
| Ubuntu 20.04 ARM GCC Cross Compile | PASS |
+----------------------------------------+--------------------+
| Ubuntu 20.04 ARM Clang Cross Compile | PASS |
+----------------------------------------+--------------------+
| Fedora 38 (ARM) | PASS |
+----------------------------------------+--------------------+
| CentOS Stream 9 (ARM) | PASS |
+----------------------------------------+--------------------+
| Fedora 39 (ARM) | PASS |
+----------------------------------------+--------------------+
| Debian 11 (Buster) (ARM) | PASS |
+----------------------------------------+--------------------+
| Ubuntu 20.04 (ARM) | PASS |
+----------------------------------------+--------------------+
| Debian 12 (arm) | PASS |
+----------------------------------------+--------------------+
| Fedora 39 (ARM Clang) | PASS |
+----------------------------------------+--------------------+
Ubuntu 20.04 ARM SVE
Kernel: 5.4.0-167-generic
Compiler: gcc (Ubuntu 10.5.0-1ubuntu1~20.04) 10.5.0
Debian 12 with MUSDK
Kernel: Container Host Kernel
Compiler: gcc 12.2.0
Ubuntu 20.04 aarch32 GCC Cross Compile
Kernel: 5.4.0-167-generic
Compiler: gcc 9.4.0
Fedora 37 (ARM)
Kernel: Depends on container host
Compiler: gcc 12.3.1
Ubuntu 20.04 ARM GCC Cross Compile
Kernel: 5.4.0-167-generic
Compiler: aarch64-linux-gnu-gcc (Ubuntu 9.4.0-1ubuntu1~20.04.2) 9.4.0
Ubuntu 20.04 ARM Clang Cross Compile
Kernel: 5.4.0-72-generic
Compiler: clang 10.0.0-4ubuntu1
Fedora 38 (ARM)
Kernel: Depends on container host
Compiler: gcc 13.2.1
CentOS Stream 9 (ARM)
Kernel: Container Host Kernel
Compiler: gcc 11.4.1
Fedora 39 (ARM)
Kernel: Depends on container host
Compiler: gcc 13.2.1
Debian 11 (Buster) (ARM)
Kernel: Container Host Kernel
Compiler: gcc 10.2.1
Ubuntu 20.04 (ARM)
Kernel: Container Host Kernel
Compiler: gcc 9.4.0
Debian 12 (arm)
Kernel: Container Host Kernel
Compiler: gcc 12.2.0
Fedora 39 (ARM Clang)
Kernel: Depends on container host
Compiler: clang 17.0.6
To view detailed results, visit:
https://lab.dpdk.org/results/dashboard/tarballs/29152/
UNH-IOL DPDK Community Lab
To manage your email subscriptions, visit:
https://lab.dpdk.org/results/dashboard/preferences/subscriptions/
^ permalink raw reply [flat|nested] 73+ messages in thread
* |SUCCESS| [GIT MASTER] eb6e71e757155f219721086599a294cbd3b51ea9
@ 2024-05-21 8:58 dpdklab
0 siblings, 0 replies; 73+ messages in thread
From: dpdklab @ 2024-05-21 8:58 UTC (permalink / raw)
To: Test Report; +Cc: dpdk-test-reports, Andrew Rybchenko, Ferruh Yigit
_Performance Testing PASS_
Branch: dpdk-next-net
eb6e71e757155f219721086599a294cbd3b51ea9 --> performance testing pass
Test environment and result as below:
Ubuntu 22.04 ARM
Kernel: 5.15.83+
Compiler: gcc 11.4.0
NIC: Arm Broadcom Inc. brcm_57414 25000 Mbps
Target: x86_64-native-linuxapp-gcc
Fail/Total: 0/2
Detail performance results:
+------------+---------+----------+-------------+------------------------------+
| frame_size | txd/rxd | num_cpus | num_threads | throughput difference from |
| | | | | expected |
+============+=========+==========+=============+==============================+
| 64 | 512 | 1 | 1 | -0.0% |
+------------+---------+----------+-------------+------------------------------+
| 64 | 2048 | 1 | 1 | -0.1% |
+------------+---------+----------+-------------+------------------------------+
Ubuntu 22.04
Kernel: 5.15.0-100-generic
Compiler: gcc (Ubuntu 11.4.0-1ubuntu1~22.04) 11.4.0
NIC: Broadcom Inc. and subsidiaries BCM57414 NetXtreme-E 10Gb/25Gb RDMA Ethernet Controller 16d7 25 Mbps
Target: x86_64-native-linuxapp-gcc
Fail/Total: 0/3
Detail performance results:
+------------+---------+----------+-------------+------------------------------+
| frame_size | txd/rxd | num_cpus | num_threads | throughput difference from |
| | | | | expected |
+============+=========+==========+=============+==============================+
| 64 | 128 | 1 | 1 | 0.2% |
+------------+---------+----------+-------------+------------------------------+
| 64 | 512 | 1 | 1 | -2.0% |
+------------+---------+----------+-------------+------------------------------+
| 64 | 2048 | 1 | 1 | -2.3% |
+------------+---------+----------+-------------+------------------------------+
To view detailed results, visit:
https://lab.dpdk.org/results/dashboard/tarballs/29152/
UNH-IOL DPDK Community Lab
To manage your email subscriptions, visit:
https://lab.dpdk.org/results/dashboard/preferences/subscriptions/
^ permalink raw reply [flat|nested] 73+ messages in thread
* |SUCCESS| [GIT MASTER] eb6e71e757155f219721086599a294cbd3b51ea9
@ 2024-05-21 8:41 dpdklab
0 siblings, 0 replies; 73+ messages in thread
From: dpdklab @ 2024-05-21 8:41 UTC (permalink / raw)
To: Test Report; +Cc: dpdk-test-reports, Andrew Rybchenko, Ferruh Yigit
_Testing PASS_
Branch: dpdk-next-net
eb6e71e757155f219721086599a294cbd3b51ea9 --> testing pass
Test environment and result as below:
+----------------------------------------+--------------------+
| Environment | dpdk_meson_compile |
+========================================+====================+
| Ubuntu 20.04 ARM SVE | PASS |
+----------------------------------------+--------------------+
| Debian 12 with MUSDK | PASS |
+----------------------------------------+--------------------+
| Ubuntu 20.04 aarch32 GCC Cross Compile | PASS |
+----------------------------------------+--------------------+
| Fedora 37 (ARM) | PASS |
+----------------------------------------+--------------------+
| Ubuntu 20.04 ARM GCC Cross Compile | PASS |
+----------------------------------------+--------------------+
| Ubuntu 20.04 ARM Clang Cross Compile | PASS |
+----------------------------------------+--------------------+
| Fedora 38 (ARM) | PASS |
+----------------------------------------+--------------------+
| CentOS Stream 9 (ARM) | PASS |
+----------------------------------------+--------------------+
| Fedora 39 (ARM) | PASS |
+----------------------------------------+--------------------+
| Debian 11 (Buster) (ARM) | PASS |
+----------------------------------------+--------------------+
| Ubuntu 20.04 (ARM) | PASS |
+----------------------------------------+--------------------+
| Debian 12 (arm) | PASS |
+----------------------------------------+--------------------+
Ubuntu 20.04 ARM SVE
Kernel: 5.4.0-167-generic
Compiler: gcc (Ubuntu 10.5.0-1ubuntu1~20.04) 10.5.0
Debian 12 with MUSDK
Kernel: Container Host Kernel
Compiler: gcc 12.2.0
Ubuntu 20.04 aarch32 GCC Cross Compile
Kernel: 5.4.0-167-generic
Compiler: gcc 9.4.0
Fedora 37 (ARM)
Kernel: Depends on container host
Compiler: gcc 12.3.1
Ubuntu 20.04 ARM GCC Cross Compile
Kernel: 5.4.0-167-generic
Compiler: aarch64-linux-gnu-gcc (Ubuntu 9.4.0-1ubuntu1~20.04.2) 9.4.0
Ubuntu 20.04 ARM Clang Cross Compile
Kernel: 5.4.0-72-generic
Compiler: clang 10.0.0-4ubuntu1
Fedora 38 (ARM)
Kernel: Depends on container host
Compiler: gcc 13.2.1
CentOS Stream 9 (ARM)
Kernel: Container Host Kernel
Compiler: gcc 11.4.1
Fedora 39 (ARM)
Kernel: Depends on container host
Compiler: gcc 13.2.1
Debian 11 (Buster) (ARM)
Kernel: Container Host Kernel
Compiler: gcc 10.2.1
Ubuntu 20.04 (ARM)
Kernel: Container Host Kernel
Compiler: gcc 9.4.0
Debian 12 (arm)
Kernel: Container Host Kernel
Compiler: gcc 12.2.0
To view detailed results, visit:
https://lab.dpdk.org/results/dashboard/tarballs/29152/
UNH-IOL DPDK Community Lab
To manage your email subscriptions, visit:
https://lab.dpdk.org/results/dashboard/preferences/subscriptions/
^ permalink raw reply [flat|nested] 73+ messages in thread
* |SUCCESS| [GIT MASTER] eb6e71e757155f219721086599a294cbd3b51ea9
@ 2024-05-21 8:29 dpdklab
0 siblings, 0 replies; 73+ messages in thread
From: dpdklab @ 2024-05-21 8:29 UTC (permalink / raw)
To: Test Report; +Cc: dpdk-test-reports, Andrew Rybchenko, Ferruh Yigit
_Testing PASS_
Branch: dpdk-next-net
eb6e71e757155f219721086599a294cbd3b51ea9 --> testing pass
Test environment and result as below:
+----------------------------------------+--------------------+
| Environment | dpdk_meson_compile |
+========================================+====================+
| Ubuntu 20.04 ARM SVE | PASS |
+----------------------------------------+--------------------+
| Debian 12 with MUSDK | PASS |
+----------------------------------------+--------------------+
| Ubuntu 20.04 aarch32 GCC Cross Compile | PASS |
+----------------------------------------+--------------------+
| Fedora 37 (ARM) | PASS |
+----------------------------------------+--------------------+
| Ubuntu 20.04 ARM GCC Cross Compile | PASS |
+----------------------------------------+--------------------+
| Ubuntu 20.04 ARM Clang Cross Compile | PASS |
+----------------------------------------+--------------------+
| Fedora 38 (ARM) | PASS |
+----------------------------------------+--------------------+
| CentOS Stream 9 (ARM) | PASS |
+----------------------------------------+--------------------+
| Fedora 39 (ARM) | PASS |
+----------------------------------------+--------------------+
| Debian 11 (Buster) (ARM) | PASS |
+----------------------------------------+--------------------+
| Ubuntu 20.04 (ARM) | PASS |
+----------------------------------------+--------------------+
Ubuntu 20.04 ARM SVE
Kernel: 5.4.0-167-generic
Compiler: gcc (Ubuntu 10.5.0-1ubuntu1~20.04) 10.5.0
Debian 12 with MUSDK
Kernel: Container Host Kernel
Compiler: gcc 12.2.0
Ubuntu 20.04 aarch32 GCC Cross Compile
Kernel: 5.4.0-167-generic
Compiler: gcc 9.4.0
Fedora 37 (ARM)
Kernel: Depends on container host
Compiler: gcc 12.3.1
Ubuntu 20.04 ARM GCC Cross Compile
Kernel: 5.4.0-167-generic
Compiler: aarch64-linux-gnu-gcc (Ubuntu 9.4.0-1ubuntu1~20.04.2) 9.4.0
Ubuntu 20.04 ARM Clang Cross Compile
Kernel: 5.4.0-72-generic
Compiler: clang 10.0.0-4ubuntu1
Fedora 38 (ARM)
Kernel: Depends on container host
Compiler: gcc 13.2.1
CentOS Stream 9 (ARM)
Kernel: Container Host Kernel
Compiler: gcc 11.4.1
Fedora 39 (ARM)
Kernel: Depends on container host
Compiler: gcc 13.2.1
Debian 11 (Buster) (ARM)
Kernel: Container Host Kernel
Compiler: gcc 10.2.1
Ubuntu 20.04 (ARM)
Kernel: Container Host Kernel
Compiler: gcc 9.4.0
To view detailed results, visit:
https://lab.dpdk.org/results/dashboard/tarballs/29152/
UNH-IOL DPDK Community Lab
To manage your email subscriptions, visit:
https://lab.dpdk.org/results/dashboard/preferences/subscriptions/
^ permalink raw reply [flat|nested] 73+ messages in thread
* |SUCCESS| [GIT MASTER] eb6e71e757155f219721086599a294cbd3b51ea9
@ 2024-05-21 8:10 dpdklab
0 siblings, 0 replies; 73+ messages in thread
From: dpdklab @ 2024-05-21 8:10 UTC (permalink / raw)
To: Test Report; +Cc: dpdk-test-reports, Andrew Rybchenko, Ferruh Yigit
_Testing PASS_
Branch: dpdk-next-net
eb6e71e757155f219721086599a294cbd3b51ea9 --> testing pass
Test environment and result as below:
+----------------------------------------+--------------------+
| Environment | dpdk_meson_compile |
+========================================+====================+
| Ubuntu 20.04 ARM SVE | PASS |
+----------------------------------------+--------------------+
| Debian 12 with MUSDK | PASS |
+----------------------------------------+--------------------+
| Ubuntu 20.04 aarch32 GCC Cross Compile | PASS |
+----------------------------------------+--------------------+
| Fedora 37 (ARM) | PASS |
+----------------------------------------+--------------------+
| Ubuntu 20.04 ARM GCC Cross Compile | PASS |
+----------------------------------------+--------------------+
| Ubuntu 20.04 ARM Clang Cross Compile | PASS |
+----------------------------------------+--------------------+
| Fedora 38 (ARM) | PASS |
+----------------------------------------+--------------------+
| CentOS Stream 9 (ARM) | PASS |
+----------------------------------------+--------------------+
| Fedora 39 (ARM) | PASS |
+----------------------------------------+--------------------+
Ubuntu 20.04 ARM SVE
Kernel: 5.4.0-167-generic
Compiler: gcc (Ubuntu 10.5.0-1ubuntu1~20.04) 10.5.0
Debian 12 with MUSDK
Kernel: Container Host Kernel
Compiler: gcc 12.2.0
Ubuntu 20.04 aarch32 GCC Cross Compile
Kernel: 5.4.0-167-generic
Compiler: gcc 9.4.0
Fedora 37 (ARM)
Kernel: Depends on container host
Compiler: gcc 12.3.1
Ubuntu 20.04 ARM GCC Cross Compile
Kernel: 5.4.0-167-generic
Compiler: aarch64-linux-gnu-gcc (Ubuntu 9.4.0-1ubuntu1~20.04.2) 9.4.0
Ubuntu 20.04 ARM Clang Cross Compile
Kernel: 5.4.0-72-generic
Compiler: clang 10.0.0-4ubuntu1
Fedora 38 (ARM)
Kernel: Depends on container host
Compiler: gcc 13.2.1
CentOS Stream 9 (ARM)
Kernel: Container Host Kernel
Compiler: gcc 11.4.1
Fedora 39 (ARM)
Kernel: Depends on container host
Compiler: gcc 13.2.1
To view detailed results, visit:
https://lab.dpdk.org/results/dashboard/tarballs/29152/
UNH-IOL DPDK Community Lab
To manage your email subscriptions, visit:
https://lab.dpdk.org/results/dashboard/preferences/subscriptions/
^ permalink raw reply [flat|nested] 73+ messages in thread
* |SUCCESS| [GIT MASTER] eb6e71e757155f219721086599a294cbd3b51ea9
@ 2024-05-21 7:58 dpdklab
0 siblings, 0 replies; 73+ messages in thread
From: dpdklab @ 2024-05-21 7:58 UTC (permalink / raw)
To: Test Report; +Cc: dpdk-test-reports, Andrew Rybchenko, Ferruh Yigit
_Functional Testing PASS_
Branch: dpdk-next-net
eb6e71e757155f219721086599a294cbd3b51ea9 --> functional testing pass
Test environment and result as below:
Arm Ampere Altra - Ubuntu 22.04.3
Kernel: 5.15.83+
Compiler: gcc 11.4.0
NIC: Broadcom Inc. and subsidiaries BCM957508-P2100G Dual-Port 100 Gb/s QSFP56 100 Mbps
Target: x86_64-native-linuxapp-gcc
Fail/Total: 0/1
Ubuntu 22.04 ARM
Kernel: 5.15.83+
Compiler: gcc 11.4.0
NIC: Arm Broadcom Inc. brcm_57414 25000 Mbps
Target: x86_64-native-linuxapp-gcc
Fail/Total: 0/1
To view detailed results, visit:
https://lab.dpdk.org/results/dashboard/tarballs/29152/
UNH-IOL DPDK Community Lab
To manage your email subscriptions, visit:
https://lab.dpdk.org/results/dashboard/preferences/subscriptions/
^ permalink raw reply [flat|nested] 73+ messages in thread
* |SUCCESS| [GIT MASTER] eb6e71e757155f219721086599a294cbd3b51ea9
@ 2024-05-21 7:57 dpdklab
0 siblings, 0 replies; 73+ messages in thread
From: dpdklab @ 2024-05-21 7:57 UTC (permalink / raw)
To: Test Report; +Cc: dpdk-test-reports, Andrew Rybchenko, Ferruh Yigit
_Testing PASS_
Branch: dpdk-next-net
eb6e71e757155f219721086599a294cbd3b51ea9 --> testing pass
Test environment and result as below:
+-----------------------------+--------------+------------------------------+----------------+---------------------------+
| Environment | lpm_autotest | cryptodev_sw_snow3g_autotest | dpdk_unit_test | cryptodev_sw_zuc_autotest |
+=============================+==============+==============================+================+===========================+
| Ubuntu 20.04 ARM SVE | PASS | SKIPPED | SKIPPED | SKIPPED |
+-----------------------------+--------------+------------------------------+----------------+---------------------------+
| Debian 12 (arm) | SKIPPED | PASS | PASS | PASS |
+-----------------------------+--------------+------------------------------+----------------+---------------------------+
| Debian 11 (Buster) (ARM) | SKIPPED | SKIPPED | PASS | SKIPPED |
+-----------------------------+--------------+------------------------------+----------------+---------------------------+
| 32-bit Ubuntu 20.04.4 (ARM) | SKIPPED | SKIPPED | PASS | SKIPPED |
+-----------------------------+--------------+------------------------------+----------------+---------------------------+
| Fedora 37 (ARM) | SKIPPED | SKIPPED | PASS | SKIPPED |
+-----------------------------+--------------+------------------------------+----------------+---------------------------+
| CentOS Stream 9 (ARM) | SKIPPED | SKIPPED | PASS | SKIPPED |
+-----------------------------+--------------+------------------------------+----------------+---------------------------+
| Fedora 38 (ARM Clang) | SKIPPED | SKIPPED | PASS | SKIPPED |
+-----------------------------+--------------+------------------------------+----------------+---------------------------+
| Fedora 39 (ARM Clang) | SKIPPED | SKIPPED | PASS | SKIPPED |
+-----------------------------+--------------+------------------------------+----------------+---------------------------+
| Fedora 38 (ARM) | SKIPPED | SKIPPED | PASS | SKIPPED |
+-----------------------------+--------------+------------------------------+----------------+---------------------------+
| Fedora 39 (ARM) | SKIPPED | SKIPPED | PASS | SKIPPED |
+-----------------------------+--------------+------------------------------+----------------+---------------------------+
| Ubuntu 20.04 (ARM) | SKIPPED | SKIPPED | PASS | SKIPPED |
+-----------------------------+--------------+------------------------------+----------------+---------------------------+
Ubuntu 20.04 ARM SVE
Kernel: 5.4.0-167-generic
Compiler: gcc (Ubuntu 10.5.0-1ubuntu1~20.04) 10.5.0
Debian 12 (arm)
Kernel: Container Host Kernel
Compiler: gcc 12.2.0
Debian 11 (Buster) (ARM)
Kernel: Container Host Kernel
Compiler: gcc 10.2.1
32-bit Ubuntu 20.04.4 (ARM)
Kernel: 5.4.0-155-generic aarch64
Compiler: gcc 9.4
Fedora 37 (ARM)
Kernel: Depends on container host
Compiler: gcc 12.3.1
CentOS Stream 9 (ARM)
Kernel: Container Host Kernel
Compiler: gcc 11.4.1
Fedora 38 (ARM Clang)
Kernel: Depends on container host
Compiler: clang 16.0.6
Fedora 39 (ARM Clang)
Kernel: Depends on container host
Compiler: clang 17.0.6
Fedora 38 (ARM)
Kernel: Depends on container host
Compiler: gcc 13.2.1
Fedora 39 (ARM)
Kernel: Depends on container host
Compiler: gcc 13.2.1
Ubuntu 20.04 (ARM)
Kernel: Container Host Kernel
Compiler: gcc 9.4.0
To view detailed results, visit:
https://lab.dpdk.org/results/dashboard/tarballs/29152/
UNH-IOL DPDK Community Lab
To manage your email subscriptions, visit:
https://lab.dpdk.org/results/dashboard/preferences/subscriptions/
^ permalink raw reply [flat|nested] 73+ messages in thread
* |SUCCESS| [GIT MASTER] eb6e71e757155f219721086599a294cbd3b51ea9
@ 2024-05-21 7:54 dpdklab
0 siblings, 0 replies; 73+ messages in thread
From: dpdklab @ 2024-05-21 7:54 UTC (permalink / raw)
To: Test Report; +Cc: dpdk-test-reports, Andrew Rybchenko, Ferruh Yigit
_Functional Testing PASS_
Branch: dpdk-next-net
eb6e71e757155f219721086599a294cbd3b51ea9 --> functional testing pass
Test environment and result as below:
Ubuntu 20.04
Kernel: 5.4.0-122-generic
Compiler: gcc 9.4.0
NIC: Intel Corporation Ethernet Converged Network Adapter XL710-QDA2 40000 Mbps
Target: x86_64-native-linuxapp-gcc
Fail/Total: 0/4
Ubuntu 20.04
Kernel: 5.4.0-122-generic
Compiler: gcc 9.4.0
NIC: Intel Corporation Ethernet Converged Network Adapter 82599ES 10000 Mbps
Target: x86_64-native-linuxapp-gcc
Fail/Total: 0/4
Arm Ampere Altra - Ubuntu 22.04.3
Kernel: 5.15.0-83-generic aarch64
Compiler: gcc 11.4.0
NIC: Intel Corporation Ethernet Converged Network Adapter XL710-QDA2 40000 Mbps
Target: x86_64-native-linuxapp-gcc
Fail/Total: 0/1
Ubuntu 20.04 ARM
Kernel: 5.15.0-97-generic
Compiler: gcc 11.4.0
NIC: Arm Intel Corporation Ethernet Converged Network Adapter XL710-QDA2 40000 Mbps
Target: x86_64-native-linuxapp-gcc
Fail/Total: 0/2
Arm Ampere Altra - Ubuntu 22.04
Kernel: 5.15.83+
Compiler: gcc 11.4
NIC: Intel Corporation QAT 8970 0 Mbps
Target: x86_64-native-linuxapp-gcc
Fail/Total: 0/1
To view detailed results, visit:
https://lab.dpdk.org/results/dashboard/tarballs/29152/
UNH-IOL DPDK Community Lab
To manage your email subscriptions, visit:
https://lab.dpdk.org/results/dashboard/preferences/subscriptions/
^ permalink raw reply [flat|nested] 73+ messages in thread
* |SUCCESS| [GIT MASTER] eb6e71e757155f219721086599a294cbd3b51ea9
@ 2024-05-21 7:49 dpdklab
0 siblings, 0 replies; 73+ messages in thread
From: dpdklab @ 2024-05-21 7:49 UTC (permalink / raw)
To: Test Report; +Cc: dpdk-test-reports, Andrew Rybchenko, Ferruh Yigit
_Testing PASS_
Branch: dpdk-next-net
eb6e71e757155f219721086599a294cbd3b51ea9 --> testing pass
Test environment and result as below:
+-----------------------------+--------------+------------------------------+----------------+---------------------------+
| Environment | lpm_autotest | cryptodev_sw_snow3g_autotest | dpdk_unit_test | cryptodev_sw_zuc_autotest |
+=============================+==============+==============================+================+===========================+
| Ubuntu 20.04 ARM SVE | PASS | SKIPPED | SKIPPED | SKIPPED |
+-----------------------------+--------------+------------------------------+----------------+---------------------------+
| Debian 12 (arm) | SKIPPED | PASS | PASS | PASS |
+-----------------------------+--------------+------------------------------+----------------+---------------------------+
| Debian 11 (Buster) (ARM) | SKIPPED | SKIPPED | PASS | SKIPPED |
+-----------------------------+--------------+------------------------------+----------------+---------------------------+
| 32-bit Ubuntu 20.04.4 (ARM) | SKIPPED | SKIPPED | PASS | SKIPPED |
+-----------------------------+--------------+------------------------------+----------------+---------------------------+
| Fedora 37 (ARM) | SKIPPED | SKIPPED | PASS | SKIPPED |
+-----------------------------+--------------+------------------------------+----------------+---------------------------+
| CentOS Stream 9 (ARM) | SKIPPED | SKIPPED | PASS | SKIPPED |
+-----------------------------+--------------+------------------------------+----------------+---------------------------+
| Fedora 38 (ARM Clang) | SKIPPED | SKIPPED | PASS | SKIPPED |
+-----------------------------+--------------+------------------------------+----------------+---------------------------+
| Fedora 39 (ARM Clang) | SKIPPED | SKIPPED | PASS | SKIPPED |
+-----------------------------+--------------+------------------------------+----------------+---------------------------+
| Fedora 38 (ARM) | SKIPPED | SKIPPED | PASS | SKIPPED |
+-----------------------------+--------------+------------------------------+----------------+---------------------------+
| Fedora 39 (ARM) | SKIPPED | SKIPPED | PASS | SKIPPED |
+-----------------------------+--------------+------------------------------+----------------+---------------------------+
Ubuntu 20.04 ARM SVE
Kernel: 5.4.0-167-generic
Compiler: gcc (Ubuntu 10.5.0-1ubuntu1~20.04) 10.5.0
Debian 12 (arm)
Kernel: Container Host Kernel
Compiler: gcc 12.2.0
Debian 11 (Buster) (ARM)
Kernel: Container Host Kernel
Compiler: gcc 10.2.1
32-bit Ubuntu 20.04.4 (ARM)
Kernel: 5.4.0-155-generic aarch64
Compiler: gcc 9.4
Fedora 37 (ARM)
Kernel: Depends on container host
Compiler: gcc 12.3.1
CentOS Stream 9 (ARM)
Kernel: Container Host Kernel
Compiler: gcc 11.4.1
Fedora 38 (ARM Clang)
Kernel: Depends on container host
Compiler: clang 16.0.6
Fedora 39 (ARM Clang)
Kernel: Depends on container host
Compiler: clang 17.0.6
Fedora 38 (ARM)
Kernel: Depends on container host
Compiler: gcc 13.2.1
Fedora 39 (ARM)
Kernel: Depends on container host
Compiler: gcc 13.2.1
To view detailed results, visit:
https://lab.dpdk.org/results/dashboard/tarballs/29152/
UNH-IOL DPDK Community Lab
To manage your email subscriptions, visit:
https://lab.dpdk.org/results/dashboard/preferences/subscriptions/
^ permalink raw reply [flat|nested] 73+ messages in thread
* |SUCCESS| [GIT MASTER] eb6e71e757155f219721086599a294cbd3b51ea9
@ 2024-05-21 7:44 dpdklab
0 siblings, 0 replies; 73+ messages in thread
From: dpdklab @ 2024-05-21 7:44 UTC (permalink / raw)
To: Test Report; +Cc: dpdk-test-reports, Andrew Rybchenko, Ferruh Yigit
_Testing PASS_
Branch: dpdk-next-net
eb6e71e757155f219721086599a294cbd3b51ea9 --> testing pass
Test environment and result as below:
+-----------------------------+--------------+------------------------------+----------------+---------------------------+
| Environment | lpm_autotest | cryptodev_sw_snow3g_autotest | dpdk_unit_test | cryptodev_sw_zuc_autotest |
+=============================+==============+==============================+================+===========================+
| Ubuntu 20.04 ARM SVE | PASS | SKIPPED | SKIPPED | SKIPPED |
+-----------------------------+--------------+------------------------------+----------------+---------------------------+
| Debian 12 (arm) | SKIPPED | PASS | PASS | PASS |
+-----------------------------+--------------+------------------------------+----------------+---------------------------+
| Debian 11 (Buster) (ARM) | SKIPPED | SKIPPED | PASS | SKIPPED |
+-----------------------------+--------------+------------------------------+----------------+---------------------------+
| 32-bit Ubuntu 20.04.4 (ARM) | SKIPPED | SKIPPED | PASS | SKIPPED |
+-----------------------------+--------------+------------------------------+----------------+---------------------------+
| Fedora 37 (ARM) | SKIPPED | SKIPPED | PASS | SKIPPED |
+-----------------------------+--------------+------------------------------+----------------+---------------------------+
| CentOS Stream 9 (ARM) | SKIPPED | SKIPPED | PASS | SKIPPED |
+-----------------------------+--------------+------------------------------+----------------+---------------------------+
| Fedora 38 (ARM Clang) | SKIPPED | SKIPPED | PASS | SKIPPED |
+-----------------------------+--------------+------------------------------+----------------+---------------------------+
| Fedora 39 (ARM Clang) | SKIPPED | SKIPPED | PASS | SKIPPED |
+-----------------------------+--------------+------------------------------+----------------+---------------------------+
| Fedora 38 (ARM) | SKIPPED | SKIPPED | PASS | SKIPPED |
+-----------------------------+--------------+------------------------------+----------------+---------------------------+
Ubuntu 20.04 ARM SVE
Kernel: 5.4.0-167-generic
Compiler: gcc (Ubuntu 10.5.0-1ubuntu1~20.04) 10.5.0
Debian 12 (arm)
Kernel: Container Host Kernel
Compiler: gcc 12.2.0
Debian 11 (Buster) (ARM)
Kernel: Container Host Kernel
Compiler: gcc 10.2.1
32-bit Ubuntu 20.04.4 (ARM)
Kernel: 5.4.0-155-generic aarch64
Compiler: gcc 9.4
Fedora 37 (ARM)
Kernel: Depends on container host
Compiler: gcc 12.3.1
CentOS Stream 9 (ARM)
Kernel: Container Host Kernel
Compiler: gcc 11.4.1
Fedora 38 (ARM Clang)
Kernel: Depends on container host
Compiler: clang 16.0.6
Fedora 39 (ARM Clang)
Kernel: Depends on container host
Compiler: clang 17.0.6
Fedora 38 (ARM)
Kernel: Depends on container host
Compiler: gcc 13.2.1
To view detailed results, visit:
https://lab.dpdk.org/results/dashboard/tarballs/29152/
UNH-IOL DPDK Community Lab
To manage your email subscriptions, visit:
https://lab.dpdk.org/results/dashboard/preferences/subscriptions/
^ permalink raw reply [flat|nested] 73+ messages in thread
* |SUCCESS| [GIT MASTER] eb6e71e757155f219721086599a294cbd3b51ea9
@ 2024-05-21 7:38 dpdklab
0 siblings, 0 replies; 73+ messages in thread
From: dpdklab @ 2024-05-21 7:38 UTC (permalink / raw)
To: Test Report; +Cc: dpdk-test-reports, Andrew Rybchenko, Ferruh Yigit
_Testing PASS_
Branch: dpdk-next-net
eb6e71e757155f219721086599a294cbd3b51ea9 --> testing pass
Test environment and result as below:
+-----------------------------+--------------+------------------------------+----------------+---------------------------+
| Environment | lpm_autotest | cryptodev_sw_snow3g_autotest | dpdk_unit_test | cryptodev_sw_zuc_autotest |
+=============================+==============+==============================+================+===========================+
| Ubuntu 20.04 ARM SVE | PASS | SKIPPED | SKIPPED | SKIPPED |
+-----------------------------+--------------+------------------------------+----------------+---------------------------+
| Debian 12 (arm) | SKIPPED | PASS | PASS | PASS |
+-----------------------------+--------------+------------------------------+----------------+---------------------------+
| Debian 11 (Buster) (ARM) | SKIPPED | SKIPPED | PASS | SKIPPED |
+-----------------------------+--------------+------------------------------+----------------+---------------------------+
| 32-bit Ubuntu 20.04.4 (ARM) | SKIPPED | SKIPPED | PASS | SKIPPED |
+-----------------------------+--------------+------------------------------+----------------+---------------------------+
| Fedora 37 (ARM) | SKIPPED | SKIPPED | PASS | SKIPPED |
+-----------------------------+--------------+------------------------------+----------------+---------------------------+
| CentOS Stream 9 (ARM) | SKIPPED | SKIPPED | PASS | SKIPPED |
+-----------------------------+--------------+------------------------------+----------------+---------------------------+
| Fedora 38 (ARM Clang) | SKIPPED | SKIPPED | PASS | SKIPPED |
+-----------------------------+--------------+------------------------------+----------------+---------------------------+
| Fedora 39 (ARM Clang) | SKIPPED | SKIPPED | PASS | SKIPPED |
+-----------------------------+--------------+------------------------------+----------------+---------------------------+
Ubuntu 20.04 ARM SVE
Kernel: 5.4.0-167-generic
Compiler: gcc (Ubuntu 10.5.0-1ubuntu1~20.04) 10.5.0
Debian 12 (arm)
Kernel: Container Host Kernel
Compiler: gcc 12.2.0
Debian 11 (Buster) (ARM)
Kernel: Container Host Kernel
Compiler: gcc 10.2.1
32-bit Ubuntu 20.04.4 (ARM)
Kernel: 5.4.0-155-generic aarch64
Compiler: gcc 9.4
Fedora 37 (ARM)
Kernel: Depends on container host
Compiler: gcc 12.3.1
CentOS Stream 9 (ARM)
Kernel: Container Host Kernel
Compiler: gcc 11.4.1
Fedora 38 (ARM Clang)
Kernel: Depends on container host
Compiler: clang 16.0.6
Fedora 39 (ARM Clang)
Kernel: Depends on container host
Compiler: clang 17.0.6
To view detailed results, visit:
https://lab.dpdk.org/results/dashboard/tarballs/29152/
UNH-IOL DPDK Community Lab
To manage your email subscriptions, visit:
https://lab.dpdk.org/results/dashboard/preferences/subscriptions/
^ permalink raw reply [flat|nested] 73+ messages in thread
* |SUCCESS| [GIT MASTER] eb6e71e757155f219721086599a294cbd3b51ea9
@ 2024-05-21 7:37 dpdklab
0 siblings, 0 replies; 73+ messages in thread
From: dpdklab @ 2024-05-21 7:37 UTC (permalink / raw)
To: Test Report; +Cc: dpdk-test-reports, Andrew Rybchenko, Ferruh Yigit
_Testing PASS_
Branch: dpdk-next-net
eb6e71e757155f219721086599a294cbd3b51ea9 --> testing pass
Test environment and result as below:
+-----------------------------+--------------+------------------------------+----------------+---------------------------+
| Environment | lpm_autotest | cryptodev_sw_snow3g_autotest | dpdk_unit_test | cryptodev_sw_zuc_autotest |
+=============================+==============+==============================+================+===========================+
| Ubuntu 20.04 ARM SVE | PASS | SKIPPED | SKIPPED | SKIPPED |
+-----------------------------+--------------+------------------------------+----------------+---------------------------+
| Debian 12 (arm) | SKIPPED | PASS | PASS | PASS |
+-----------------------------+--------------+------------------------------+----------------+---------------------------+
| Debian 11 (Buster) (ARM) | SKIPPED | SKIPPED | PASS | SKIPPED |
+-----------------------------+--------------+------------------------------+----------------+---------------------------+
| 32-bit Ubuntu 20.04.4 (ARM) | SKIPPED | SKIPPED | PASS | SKIPPED |
+-----------------------------+--------------+------------------------------+----------------+---------------------------+
| Fedora 37 (ARM) | SKIPPED | SKIPPED | PASS | SKIPPED |
+-----------------------------+--------------+------------------------------+----------------+---------------------------+
| CentOS Stream 9 (ARM) | SKIPPED | SKIPPED | PASS | SKIPPED |
+-----------------------------+--------------+------------------------------+----------------+---------------------------+
| Fedora 38 (ARM Clang) | SKIPPED | SKIPPED | PASS | SKIPPED |
+-----------------------------+--------------+------------------------------+----------------+---------------------------+
Ubuntu 20.04 ARM SVE
Kernel: 5.4.0-167-generic
Compiler: gcc (Ubuntu 10.5.0-1ubuntu1~20.04) 10.5.0
Debian 12 (arm)
Kernel: Container Host Kernel
Compiler: gcc 12.2.0
Debian 11 (Buster) (ARM)
Kernel: Container Host Kernel
Compiler: gcc 10.2.1
32-bit Ubuntu 20.04.4 (ARM)
Kernel: 5.4.0-155-generic aarch64
Compiler: gcc 9.4
Fedora 37 (ARM)
Kernel: Depends on container host
Compiler: gcc 12.3.1
CentOS Stream 9 (ARM)
Kernel: Container Host Kernel
Compiler: gcc 11.4.1
Fedora 38 (ARM Clang)
Kernel: Depends on container host
Compiler: clang 16.0.6
To view detailed results, visit:
https://lab.dpdk.org/results/dashboard/tarballs/29152/
UNH-IOL DPDK Community Lab
To manage your email subscriptions, visit:
https://lab.dpdk.org/results/dashboard/preferences/subscriptions/
^ permalink raw reply [flat|nested] 73+ messages in thread
* |SUCCESS| [GIT MASTER] eb6e71e757155f219721086599a294cbd3b51ea9
@ 2024-05-21 7:36 dpdklab
0 siblings, 0 replies; 73+ messages in thread
From: dpdklab @ 2024-05-21 7:36 UTC (permalink / raw)
To: Test Report; +Cc: dpdk-test-reports, Andrew Rybchenko, Ferruh Yigit
_Testing PASS_
Branch: dpdk-next-net
eb6e71e757155f219721086599a294cbd3b51ea9 --> testing pass
Test environment and result as below:
+----------------------------------------+--------------------+
| Environment | dpdk_meson_compile |
+========================================+====================+
| Ubuntu 20.04 ARM SVE | PASS |
+----------------------------------------+--------------------+
| Debian 12 with MUSDK | PASS |
+----------------------------------------+--------------------+
| Ubuntu 20.04 aarch32 GCC Cross Compile | PASS |
+----------------------------------------+--------------------+
| Fedora 37 (ARM) | PASS |
+----------------------------------------+--------------------+
| Ubuntu 20.04 ARM GCC Cross Compile | PASS |
+----------------------------------------+--------------------+
| Ubuntu 20.04 ARM Clang Cross Compile | PASS |
+----------------------------------------+--------------------+
| Fedora 38 (ARM) | PASS |
+----------------------------------------+--------------------+
| CentOS Stream 9 (ARM) | PASS |
+----------------------------------------+--------------------+
Ubuntu 20.04 ARM SVE
Kernel: 5.4.0-167-generic
Compiler: gcc (Ubuntu 10.5.0-1ubuntu1~20.04) 10.5.0
Debian 12 with MUSDK
Kernel: Container Host Kernel
Compiler: gcc 12.2.0
Ubuntu 20.04 aarch32 GCC Cross Compile
Kernel: 5.4.0-167-generic
Compiler: gcc 9.4.0
Fedora 37 (ARM)
Kernel: Depends on container host
Compiler: gcc 12.3.1
Ubuntu 20.04 ARM GCC Cross Compile
Kernel: 5.4.0-167-generic
Compiler: aarch64-linux-gnu-gcc (Ubuntu 9.4.0-1ubuntu1~20.04.2) 9.4.0
Ubuntu 20.04 ARM Clang Cross Compile
Kernel: 5.4.0-72-generic
Compiler: clang 10.0.0-4ubuntu1
Fedora 38 (ARM)
Kernel: Depends on container host
Compiler: gcc 13.2.1
CentOS Stream 9 (ARM)
Kernel: Container Host Kernel
Compiler: gcc 11.4.1
To view detailed results, visit:
https://lab.dpdk.org/results/dashboard/tarballs/29152/
UNH-IOL DPDK Community Lab
To manage your email subscriptions, visit:
https://lab.dpdk.org/results/dashboard/preferences/subscriptions/
^ permalink raw reply [flat|nested] 73+ messages in thread
* |SUCCESS| [GIT MASTER] eb6e71e757155f219721086599a294cbd3b51ea9
@ 2024-05-21 7:35 dpdklab
0 siblings, 0 replies; 73+ messages in thread
From: dpdklab @ 2024-05-21 7:35 UTC (permalink / raw)
To: Test Report; +Cc: dpdk-test-reports, Andrew Rybchenko, Ferruh Yigit
_Functional Testing PASS_
Branch: dpdk-next-net
eb6e71e757155f219721086599a294cbd3b51ea9 --> functional testing pass
Test environment and result as below:
Ubuntu 20.04
Kernel: 5.4.0-122-generic
Compiler: gcc 9.4.0
NIC: Intel Corporation Ethernet Converged Network Adapter XL710-QDA2 40000 Mbps
Target: x86_64-native-linuxapp-gcc
Fail/Total: 0/4
Ubuntu 20.04
Kernel: 5.4.0-122-generic
Compiler: gcc 9.4.0
NIC: Intel Corporation Ethernet Converged Network Adapter 82599ES 10000 Mbps
Target: x86_64-native-linuxapp-gcc
Fail/Total: 0/4
Arm Ampere Altra - Ubuntu 22.04.3
Kernel: 5.15.0-83-generic aarch64
Compiler: gcc 11.4.0
NIC: Intel Corporation Ethernet Converged Network Adapter XL710-QDA2 40000 Mbps
Target: x86_64-native-linuxapp-gcc
Fail/Total: 0/1
Ubuntu 20.04 ARM
Kernel: 5.15.0-97-generic
Compiler: gcc 11.4.0
NIC: Arm Intel Corporation Ethernet Converged Network Adapter XL710-QDA2 40000 Mbps
Target: x86_64-native-linuxapp-gcc
Fail/Total: 0/2
To view detailed results, visit:
https://lab.dpdk.org/results/dashboard/tarballs/29152/
UNH-IOL DPDK Community Lab
To manage your email subscriptions, visit:
https://lab.dpdk.org/results/dashboard/preferences/subscriptions/
^ permalink raw reply [flat|nested] 73+ messages in thread
* |SUCCESS| [GIT MASTER] eb6e71e757155f219721086599a294cbd3b51ea9
@ 2024-05-21 7:34 dpdklab
0 siblings, 0 replies; 73+ messages in thread
From: dpdklab @ 2024-05-21 7:34 UTC (permalink / raw)
To: Test Report; +Cc: dpdk-test-reports, Andrew Rybchenko, Ferruh Yigit
_Testing PASS_
Branch: dpdk-next-net
eb6e71e757155f219721086599a294cbd3b51ea9 --> testing pass
Test environment and result as below:
+----------------------------------------+--------------------+
| Environment | dpdk_meson_compile |
+========================================+====================+
| Ubuntu 20.04 ARM SVE | PASS |
+----------------------------------------+--------------------+
| Debian 12 with MUSDK | PASS |
+----------------------------------------+--------------------+
| Ubuntu 20.04 aarch32 GCC Cross Compile | PASS |
+----------------------------------------+--------------------+
| Fedora 37 (ARM) | PASS |
+----------------------------------------+--------------------+
| Ubuntu 20.04 ARM GCC Cross Compile | PASS |
+----------------------------------------+--------------------+
| Ubuntu 20.04 ARM Clang Cross Compile | PASS |
+----------------------------------------+--------------------+
| Fedora 38 (ARM) | PASS |
+----------------------------------------+--------------------+
Ubuntu 20.04 ARM SVE
Kernel: 5.4.0-167-generic
Compiler: gcc (Ubuntu 10.5.0-1ubuntu1~20.04) 10.5.0
Debian 12 with MUSDK
Kernel: Container Host Kernel
Compiler: gcc 12.2.0
Ubuntu 20.04 aarch32 GCC Cross Compile
Kernel: 5.4.0-167-generic
Compiler: gcc 9.4.0
Fedora 37 (ARM)
Kernel: Depends on container host
Compiler: gcc 12.3.1
Ubuntu 20.04 ARM GCC Cross Compile
Kernel: 5.4.0-167-generic
Compiler: aarch64-linux-gnu-gcc (Ubuntu 9.4.0-1ubuntu1~20.04.2) 9.4.0
Ubuntu 20.04 ARM Clang Cross Compile
Kernel: 5.4.0-72-generic
Compiler: clang 10.0.0-4ubuntu1
Fedora 38 (ARM)
Kernel: Depends on container host
Compiler: gcc 13.2.1
To view detailed results, visit:
https://lab.dpdk.org/results/dashboard/tarballs/29152/
UNH-IOL DPDK Community Lab
To manage your email subscriptions, visit:
https://lab.dpdk.org/results/dashboard/preferences/subscriptions/
^ permalink raw reply [flat|nested] 73+ messages in thread
* |SUCCESS| [GIT MASTER] eb6e71e757155f219721086599a294cbd3b51ea9
@ 2024-05-21 7:31 dpdklab
0 siblings, 0 replies; 73+ messages in thread
From: dpdklab @ 2024-05-21 7:31 UTC (permalink / raw)
To: Test Report; +Cc: dpdk-test-reports, Andrew Rybchenko, Ferruh Yigit
_Functional Testing PASS_
Branch: dpdk-next-net
eb6e71e757155f219721086599a294cbd3b51ea9 --> functional testing pass
Test environment and result as below:
Arm Ampere Altra - Ubuntu 22.04.3
Kernel: 5.15.83+
Compiler: gcc 11.4.0
NIC: Broadcom Inc. and subsidiaries BCM957508-P2100G Dual-Port 100 Gb/s QSFP56 100 Mbps
Target: x86_64-native-linuxapp-gcc
Fail/Total: 0/1
To view detailed results, visit:
https://lab.dpdk.org/results/dashboard/tarballs/29152/
UNH-IOL DPDK Community Lab
To manage your email subscriptions, visit:
https://lab.dpdk.org/results/dashboard/preferences/subscriptions/
^ permalink raw reply [flat|nested] 73+ messages in thread
* |SUCCESS| [GIT MASTER] eb6e71e757155f219721086599a294cbd3b51ea9
@ 2024-05-21 7:29 dpdklab
0 siblings, 0 replies; 73+ messages in thread
From: dpdklab @ 2024-05-21 7:29 UTC (permalink / raw)
To: Test Report; +Cc: dpdk-test-reports, Andrew Rybchenko, Ferruh Yigit
_Testing PASS_
Branch: dpdk-next-net
eb6e71e757155f219721086599a294cbd3b51ea9 --> testing pass
Test environment and result as below:
+--------------+----------------------+
| Environment | dpdk_fips_validation |
+==============+======================+
| Ubuntu 20.04 | PASS |
+--------------+----------------------+
Ubuntu 20.04
Kernel: 5.4.0-167-generic
Compiler: gcc 9.4.0-1ubuntu1~20.04.1
To view detailed results, visit:
https://lab.dpdk.org/results/dashboard/tarballs/29152/
UNH-IOL DPDK Community Lab
To manage your email subscriptions, visit:
https://lab.dpdk.org/results/dashboard/preferences/subscriptions/
^ permalink raw reply [flat|nested] 73+ messages in thread
* |SUCCESS| [GIT MASTER] eb6e71e757155f219721086599a294cbd3b51ea9
@ 2024-05-21 7:26 dpdklab
0 siblings, 0 replies; 73+ messages in thread
From: dpdklab @ 2024-05-21 7:26 UTC (permalink / raw)
To: Test Report; +Cc: dpdk-test-reports, Andrew Rybchenko, Ferruh Yigit
_Performance Testing PASS_
Branch: dpdk-next-net
eb6e71e757155f219721086599a294cbd3b51ea9 --> performance testing pass
Test environment and result as below:
Ubuntu 22.04 ARM
Kernel: 5.15.83+
Compiler: gcc 11.4.0
NIC: Arm Broadcom Inc. brcm_57414 25000 Mbps
Target: x86_64-native-linuxapp-gcc
Fail/Total: 0/2
Detail performance results:
+------------+---------+----------+-------------+------------------------------+
| frame_size | txd/rxd | num_cpus | num_threads | throughput difference from |
| | | | | expected |
+============+=========+==========+=============+==============================+
| 64 | 512 | 1 | 1 | -0.0% |
+------------+---------+----------+-------------+------------------------------+
| 64 | 2048 | 1 | 1 | -0.1% |
+------------+---------+----------+-------------+------------------------------+
To view detailed results, visit:
https://lab.dpdk.org/results/dashboard/tarballs/29152/
UNH-IOL DPDK Community Lab
To manage your email subscriptions, visit:
https://lab.dpdk.org/results/dashboard/preferences/subscriptions/
^ permalink raw reply [flat|nested] 73+ messages in thread
* |SUCCESS| [GIT MASTER] eb6e71e757155f219721086599a294cbd3b51ea9
@ 2024-05-21 7:21 dpdklab
0 siblings, 0 replies; 73+ messages in thread
From: dpdklab @ 2024-05-21 7:21 UTC (permalink / raw)
To: Test Report; +Cc: dpdk-test-reports, Andrew Rybchenko, Ferruh Yigit
_Testing PASS_
Branch: dpdk-next-net
eb6e71e757155f219721086599a294cbd3b51ea9 --> testing pass
Test environment and result as below:
+----------------------------------------+--------------------+
| Environment | dpdk_meson_compile |
+========================================+====================+
| Ubuntu 20.04 ARM SVE | PASS |
+----------------------------------------+--------------------+
| Debian 12 with MUSDK | PASS |
+----------------------------------------+--------------------+
| Ubuntu 20.04 aarch32 GCC Cross Compile | PASS |
+----------------------------------------+--------------------+
| Fedora 37 (ARM) | PASS |
+----------------------------------------+--------------------+
| Ubuntu 20.04 ARM GCC Cross Compile | PASS |
+----------------------------------------+--------------------+
| Ubuntu 20.04 ARM Clang Cross Compile | PASS |
+----------------------------------------+--------------------+
Ubuntu 20.04 ARM SVE
Kernel: 5.4.0-167-generic
Compiler: gcc (Ubuntu 10.5.0-1ubuntu1~20.04) 10.5.0
Debian 12 with MUSDK
Kernel: Container Host Kernel
Compiler: gcc 12.2.0
Ubuntu 20.04 aarch32 GCC Cross Compile
Kernel: 5.4.0-167-generic
Compiler: gcc 9.4.0
Fedora 37 (ARM)
Kernel: Depends on container host
Compiler: gcc 12.3.1
Ubuntu 20.04 ARM GCC Cross Compile
Kernel: 5.4.0-167-generic
Compiler: aarch64-linux-gnu-gcc (Ubuntu 9.4.0-1ubuntu1~20.04.2) 9.4.0
Ubuntu 20.04 ARM Clang Cross Compile
Kernel: 5.4.0-72-generic
Compiler: clang 10.0.0-4ubuntu1
To view detailed results, visit:
https://lab.dpdk.org/results/dashboard/tarballs/29152/
UNH-IOL DPDK Community Lab
To manage your email subscriptions, visit:
https://lab.dpdk.org/results/dashboard/preferences/subscriptions/
^ permalink raw reply [flat|nested] 73+ messages in thread
* |SUCCESS| [GIT MASTER] eb6e71e757155f219721086599a294cbd3b51ea9
@ 2024-05-21 7:20 dpdklab
0 siblings, 0 replies; 73+ messages in thread
From: dpdklab @ 2024-05-21 7:20 UTC (permalink / raw)
To: Test Report; +Cc: dpdk-test-reports, Andrew Rybchenko, Ferruh Yigit
_Testing PASS_
Branch: dpdk-next-net
eb6e71e757155f219721086599a294cbd3b51ea9 --> testing pass
Test environment and result as below:
+---------------------+----------------+
| Environment | dpdk_unit_test |
+=====================+================+
| CentOS Stream 8 | PASS |
+---------------------+----------------+
| Windows Server 2019 | PASS |
+---------------------+----------------+
| CentOS Stream 9 | PASS |
+---------------------+----------------+
| Debian Bullseye | PASS |
+---------------------+----------------+
| Fedora 37 | PASS |
+---------------------+----------------+
| Debian 12 | PASS |
+---------------------+----------------+
| openSUSE Leap 15 | PASS |
+---------------------+----------------+
| Fedora 39 | PASS |
+---------------------+----------------+
| Fedora 38 | PASS |
+---------------------+----------------+
| RHEL8 | PASS |
+---------------------+----------------+
| Windows Server 2022 | PASS |
+---------------------+----------------+
| Ubuntu 22.04 | PASS |
+---------------------+----------------+
| Ubuntu 20.04 | PASS |
+---------------------+----------------+
CentOS Stream 8
Kernel: 5.4.0-167-generic
Compiler: gcc 8.5.0 20210514
Windows Server 2019
Kernel: 10.0.17763
Compiler: clang 14.0 and gcc 8.1.0 (MinGW)
CentOS Stream 9
Kernel: 5.4.0-167-generic
Compiler: gcc 11.4.1 20230605
Debian Bullseye
Kernel: 5.4.0-167-generic
Compiler: gcc 10.2.1-6
Fedora 37
Kernel: Depends on container host system
Compiler: gcc 12.3.1
Debian 12
Kernel: Container Host Kernel
Compiler: gcc 10.2.1
openSUSE Leap 15
Kernel: 5.4.0-167-generic
Compiler: gcc 7.5.0
Fedora 39
Kernel: Depends on container host
Compiler: gcc 13.2.1
Fedora 38
Kernel: Depends on container host
Compiler: gcc 13.2.1
RHEL8
Kernel: 5.4.0-167-generic
Compiler: gcc 8.5.0 20210514 (Red Hat 8.5.0-20)
Windows Server 2022
Kernel: 10.0.20348.2031
Compiler: clang 15.0.7, gcc 8.1.0 (MinGW), and MSVC VS 17.9
Ubuntu 22.04
Kernel: 5.4.0-167-generic
Compiler: gcc 11.4.0
Ubuntu 20.04
Kernel: 5.4.0-167-generic
Compiler: gcc 9.4.0-1ubuntu1~20.04.1
To view detailed results, visit:
https://lab.dpdk.org/results/dashboard/tarballs/29152/
UNH-IOL DPDK Community Lab
To manage your email subscriptions, visit:
https://lab.dpdk.org/results/dashboard/preferences/subscriptions/
^ permalink raw reply [flat|nested] 73+ messages in thread
* |SUCCESS| [GIT MASTER] eb6e71e757155f219721086599a294cbd3b51ea9
@ 2024-05-21 7:20 dpdklab
0 siblings, 0 replies; 73+ messages in thread
From: dpdklab @ 2024-05-21 7:20 UTC (permalink / raw)
To: Test Report; +Cc: dpdk-test-reports, Andrew Rybchenko, Ferruh Yigit
_Testing PASS_
Branch: dpdk-next-net
eb6e71e757155f219721086599a294cbd3b51ea9 --> testing pass
Test environment and result as below:
+----------------------------------------+--------------------+
| Environment | dpdk_meson_compile |
+========================================+====================+
| Ubuntu 20.04 ARM SVE | PASS |
+----------------------------------------+--------------------+
| Debian 12 with MUSDK | PASS |
+----------------------------------------+--------------------+
| Ubuntu 20.04 aarch32 GCC Cross Compile | PASS |
+----------------------------------------+--------------------+
| Fedora 37 (ARM) | PASS |
+----------------------------------------+--------------------+
| Ubuntu 20.04 ARM GCC Cross Compile | PASS |
+----------------------------------------+--------------------+
Ubuntu 20.04 ARM SVE
Kernel: 5.4.0-167-generic
Compiler: gcc (Ubuntu 10.5.0-1ubuntu1~20.04) 10.5.0
Debian 12 with MUSDK
Kernel: Container Host Kernel
Compiler: gcc 12.2.0
Ubuntu 20.04 aarch32 GCC Cross Compile
Kernel: 5.4.0-167-generic
Compiler: gcc 9.4.0
Fedora 37 (ARM)
Kernel: Depends on container host
Compiler: gcc 12.3.1
Ubuntu 20.04 ARM GCC Cross Compile
Kernel: 5.4.0-167-generic
Compiler: aarch64-linux-gnu-gcc (Ubuntu 9.4.0-1ubuntu1~20.04.2) 9.4.0
To view detailed results, visit:
https://lab.dpdk.org/results/dashboard/tarballs/29152/
UNH-IOL DPDK Community Lab
To manage your email subscriptions, visit:
https://lab.dpdk.org/results/dashboard/preferences/subscriptions/
^ permalink raw reply [flat|nested] 73+ messages in thread
* |SUCCESS| [GIT MASTER] eb6e71e757155f219721086599a294cbd3b51ea9
@ 2024-05-21 7:18 dpdklab
0 siblings, 0 replies; 73+ messages in thread
From: dpdklab @ 2024-05-21 7:18 UTC (permalink / raw)
To: Test Report; +Cc: dpdk-test-reports, Andrew Rybchenko, Ferruh Yigit
_Testing PASS_
Branch: dpdk-next-net
eb6e71e757155f219721086599a294cbd3b51ea9 --> testing pass
Test environment and result as below:
+---------------------+--------------------+------------------+----------------------+-------------------+
| Environment | dpdk_meson_compile | dpdk_compile_ovs | dpdk_mingw64_compile | dpdk_msvc_compile |
+=====================+====================+==================+======================+===================+
| Windows Server 2019 | PASS | SKIPPED | PASS | SKIPPED |
+---------------------+--------------------+------------------+----------------------+-------------------+
| Windows Server 2022 | PASS | SKIPPED | PASS | PASS |
+---------------------+--------------------+------------------+----------------------+-------------------+
| CentOS Stream 8 | PASS | PASS | SKIPPED | SKIPPED |
+---------------------+--------------------+------------------+----------------------+-------------------+
| FreeBSD 13.3 | PASS | SKIPPED | SKIPPED | SKIPPED |
+---------------------+--------------------+------------------+----------------------+-------------------+
| CentOS Stream 9 | PASS | PASS | SKIPPED | SKIPPED |
+---------------------+--------------------+------------------+----------------------+-------------------+
| FreeBSD 14.0 | PASS | SKIPPED | SKIPPED | SKIPPED |
+---------------------+--------------------+------------------+----------------------+-------------------+
| Debian Bullseye | PASS | PASS | SKIPPED | SKIPPED |
+---------------------+--------------------+------------------+----------------------+-------------------+
| Fedora 37 | PASS | PASS | SKIPPED | SKIPPED |
+---------------------+--------------------+------------------+----------------------+-------------------+
| Fedora 38 | PASS | PASS | SKIPPED | SKIPPED |
+---------------------+--------------------+------------------+----------------------+-------------------+
| openSUSE Leap 15 | PASS | PASS | SKIPPED | SKIPPED |
+---------------------+--------------------+------------------+----------------------+-------------------+
| Fedora 39 | PASS | PASS | SKIPPED | SKIPPED |
+---------------------+--------------------+------------------+----------------------+-------------------+
| Ubuntu 20.04 | PASS | PASS | SKIPPED | SKIPPED |
+---------------------+--------------------+------------------+----------------------+-------------------+
| Debian 12 | PASS | PASS | SKIPPED | SKIPPED |
+---------------------+--------------------+------------------+----------------------+-------------------+
| RHEL8 | PASS | PASS | SKIPPED | SKIPPED |
+---------------------+--------------------+------------------+----------------------+-------------------+
| Ubuntu 22.04 | PASS | PASS | SKIPPED | SKIPPED |
+---------------------+--------------------+------------------+----------------------+-------------------+
Windows Server 2019
Kernel: 10.0.17763
Compiler: clang 14.0 and gcc 8.1.0 (MinGW)
Windows Server 2022
Kernel: 10.0.20348.2031
Compiler: clang 15.0.7, gcc 8.1.0 (MinGW), and MSVC VS 17.9
CentOS Stream 8
Kernel: 5.4.0-167-generic
Compiler: gcc 8.5.0 20210514
FreeBSD 13.3
Kernel: 13.3-RELEASE-p1
Compiler: clang 17.0.6
CentOS Stream 9
Kernel: 5.4.0-167-generic
Compiler: gcc 11.4.1 20230605
FreeBSD 14.0
Kernel: 14.0
Compiler: clang 16.0.6
Debian Bullseye
Kernel: 5.4.0-167-generic
Compiler: gcc 10.2.1-6
Fedora 37
Kernel: Depends on container host system
Compiler: gcc 12.3.1
Fedora 38
Kernel: Depends on container host
Compiler: clang 16.0.6
openSUSE Leap 15
Kernel: 5.4.0-167-generic
Compiler: gcc 7.5.0
Fedora 39
Kernel: Depends on container host
Compiler: gcc 13.2.1
Ubuntu 20.04
Kernel: 5.4.0-167-generic
Compiler: gcc 9.4.0-1ubuntu1~20.04.1
Debian 12
Kernel: Container Host Kernel
Compiler: gcc 10.2.1
RHEL8
Kernel: 5.4.0-167-generic
Compiler: gcc 8.5.0 20210514 (Red Hat 8.5.0-20)
Ubuntu 22.04
Kernel: 5.4.0-167-generic
Compiler: gcc 11.4.0
To view detailed results, visit:
https://lab.dpdk.org/results/dashboard/tarballs/29152/
UNH-IOL DPDK Community Lab
To manage your email subscriptions, visit:
https://lab.dpdk.org/results/dashboard/preferences/subscriptions/
^ permalink raw reply [flat|nested] 73+ messages in thread
* |SUCCESS| [GIT MASTER] eb6e71e757155f219721086599a294cbd3b51ea9
@ 2024-05-21 7:17 dpdklab
0 siblings, 0 replies; 73+ messages in thread
From: dpdklab @ 2024-05-21 7:17 UTC (permalink / raw)
To: Test Report; +Cc: dpdk-test-reports, Andrew Rybchenko, Ferruh Yigit
_Testing PASS_
Branch: dpdk-next-net
eb6e71e757155f219721086599a294cbd3b51ea9 --> testing pass
Test environment and result as below:
+---------------------+----------------+
| Environment | dpdk_unit_test |
+=====================+================+
| CentOS Stream 8 | PASS |
+---------------------+----------------+
| Windows Server 2019 | PASS |
+---------------------+----------------+
| CentOS Stream 9 | PASS |
+---------------------+----------------+
| Debian Bullseye | PASS |
+---------------------+----------------+
| Fedora 37 | PASS |
+---------------------+----------------+
| Debian 12 | PASS |
+---------------------+----------------+
| openSUSE Leap 15 | PASS |
+---------------------+----------------+
| Fedora 39 | PASS |
+---------------------+----------------+
| Fedora 38 | PASS |
+---------------------+----------------+
| RHEL8 | PASS |
+---------------------+----------------+
| Windows Server 2022 | PASS |
+---------------------+----------------+
| Ubuntu 22.04 | PASS |
+---------------------+----------------+
CentOS Stream 8
Kernel: 5.4.0-167-generic
Compiler: gcc 8.5.0 20210514
Windows Server 2019
Kernel: 10.0.17763
Compiler: clang 14.0 and gcc 8.1.0 (MinGW)
CentOS Stream 9
Kernel: 5.4.0-167-generic
Compiler: gcc 11.4.1 20230605
Debian Bullseye
Kernel: 5.4.0-167-generic
Compiler: gcc 10.2.1-6
Fedora 37
Kernel: Depends on container host system
Compiler: gcc 12.3.1
Debian 12
Kernel: Container Host Kernel
Compiler: gcc 10.2.1
openSUSE Leap 15
Kernel: 5.4.0-167-generic
Compiler: gcc 7.5.0
Fedora 39
Kernel: Depends on container host
Compiler: gcc 13.2.1
Fedora 38
Kernel: Depends on container host
Compiler: gcc 13.2.1
RHEL8
Kernel: 5.4.0-167-generic
Compiler: gcc 8.5.0 20210514 (Red Hat 8.5.0-20)
Windows Server 2022
Kernel: 10.0.20348.2031
Compiler: clang 15.0.7, gcc 8.1.0 (MinGW), and MSVC VS 17.9
Ubuntu 22.04
Kernel: 5.4.0-167-generic
Compiler: gcc 11.4.0
To view detailed results, visit:
https://lab.dpdk.org/results/dashboard/tarballs/29152/
UNH-IOL DPDK Community Lab
To manage your email subscriptions, visit:
https://lab.dpdk.org/results/dashboard/preferences/subscriptions/
^ permalink raw reply [flat|nested] 73+ messages in thread
* |SUCCESS| [GIT MASTER] eb6e71e757155f219721086599a294cbd3b51ea9
@ 2024-05-21 7:14 dpdklab
0 siblings, 0 replies; 73+ messages in thread
From: dpdklab @ 2024-05-21 7:14 UTC (permalink / raw)
To: Test Report; +Cc: dpdk-test-reports, Andrew Rybchenko, Ferruh Yigit
_Testing PASS_
Branch: dpdk-next-net
eb6e71e757155f219721086599a294cbd3b51ea9 --> testing pass
Test environment and result as below:
+---------------------+----------------+
| Environment | dpdk_unit_test |
+=====================+================+
| CentOS Stream 8 | PASS |
+---------------------+----------------+
| Windows Server 2019 | PASS |
+---------------------+----------------+
| CentOS Stream 9 | PASS |
+---------------------+----------------+
| Debian Bullseye | PASS |
+---------------------+----------------+
| Fedora 37 | PASS |
+---------------------+----------------+
| Debian 12 | PASS |
+---------------------+----------------+
| openSUSE Leap 15 | PASS |
+---------------------+----------------+
| Fedora 39 | PASS |
+---------------------+----------------+
| Fedora 38 | PASS |
+---------------------+----------------+
| RHEL8 | PASS |
+---------------------+----------------+
| Windows Server 2022 | PASS |
+---------------------+----------------+
CentOS Stream 8
Kernel: 5.4.0-167-generic
Compiler: gcc 8.5.0 20210514
Windows Server 2019
Kernel: 10.0.17763
Compiler: clang 14.0 and gcc 8.1.0 (MinGW)
CentOS Stream 9
Kernel: 5.4.0-167-generic
Compiler: gcc 11.4.1 20230605
Debian Bullseye
Kernel: 5.4.0-167-generic
Compiler: gcc 10.2.1-6
Fedora 37
Kernel: Depends on container host system
Compiler: gcc 12.3.1
Debian 12
Kernel: Container Host Kernel
Compiler: gcc 10.2.1
openSUSE Leap 15
Kernel: 5.4.0-167-generic
Compiler: gcc 7.5.0
Fedora 39
Kernel: Depends on container host
Compiler: gcc 13.2.1
Fedora 38
Kernel: Depends on container host
Compiler: gcc 13.2.1
RHEL8
Kernel: 5.4.0-167-generic
Compiler: gcc 8.5.0 20210514 (Red Hat 8.5.0-20)
Windows Server 2022
Kernel: 10.0.20348.2031
Compiler: clang 15.0.7, gcc 8.1.0 (MinGW), and MSVC VS 17.9
To view detailed results, visit:
https://lab.dpdk.org/results/dashboard/tarballs/29152/
UNH-IOL DPDK Community Lab
To manage your email subscriptions, visit:
https://lab.dpdk.org/results/dashboard/preferences/subscriptions/
^ permalink raw reply [flat|nested] 73+ messages in thread
* |SUCCESS| [GIT MASTER] eb6e71e757155f219721086599a294cbd3b51ea9
@ 2024-05-21 7:12 dpdklab
0 siblings, 0 replies; 73+ messages in thread
From: dpdklab @ 2024-05-21 7:12 UTC (permalink / raw)
To: Test Report; +Cc: dpdk-test-reports, Andrew Rybchenko, Ferruh Yigit
_Testing PASS_
Branch: dpdk-next-net
eb6e71e757155f219721086599a294cbd3b51ea9 --> testing pass
Test environment and result as below:
+---------------------+--------------------+------------------+----------------------+-------------------+
| Environment | dpdk_meson_compile | dpdk_compile_ovs | dpdk_mingw64_compile | dpdk_msvc_compile |
+=====================+====================+==================+======================+===================+
| Windows Server 2019 | PASS | SKIPPED | PASS | SKIPPED |
+---------------------+--------------------+------------------+----------------------+-------------------+
| Windows Server 2022 | PASS | SKIPPED | PASS | PASS |
+---------------------+--------------------+------------------+----------------------+-------------------+
| CentOS Stream 8 | PASS | PASS | SKIPPED | SKIPPED |
+---------------------+--------------------+------------------+----------------------+-------------------+
| FreeBSD 13.3 | PASS | SKIPPED | SKIPPED | SKIPPED |
+---------------------+--------------------+------------------+----------------------+-------------------+
| CentOS Stream 9 | PASS | PASS | SKIPPED | SKIPPED |
+---------------------+--------------------+------------------+----------------------+-------------------+
| FreeBSD 14.0 | PASS | SKIPPED | SKIPPED | SKIPPED |
+---------------------+--------------------+------------------+----------------------+-------------------+
| Debian Bullseye | PASS | PASS | SKIPPED | SKIPPED |
+---------------------+--------------------+------------------+----------------------+-------------------+
| Fedora 37 | PASS | PASS | SKIPPED | SKIPPED |
+---------------------+--------------------+------------------+----------------------+-------------------+
| Fedora 38 | PASS | PASS | SKIPPED | SKIPPED |
+---------------------+--------------------+------------------+----------------------+-------------------+
| openSUSE Leap 15 | PASS | PASS | SKIPPED | SKIPPED |
+---------------------+--------------------+------------------+----------------------+-------------------+
| Fedora 39 | PASS | PASS | SKIPPED | SKIPPED |
+---------------------+--------------------+------------------+----------------------+-------------------+
| Ubuntu 20.04 | PASS | PASS | SKIPPED | SKIPPED |
+---------------------+--------------------+------------------+----------------------+-------------------+
| Debian 12 | PASS | PASS | SKIPPED | SKIPPED |
+---------------------+--------------------+------------------+----------------------+-------------------+
| RHEL8 | PASS | PASS | SKIPPED | SKIPPED |
+---------------------+--------------------+------------------+----------------------+-------------------+
Windows Server 2019
Kernel: 10.0.17763
Compiler: clang 14.0 and gcc 8.1.0 (MinGW)
Windows Server 2022
Kernel: 10.0.20348.2031
Compiler: clang 15.0.7, gcc 8.1.0 (MinGW), and MSVC VS 17.9
CentOS Stream 8
Kernel: 5.4.0-167-generic
Compiler: gcc 8.5.0 20210514
FreeBSD 13.3
Kernel: 13.3-RELEASE-p1
Compiler: clang 17.0.6
CentOS Stream 9
Kernel: 5.4.0-167-generic
Compiler: gcc 11.4.1 20230605
FreeBSD 14.0
Kernel: 14.0
Compiler: clang 16.0.6
Debian Bullseye
Kernel: 5.4.0-167-generic
Compiler: gcc 10.2.1-6
Fedora 37
Kernel: Depends on container host system
Compiler: gcc 12.3.1
Fedora 38
Kernel: Depends on container host
Compiler: clang 16.0.6
openSUSE Leap 15
Kernel: 5.4.0-167-generic
Compiler: gcc 7.5.0
Fedora 39
Kernel: Depends on container host
Compiler: gcc 13.2.1
Ubuntu 20.04
Kernel: 5.4.0-167-generic
Compiler: gcc 9.4.0-1ubuntu1~20.04.1
Debian 12
Kernel: Container Host Kernel
Compiler: gcc 10.2.1
RHEL8
Kernel: 5.4.0-167-generic
Compiler: gcc 8.5.0 20210514 (Red Hat 8.5.0-20)
To view detailed results, visit:
https://lab.dpdk.org/results/dashboard/tarballs/29152/
UNH-IOL DPDK Community Lab
To manage your email subscriptions, visit:
https://lab.dpdk.org/results/dashboard/preferences/subscriptions/
^ permalink raw reply [flat|nested] 73+ messages in thread
* |SUCCESS| [GIT MASTER] eb6e71e757155f219721086599a294cbd3b51ea9
@ 2024-05-21 7:12 dpdklab
0 siblings, 0 replies; 73+ messages in thread
From: dpdklab @ 2024-05-21 7:12 UTC (permalink / raw)
To: Test Report; +Cc: dpdk-test-reports, Andrew Rybchenko, Ferruh Yigit
_Testing PASS_
Branch: dpdk-next-net
eb6e71e757155f219721086599a294cbd3b51ea9 --> testing pass
Test environment and result as below:
+---------------------+----------------+
| Environment | dpdk_unit_test |
+=====================+================+
| CentOS Stream 8 | PASS |
+---------------------+----------------+
| Windows Server 2019 | PASS |
+---------------------+----------------+
| CentOS Stream 9 | PASS |
+---------------------+----------------+
| Debian Bullseye | PASS |
+---------------------+----------------+
| Fedora 37 | PASS |
+---------------------+----------------+
| Debian 12 | PASS |
+---------------------+----------------+
| openSUSE Leap 15 | PASS |
+---------------------+----------------+
| Fedora 39 | PASS |
+---------------------+----------------+
| Fedora 38 | PASS |
+---------------------+----------------+
| RHEL8 | PASS |
+---------------------+----------------+
| Windows Server 2022 | PASS |
+---------------------+----------------+
CentOS Stream 8
Kernel: 5.4.0-167-generic
Compiler: gcc 8.5.0 20210514
Windows Server 2019
Kernel: 10.0.17763
Compiler: clang 14.0 and gcc 8.1.0 (MinGW)
CentOS Stream 9
Kernel: 5.4.0-167-generic
Compiler: gcc 11.4.1 20230605
Debian Bullseye
Kernel: 5.4.0-167-generic
Compiler: gcc 10.2.1-6
Fedora 37
Kernel: Depends on container host system
Compiler: gcc 12.3.1
Debian 12
Kernel: Container Host Kernel
Compiler: gcc 10.2.1
openSUSE Leap 15
Kernel: 5.4.0-167-generic
Compiler: gcc 7.5.0
Fedora 39
Kernel: Depends on container host
Compiler: gcc 13.2.1
Fedora 38
Kernel: Depends on container host
Compiler: gcc 13.2.1
RHEL8
Kernel: 5.4.0-167-generic
Compiler: gcc 8.5.0 20210514 (Red Hat 8.5.0-20)
Windows Server 2022
Kernel: 10.0.20348.2031
Compiler: clang 15.0.7, gcc 8.1.0 (MinGW), and MSVC VS 17.9
To view detailed results, visit:
https://lab.dpdk.org/results/dashboard/tarballs/29152/
UNH-IOL DPDK Community Lab
To manage your email subscriptions, visit:
https://lab.dpdk.org/results/dashboard/preferences/subscriptions/
^ permalink raw reply [flat|nested] 73+ messages in thread
* |SUCCESS| [GIT MASTER] eb6e71e757155f219721086599a294cbd3b51ea9
@ 2024-05-21 7:12 dpdklab
0 siblings, 0 replies; 73+ messages in thread
From: dpdklab @ 2024-05-21 7:12 UTC (permalink / raw)
To: Test Report; +Cc: dpdk-test-reports, Andrew Rybchenko, Ferruh Yigit
_Testing PASS_
Branch: dpdk-next-net
eb6e71e757155f219721086599a294cbd3b51ea9 --> testing pass
Test environment and result as below:
+---------------------+--------------------+------------------+----------------------+-------------------+
| Environment | dpdk_meson_compile | dpdk_compile_ovs | dpdk_mingw64_compile | dpdk_msvc_compile |
+=====================+====================+==================+======================+===================+
| Windows Server 2019 | PASS | SKIPPED | PASS | SKIPPED |
+---------------------+--------------------+------------------+----------------------+-------------------+
| Windows Server 2022 | PASS | SKIPPED | PASS | PASS |
+---------------------+--------------------+------------------+----------------------+-------------------+
| CentOS Stream 8 | PASS | PASS | SKIPPED | SKIPPED |
+---------------------+--------------------+------------------+----------------------+-------------------+
| FreeBSD 13.3 | PASS | SKIPPED | SKIPPED | SKIPPED |
+---------------------+--------------------+------------------+----------------------+-------------------+
| CentOS Stream 9 | PASS | PASS | SKIPPED | SKIPPED |
+---------------------+--------------------+------------------+----------------------+-------------------+
| FreeBSD 14.0 | PASS | SKIPPED | SKIPPED | SKIPPED |
+---------------------+--------------------+------------------+----------------------+-------------------+
| Debian Bullseye | PASS | PASS | SKIPPED | SKIPPED |
+---------------------+--------------------+------------------+----------------------+-------------------+
| Fedora 37 | PASS | PASS | SKIPPED | SKIPPED |
+---------------------+--------------------+------------------+----------------------+-------------------+
| Fedora 38 | PASS | PASS | SKIPPED | SKIPPED |
+---------------------+--------------------+------------------+----------------------+-------------------+
| openSUSE Leap 15 | PASS | PASS | SKIPPED | SKIPPED |
+---------------------+--------------------+------------------+----------------------+-------------------+
| Fedora 39 | PASS | PASS | SKIPPED | SKIPPED |
+---------------------+--------------------+------------------+----------------------+-------------------+
| Ubuntu 20.04 | PASS | PASS | SKIPPED | SKIPPED |
+---------------------+--------------------+------------------+----------------------+-------------------+
| Debian 12 | PASS | PASS | SKIPPED | SKIPPED |
+---------------------+--------------------+------------------+----------------------+-------------------+
| RHEL8 | PASS | SKIPPED | SKIPPED | SKIPPED |
+---------------------+--------------------+------------------+----------------------+-------------------+
Windows Server 2019
Kernel: 10.0.17763
Compiler: clang 14.0 and gcc 8.1.0 (MinGW)
Windows Server 2022
Kernel: 10.0.20348.2031
Compiler: clang 15.0.7, gcc 8.1.0 (MinGW), and MSVC VS 17.9
CentOS Stream 8
Kernel: 5.4.0-167-generic
Compiler: gcc 8.5.0 20210514
FreeBSD 13.3
Kernel: 13.3-RELEASE-p1
Compiler: clang 17.0.6
CentOS Stream 9
Kernel: 5.4.0-167-generic
Compiler: gcc 11.4.1 20230605
FreeBSD 14.0
Kernel: 14.0
Compiler: clang 16.0.6
Debian Bullseye
Kernel: 5.4.0-167-generic
Compiler: gcc 10.2.1-6
Fedora 37
Kernel: Depends on container host system
Compiler: gcc 12.3.1
Fedora 38
Kernel: Depends on container host
Compiler: clang 16.0.6
openSUSE Leap 15
Kernel: 5.4.0-167-generic
Compiler: gcc 7.5.0
Fedora 39
Kernel: Depends on container host
Compiler: gcc 13.2.1
Ubuntu 20.04
Kernel: 5.4.0-167-generic
Compiler: gcc 9.4.0-1ubuntu1~20.04.1
Debian 12
Kernel: Container Host Kernel
Compiler: gcc 10.2.1
RHEL8
Kernel: 5.4.0-167-generic
Compiler: gcc 8.5.0 20210514 (Red Hat 8.5.0-20)
To view detailed results, visit:
https://lab.dpdk.org/results/dashboard/tarballs/29152/
UNH-IOL DPDK Community Lab
To manage your email subscriptions, visit:
https://lab.dpdk.org/results/dashboard/preferences/subscriptions/
^ permalink raw reply [flat|nested] 73+ messages in thread
* |SUCCESS| [GIT MASTER] eb6e71e757155f219721086599a294cbd3b51ea9
@ 2024-05-21 7:11 dpdklab
0 siblings, 0 replies; 73+ messages in thread
From: dpdklab @ 2024-05-21 7:11 UTC (permalink / raw)
To: Test Report; +Cc: dpdk-test-reports, Andrew Rybchenko, Ferruh Yigit
_Testing PASS_
Branch: dpdk-next-net
eb6e71e757155f219721086599a294cbd3b51ea9 --> testing pass
Test environment and result as below:
+---------------------+----------------+
| Environment | dpdk_unit_test |
+=====================+================+
| CentOS Stream 8 | PASS |
+---------------------+----------------+
| Windows Server 2019 | PASS |
+---------------------+----------------+
| CentOS Stream 9 | PASS |
+---------------------+----------------+
| Debian Bullseye | PASS |
+---------------------+----------------+
| Fedora 37 | PASS |
+---------------------+----------------+
| Debian 12 | PASS |
+---------------------+----------------+
| openSUSE Leap 15 | PASS |
+---------------------+----------------+
| Fedora 39 | PASS |
+---------------------+----------------+
| Fedora 38 | PASS |
+---------------------+----------------+
| RHEL8 | PASS |
+---------------------+----------------+
CentOS Stream 8
Kernel: 5.4.0-167-generic
Compiler: gcc 8.5.0 20210514
Windows Server 2019
Kernel: 10.0.17763
Compiler: clang 14.0 and gcc 8.1.0 (MinGW)
CentOS Stream 9
Kernel: 5.4.0-167-generic
Compiler: gcc 11.4.1 20230605
Debian Bullseye
Kernel: 5.4.0-167-generic
Compiler: gcc 10.2.1-6
Fedora 37
Kernel: Depends on container host system
Compiler: gcc 12.3.1
Debian 12
Kernel: Container Host Kernel
Compiler: gcc 10.2.1
openSUSE Leap 15
Kernel: 5.4.0-167-generic
Compiler: gcc 7.5.0
Fedora 39
Kernel: Depends on container host
Compiler: gcc 13.2.1
Fedora 38
Kernel: Depends on container host
Compiler: gcc 13.2.1
RHEL8
Kernel: 5.4.0-167-generic
Compiler: gcc 8.5.0 20210514 (Red Hat 8.5.0-20)
To view detailed results, visit:
https://lab.dpdk.org/results/dashboard/tarballs/29152/
UNH-IOL DPDK Community Lab
To manage your email subscriptions, visit:
https://lab.dpdk.org/results/dashboard/preferences/subscriptions/
^ permalink raw reply [flat|nested] 73+ messages in thread
* |SUCCESS| [GIT MASTER] eb6e71e757155f219721086599a294cbd3b51ea9
@ 2024-05-21 7:10 dpdklab
0 siblings, 0 replies; 73+ messages in thread
From: dpdklab @ 2024-05-21 7:10 UTC (permalink / raw)
To: Test Report; +Cc: dpdk-test-reports, Andrew Rybchenko, Ferruh Yigit
_Testing PASS_
Branch: dpdk-next-net
eb6e71e757155f219721086599a294cbd3b51ea9 --> testing pass
Test environment and result as below:
+-----------------------------+--------------+------------------------------+----------------+---------------------------+
| Environment | lpm_autotest | cryptodev_sw_snow3g_autotest | dpdk_unit_test | cryptodev_sw_zuc_autotest |
+=============================+==============+==============================+================+===========================+
| Ubuntu 20.04 ARM SVE | PASS | SKIPPED | SKIPPED | SKIPPED |
+-----------------------------+--------------+------------------------------+----------------+---------------------------+
| Debian 12 (arm) | SKIPPED | PASS | PASS | PASS |
+-----------------------------+--------------+------------------------------+----------------+---------------------------+
| Debian 11 (Buster) (ARM) | SKIPPED | SKIPPED | PASS | SKIPPED |
+-----------------------------+--------------+------------------------------+----------------+---------------------------+
| 32-bit Ubuntu 20.04.4 (ARM) | SKIPPED | SKIPPED | PASS | SKIPPED |
+-----------------------------+--------------+------------------------------+----------------+---------------------------+
| Fedora 37 (ARM) | SKIPPED | SKIPPED | PASS | SKIPPED |
+-----------------------------+--------------+------------------------------+----------------+---------------------------+
| CentOS Stream 9 (ARM) | SKIPPED | SKIPPED | PASS | SKIPPED |
+-----------------------------+--------------+------------------------------+----------------+---------------------------+
Ubuntu 20.04 ARM SVE
Kernel: 5.4.0-167-generic
Compiler: gcc (Ubuntu 10.5.0-1ubuntu1~20.04) 10.5.0
Debian 12 (arm)
Kernel: Container Host Kernel
Compiler: gcc 12.2.0
Debian 11 (Buster) (ARM)
Kernel: Container Host Kernel
Compiler: gcc 10.2.1
32-bit Ubuntu 20.04.4 (ARM)
Kernel: 5.4.0-155-generic aarch64
Compiler: gcc 9.4
Fedora 37 (ARM)
Kernel: Depends on container host
Compiler: gcc 12.3.1
CentOS Stream 9 (ARM)
Kernel: Container Host Kernel
Compiler: gcc 11.4.1
To view detailed results, visit:
https://lab.dpdk.org/results/dashboard/tarballs/29152/
UNH-IOL DPDK Community Lab
To manage your email subscriptions, visit:
https://lab.dpdk.org/results/dashboard/preferences/subscriptions/
^ permalink raw reply [flat|nested] 73+ messages in thread
* |SUCCESS| [GIT MASTER] eb6e71e757155f219721086599a294cbd3b51ea9
@ 2024-05-21 7:10 dpdklab
0 siblings, 0 replies; 73+ messages in thread
From: dpdklab @ 2024-05-21 7:10 UTC (permalink / raw)
To: Test Report; +Cc: dpdk-test-reports, Andrew Rybchenko, Ferruh Yigit
_Testing PASS_
Branch: dpdk-next-net
eb6e71e757155f219721086599a294cbd3b51ea9 --> testing pass
Test environment and result as below:
+-----------------------------+--------------+------------------------------+----------------+---------------------------+
| Environment | lpm_autotest | cryptodev_sw_snow3g_autotest | dpdk_unit_test | cryptodev_sw_zuc_autotest |
+=============================+==============+==============================+================+===========================+
| Ubuntu 20.04 ARM SVE | PASS | SKIPPED | SKIPPED | SKIPPED |
+-----------------------------+--------------+------------------------------+----------------+---------------------------+
| Debian 12 (arm) | SKIPPED | PASS | PASS | PASS |
+-----------------------------+--------------+------------------------------+----------------+---------------------------+
| Debian 11 (Buster) (ARM) | SKIPPED | SKIPPED | PASS | SKIPPED |
+-----------------------------+--------------+------------------------------+----------------+---------------------------+
| 32-bit Ubuntu 20.04.4 (ARM) | SKIPPED | SKIPPED | PASS | SKIPPED |
+-----------------------------+--------------+------------------------------+----------------+---------------------------+
| Fedora 37 (ARM) | SKIPPED | SKIPPED | PASS | SKIPPED |
+-----------------------------+--------------+------------------------------+----------------+---------------------------+
| CentOS Stream 9 (ARM) | SKIPPED | SKIPPED | PASS | SKIPPED |
+-----------------------------+--------------+------------------------------+----------------+---------------------------+
Ubuntu 20.04 ARM SVE
Kernel: 5.4.0-167-generic
Compiler: gcc (Ubuntu 10.5.0-1ubuntu1~20.04) 10.5.0
Debian 12 (arm)
Kernel: Container Host Kernel
Compiler: gcc 12.2.0
Debian 11 (Buster) (ARM)
Kernel: Container Host Kernel
Compiler: gcc 10.2.1
32-bit Ubuntu 20.04.4 (ARM)
Kernel: 5.4.0-155-generic aarch64
Compiler: gcc 9.4
Fedora 37 (ARM)
Kernel: Depends on container host
Compiler: gcc 12.3.1
CentOS Stream 9 (ARM)
Kernel: Container Host Kernel
Compiler: gcc 11.4.1
To view detailed results, visit:
https://lab.dpdk.org/results/dashboard/tarballs/29152/
UNH-IOL DPDK Community Lab
To manage your email subscriptions, visit:
https://lab.dpdk.org/results/dashboard/preferences/subscriptions/
^ permalink raw reply [flat|nested] 73+ messages in thread
* |SUCCESS| [GIT MASTER] eb6e71e757155f219721086599a294cbd3b51ea9
@ 2024-05-21 7:09 dpdklab
0 siblings, 0 replies; 73+ messages in thread
From: dpdklab @ 2024-05-21 7:09 UTC (permalink / raw)
To: Test Report; +Cc: dpdk-test-reports, Andrew Rybchenko, Ferruh Yigit
_Testing PASS_
Branch: dpdk-next-net
eb6e71e757155f219721086599a294cbd3b51ea9 --> testing pass
Test environment and result as below:
+---------------------+--------------------+------------------+----------------------+-------------------+
| Environment | dpdk_meson_compile | dpdk_compile_ovs | dpdk_mingw64_compile | dpdk_msvc_compile |
+=====================+====================+==================+======================+===================+
| Windows Server 2019 | PASS | SKIPPED | PASS | SKIPPED |
+---------------------+--------------------+------------------+----------------------+-------------------+
| Windows Server 2022 | PASS | SKIPPED | PASS | PASS |
+---------------------+--------------------+------------------+----------------------+-------------------+
| CentOS Stream 8 | PASS | PASS | SKIPPED | SKIPPED |
+---------------------+--------------------+------------------+----------------------+-------------------+
| FreeBSD 13.3 | PASS | SKIPPED | SKIPPED | SKIPPED |
+---------------------+--------------------+------------------+----------------------+-------------------+
| CentOS Stream 9 | PASS | PASS | SKIPPED | SKIPPED |
+---------------------+--------------------+------------------+----------------------+-------------------+
| FreeBSD 14.0 | PASS | SKIPPED | SKIPPED | SKIPPED |
+---------------------+--------------------+------------------+----------------------+-------------------+
| Debian Bullseye | PASS | PASS | SKIPPED | SKIPPED |
+---------------------+--------------------+------------------+----------------------+-------------------+
| Fedora 37 | PASS | PASS | SKIPPED | SKIPPED |
+---------------------+--------------------+------------------+----------------------+-------------------+
| Fedora 38 | PASS | PASS | SKIPPED | SKIPPED |
+---------------------+--------------------+------------------+----------------------+-------------------+
| openSUSE Leap 15 | PASS | PASS | SKIPPED | SKIPPED |
+---------------------+--------------------+------------------+----------------------+-------------------+
| Fedora 39 | PASS | PASS | SKIPPED | SKIPPED |
+---------------------+--------------------+------------------+----------------------+-------------------+
Windows Server 2019
Kernel: 10.0.17763
Compiler: clang 14.0 and gcc 8.1.0 (MinGW)
Windows Server 2022
Kernel: 10.0.20348.2031
Compiler: clang 15.0.7, gcc 8.1.0 (MinGW), and MSVC VS 17.9
CentOS Stream 8
Kernel: 5.4.0-167-generic
Compiler: gcc 8.5.0 20210514
FreeBSD 13.3
Kernel: 13.3-RELEASE-p1
Compiler: clang 17.0.6
CentOS Stream 9
Kernel: 5.4.0-167-generic
Compiler: gcc 11.4.1 20230605
FreeBSD 14.0
Kernel: 14.0
Compiler: clang 16.0.6
Debian Bullseye
Kernel: 5.4.0-167-generic
Compiler: gcc 10.2.1-6
Fedora 37
Kernel: Depends on container host system
Compiler: gcc 12.3.1
Fedora 38
Kernel: Depends on container host
Compiler: clang 16.0.6
openSUSE Leap 15
Kernel: 5.4.0-167-generic
Compiler: gcc 7.5.0
Fedora 39
Kernel: Depends on container host
Compiler: gcc 13.2.1
To view detailed results, visit:
https://lab.dpdk.org/results/dashboard/tarballs/29152/
UNH-IOL DPDK Community Lab
To manage your email subscriptions, visit:
https://lab.dpdk.org/results/dashboard/preferences/subscriptions/
^ permalink raw reply [flat|nested] 73+ messages in thread
* |SUCCESS| [GIT MASTER] eb6e71e757155f219721086599a294cbd3b51ea9
@ 2024-05-21 7:09 dpdklab
0 siblings, 0 replies; 73+ messages in thread
From: dpdklab @ 2024-05-21 7:09 UTC (permalink / raw)
To: Test Report; +Cc: dpdk-test-reports, Andrew Rybchenko, Ferruh Yigit
_Testing PASS_
Branch: dpdk-next-net
eb6e71e757155f219721086599a294cbd3b51ea9 --> testing pass
Test environment and result as below:
+---------------------+----------------+
| Environment | dpdk_unit_test |
+=====================+================+
| CentOS Stream 8 | PASS |
+---------------------+----------------+
| Windows Server 2019 | PASS |
+---------------------+----------------+
| CentOS Stream 9 | PASS |
+---------------------+----------------+
| Debian Bullseye | PASS |
+---------------------+----------------+
| Fedora 37 | PASS |
+---------------------+----------------+
| Debian 12 | PASS |
+---------------------+----------------+
| openSUSE Leap 15 | PASS |
+---------------------+----------------+
| Fedora 39 | PASS |
+---------------------+----------------+
| Fedora 38 | PASS |
+---------------------+----------------+
CentOS Stream 8
Kernel: 5.4.0-167-generic
Compiler: gcc 8.5.0 20210514
Windows Server 2019
Kernel: 10.0.17763
Compiler: clang 14.0 and gcc 8.1.0 (MinGW)
CentOS Stream 9
Kernel: 5.4.0-167-generic
Compiler: gcc 11.4.1 20230605
Debian Bullseye
Kernel: 5.4.0-167-generic
Compiler: gcc 10.2.1-6
Fedora 37
Kernel: Depends on container host system
Compiler: gcc 12.3.1
Debian 12
Kernel: Container Host Kernel
Compiler: gcc 10.2.1
openSUSE Leap 15
Kernel: 5.4.0-167-generic
Compiler: gcc 7.5.0
Fedora 39
Kernel: Depends on container host
Compiler: gcc 13.2.1
Fedora 38
Kernel: Depends on container host
Compiler: gcc 13.2.1
To view detailed results, visit:
https://lab.dpdk.org/results/dashboard/tarballs/29152/
UNH-IOL DPDK Community Lab
To manage your email subscriptions, visit:
https://lab.dpdk.org/results/dashboard/preferences/subscriptions/
^ permalink raw reply [flat|nested] 73+ messages in thread
* |SUCCESS| [GIT MASTER] eb6e71e757155f219721086599a294cbd3b51ea9
@ 2024-05-21 7:09 dpdklab
0 siblings, 0 replies; 73+ messages in thread
From: dpdklab @ 2024-05-21 7:09 UTC (permalink / raw)
To: Test Report; +Cc: dpdk-test-reports, Andrew Rybchenko, Ferruh Yigit
_Testing PASS_
Branch: dpdk-next-net
eb6e71e757155f219721086599a294cbd3b51ea9 --> testing pass
Test environment and result as below:
+-----------------------------+--------------+------------------------------+----------------+---------------------------+
| Environment | lpm_autotest | cryptodev_sw_snow3g_autotest | dpdk_unit_test | cryptodev_sw_zuc_autotest |
+=============================+==============+==============================+================+===========================+
| Ubuntu 20.04 ARM SVE | PASS | SKIPPED | SKIPPED | SKIPPED |
+-----------------------------+--------------+------------------------------+----------------+---------------------------+
| Debian 12 (arm) | SKIPPED | PASS | SKIPPED | PASS |
+-----------------------------+--------------+------------------------------+----------------+---------------------------+
| Debian 11 (Buster) (ARM) | SKIPPED | SKIPPED | PASS | SKIPPED |
+-----------------------------+--------------+------------------------------+----------------+---------------------------+
| 32-bit Ubuntu 20.04.4 (ARM) | SKIPPED | SKIPPED | PASS | SKIPPED |
+-----------------------------+--------------+------------------------------+----------------+---------------------------+
| Fedora 37 (ARM) | SKIPPED | SKIPPED | PASS | SKIPPED |
+-----------------------------+--------------+------------------------------+----------------+---------------------------+
| CentOS Stream 9 (ARM) | SKIPPED | SKIPPED | PASS | SKIPPED |
+-----------------------------+--------------+------------------------------+----------------+---------------------------+
Ubuntu 20.04 ARM SVE
Kernel: 5.4.0-167-generic
Compiler: gcc (Ubuntu 10.5.0-1ubuntu1~20.04) 10.5.0
Debian 12 (arm)
Kernel: Container Host Kernel
Compiler: gcc 12.2.0
Debian 11 (Buster) (ARM)
Kernel: Container Host Kernel
Compiler: gcc 10.2.1
32-bit Ubuntu 20.04.4 (ARM)
Kernel: 5.4.0-155-generic aarch64
Compiler: gcc 9.4
Fedora 37 (ARM)
Kernel: Depends on container host
Compiler: gcc 12.3.1
CentOS Stream 9 (ARM)
Kernel: Container Host Kernel
Compiler: gcc 11.4.1
To view detailed results, visit:
https://lab.dpdk.org/results/dashboard/tarballs/29152/
UNH-IOL DPDK Community Lab
To manage your email subscriptions, visit:
https://lab.dpdk.org/results/dashboard/preferences/subscriptions/
^ permalink raw reply [flat|nested] 73+ messages in thread
* |SUCCESS| [GIT MASTER] eb6e71e757155f219721086599a294cbd3b51ea9
@ 2024-05-21 7:08 dpdklab
0 siblings, 0 replies; 73+ messages in thread
From: dpdklab @ 2024-05-21 7:08 UTC (permalink / raw)
To: Test Report; +Cc: dpdk-test-reports, Andrew Rybchenko, Ferruh Yigit
_Testing PASS_
Branch: dpdk-next-net
eb6e71e757155f219721086599a294cbd3b51ea9 --> testing pass
Test environment and result as below:
+---------------------+----------------+
| Environment | dpdk_unit_test |
+=====================+================+
| CentOS Stream 8 | PASS |
+---------------------+----------------+
| Windows Server 2019 | PASS |
+---------------------+----------------+
| CentOS Stream 9 | PASS |
+---------------------+----------------+
| Debian Bullseye | PASS |
+---------------------+----------------+
| Fedora 37 | PASS |
+---------------------+----------------+
| Debian 12 | PASS |
+---------------------+----------------+
| openSUSE Leap 15 | PASS |
+---------------------+----------------+
| Fedora 39 | PASS |
+---------------------+----------------+
| Fedora 38 | PASS |
+---------------------+----------------+
CentOS Stream 8
Kernel: 5.4.0-167-generic
Compiler: gcc 8.5.0 20210514
Windows Server 2019
Kernel: 10.0.17763
Compiler: clang 14.0 and gcc 8.1.0 (MinGW)
CentOS Stream 9
Kernel: 5.4.0-167-generic
Compiler: gcc 11.4.1 20230605
Debian Bullseye
Kernel: 5.4.0-167-generic
Compiler: gcc 10.2.1-6
Fedora 37
Kernel: Depends on container host system
Compiler: gcc 12.3.1
Debian 12
Kernel: Container Host Kernel
Compiler: gcc 10.2.1
openSUSE Leap 15
Kernel: 5.4.0-167-generic
Compiler: gcc 7.5.0
Fedora 39
Kernel: Depends on container host
Compiler: gcc 13.2.1
Fedora 38
Kernel: Depends on container host
Compiler: gcc 13.2.1
To view detailed results, visit:
https://lab.dpdk.org/results/dashboard/tarballs/29152/
UNH-IOL DPDK Community Lab
To manage your email subscriptions, visit:
https://lab.dpdk.org/results/dashboard/preferences/subscriptions/
^ permalink raw reply [flat|nested] 73+ messages in thread
* |SUCCESS| [GIT MASTER] eb6e71e757155f219721086599a294cbd3b51ea9
@ 2024-05-21 7:08 dpdklab
0 siblings, 0 replies; 73+ messages in thread
From: dpdklab @ 2024-05-21 7:08 UTC (permalink / raw)
To: Test Report; +Cc: dpdk-test-reports, Andrew Rybchenko, Ferruh Yigit
_Testing PASS_
Branch: dpdk-next-net
eb6e71e757155f219721086599a294cbd3b51ea9 --> testing pass
Test environment and result as below:
+---------------------+--------------------+------------------+----------------------+-------------------+
| Environment | dpdk_meson_compile | dpdk_compile_ovs | dpdk_mingw64_compile | dpdk_msvc_compile |
+=====================+====================+==================+======================+===================+
| Windows Server 2019 | PASS | SKIPPED | PASS | SKIPPED |
+---------------------+--------------------+------------------+----------------------+-------------------+
| Windows Server 2022 | PASS | SKIPPED | PASS | PASS |
+---------------------+--------------------+------------------+----------------------+-------------------+
| CentOS Stream 8 | PASS | PASS | SKIPPED | SKIPPED |
+---------------------+--------------------+------------------+----------------------+-------------------+
| FreeBSD 13.3 | PASS | SKIPPED | SKIPPED | SKIPPED |
+---------------------+--------------------+------------------+----------------------+-------------------+
| CentOS Stream 9 | PASS | PASS | SKIPPED | SKIPPED |
+---------------------+--------------------+------------------+----------------------+-------------------+
| FreeBSD 14.0 | PASS | SKIPPED | SKIPPED | SKIPPED |
+---------------------+--------------------+------------------+----------------------+-------------------+
| Debian Bullseye | PASS | PASS | SKIPPED | SKIPPED |
+---------------------+--------------------+------------------+----------------------+-------------------+
| Fedora 37 | PASS | PASS | SKIPPED | SKIPPED |
+---------------------+--------------------+------------------+----------------------+-------------------+
| Fedora 38 | PASS | PASS | SKIPPED | SKIPPED |
+---------------------+--------------------+------------------+----------------------+-------------------+
| openSUSE Leap 15 | PASS | PASS | SKIPPED | SKIPPED |
+---------------------+--------------------+------------------+----------------------+-------------------+
| Fedora 39 | PASS | PASS | SKIPPED | SKIPPED |
+---------------------+--------------------+------------------+----------------------+-------------------+
Windows Server 2019
Kernel: 10.0.17763
Compiler: clang 14.0 and gcc 8.1.0 (MinGW)
Windows Server 2022
Kernel: 10.0.20348.2031
Compiler: clang 15.0.7, gcc 8.1.0 (MinGW), and MSVC VS 17.9
CentOS Stream 8
Kernel: 5.4.0-167-generic
Compiler: gcc 8.5.0 20210514
FreeBSD 13.3
Kernel: 13.3-RELEASE-p1
Compiler: clang 17.0.6
CentOS Stream 9
Kernel: 5.4.0-167-generic
Compiler: gcc 11.4.1 20230605
FreeBSD 14.0
Kernel: 14.0
Compiler: clang 16.0.6
Debian Bullseye
Kernel: 5.4.0-167-generic
Compiler: gcc 10.2.1-6
Fedora 37
Kernel: Depends on container host system
Compiler: gcc 12.3.1
Fedora 38
Kernel: Depends on container host
Compiler: clang 16.0.6
openSUSE Leap 15
Kernel: 5.4.0-167-generic
Compiler: gcc 7.5.0
Fedora 39
Kernel: Depends on container host
Compiler: gcc 13.2.1
To view detailed results, visit:
https://lab.dpdk.org/results/dashboard/tarballs/29152/
UNH-IOL DPDK Community Lab
To manage your email subscriptions, visit:
https://lab.dpdk.org/results/dashboard/preferences/subscriptions/
^ permalink raw reply [flat|nested] 73+ messages in thread
* |SUCCESS| [GIT MASTER] eb6e71e757155f219721086599a294cbd3b51ea9
@ 2024-05-21 7:08 dpdklab
0 siblings, 0 replies; 73+ messages in thread
From: dpdklab @ 2024-05-21 7:08 UTC (permalink / raw)
To: Test Report; +Cc: dpdk-test-reports, Andrew Rybchenko, Ferruh Yigit
_Testing PASS_
Branch: dpdk-next-net
eb6e71e757155f219721086599a294cbd3b51ea9 --> testing pass
Test environment and result as below:
+-----------------------------+--------------+------------------------------+----------------+---------------------------+
| Environment | lpm_autotest | cryptodev_sw_snow3g_autotest | dpdk_unit_test | cryptodev_sw_zuc_autotest |
+=============================+==============+==============================+================+===========================+
| Ubuntu 20.04 ARM SVE | PASS | SKIPPED | SKIPPED | SKIPPED |
+-----------------------------+--------------+------------------------------+----------------+---------------------------+
| Debian 12 (arm) | SKIPPED | PASS | SKIPPED | PASS |
+-----------------------------+--------------+------------------------------+----------------+---------------------------+
| Debian 11 (Buster) (ARM) | SKIPPED | SKIPPED | PASS | SKIPPED |
+-----------------------------+--------------+------------------------------+----------------+---------------------------+
| 32-bit Ubuntu 20.04.4 (ARM) | SKIPPED | SKIPPED | PASS | SKIPPED |
+-----------------------------+--------------+------------------------------+----------------+---------------------------+
| Fedora 37 (ARM) | SKIPPED | SKIPPED | PASS | SKIPPED |
+-----------------------------+--------------+------------------------------+----------------+---------------------------+
Ubuntu 20.04 ARM SVE
Kernel: 5.4.0-167-generic
Compiler: gcc (Ubuntu 10.5.0-1ubuntu1~20.04) 10.5.0
Debian 12 (arm)
Kernel: Container Host Kernel
Compiler: gcc 12.2.0
Debian 11 (Buster) (ARM)
Kernel: Container Host Kernel
Compiler: gcc 10.2.1
32-bit Ubuntu 20.04.4 (ARM)
Kernel: 5.4.0-155-generic aarch64
Compiler: gcc 9.4
Fedora 37 (ARM)
Kernel: Depends on container host
Compiler: gcc 12.3.1
To view detailed results, visit:
https://lab.dpdk.org/results/dashboard/tarballs/29152/
UNH-IOL DPDK Community Lab
To manage your email subscriptions, visit:
https://lab.dpdk.org/results/dashboard/preferences/subscriptions/
^ permalink raw reply [flat|nested] 73+ messages in thread
* |SUCCESS| [GIT MASTER] eb6e71e757155f219721086599a294cbd3b51ea9
@ 2024-05-21 7:08 dpdklab
0 siblings, 0 replies; 73+ messages in thread
From: dpdklab @ 2024-05-21 7:08 UTC (permalink / raw)
To: Test Report; +Cc: dpdk-test-reports, Andrew Rybchenko, Ferruh Yigit
_Testing PASS_
Branch: dpdk-next-net
eb6e71e757155f219721086599a294cbd3b51ea9 --> testing pass
Test environment and result as below:
+----------------------------------------+--------------------+
| Environment | dpdk_meson_compile |
+========================================+====================+
| Ubuntu 20.04 ARM SVE | PASS |
+----------------------------------------+--------------------+
| Debian 12 with MUSDK | PASS |
+----------------------------------------+--------------------+
| Ubuntu 20.04 aarch32 GCC Cross Compile | PASS |
+----------------------------------------+--------------------+
| Fedora 37 (ARM) | PASS |
+----------------------------------------+--------------------+
Ubuntu 20.04 ARM SVE
Kernel: 5.4.0-167-generic
Compiler: gcc (Ubuntu 10.5.0-1ubuntu1~20.04) 10.5.0
Debian 12 with MUSDK
Kernel: Container Host Kernel
Compiler: gcc 12.2.0
Ubuntu 20.04 aarch32 GCC Cross Compile
Kernel: 5.4.0-167-generic
Compiler: gcc 9.4.0
Fedora 37 (ARM)
Kernel: Depends on container host
Compiler: gcc 12.3.1
To view detailed results, visit:
https://lab.dpdk.org/results/dashboard/tarballs/29152/
UNH-IOL DPDK Community Lab
To manage your email subscriptions, visit:
https://lab.dpdk.org/results/dashboard/preferences/subscriptions/
^ permalink raw reply [flat|nested] 73+ messages in thread
* |SUCCESS| [GIT MASTER] eb6e71e757155f219721086599a294cbd3b51ea9
@ 2024-05-21 7:08 dpdklab
0 siblings, 0 replies; 73+ messages in thread
From: dpdklab @ 2024-05-21 7:08 UTC (permalink / raw)
To: Test Report; +Cc: dpdk-test-reports, Andrew Rybchenko, Ferruh Yigit
_Testing PASS_
Branch: dpdk-next-net
eb6e71e757155f219721086599a294cbd3b51ea9 --> testing pass
Test environment and result as below:
+---------------------+--------------------+------------------+----------------------+-------------------+
| Environment | dpdk_meson_compile | dpdk_compile_ovs | dpdk_mingw64_compile | dpdk_msvc_compile |
+=====================+====================+==================+======================+===================+
| Windows Server 2019 | PASS | SKIPPED | PASS | SKIPPED |
+---------------------+--------------------+------------------+----------------------+-------------------+
| Windows Server 2022 | PASS | SKIPPED | PASS | PASS |
+---------------------+--------------------+------------------+----------------------+-------------------+
| CentOS Stream 8 | PASS | PASS | SKIPPED | SKIPPED |
+---------------------+--------------------+------------------+----------------------+-------------------+
| FreeBSD 13.3 | PASS | SKIPPED | SKIPPED | SKIPPED |
+---------------------+--------------------+------------------+----------------------+-------------------+
| CentOS Stream 9 | PASS | PASS | SKIPPED | SKIPPED |
+---------------------+--------------------+------------------+----------------------+-------------------+
| FreeBSD 14.0 | PASS | SKIPPED | SKIPPED | SKIPPED |
+---------------------+--------------------+------------------+----------------------+-------------------+
| Debian Bullseye | PASS | PASS | SKIPPED | SKIPPED |
+---------------------+--------------------+------------------+----------------------+-------------------+
| Fedora 37 | PASS | PASS | SKIPPED | SKIPPED |
+---------------------+--------------------+------------------+----------------------+-------------------+
| Fedora 38 | PASS | PASS | SKIPPED | SKIPPED |
+---------------------+--------------------+------------------+----------------------+-------------------+
| openSUSE Leap 15 | PASS | PASS | SKIPPED | SKIPPED |
+---------------------+--------------------+------------------+----------------------+-------------------+
| Fedora 39 | PASS | PASS | SKIPPED | SKIPPED |
+---------------------+--------------------+------------------+----------------------+-------------------+
Windows Server 2019
Kernel: 10.0.17763
Compiler: clang 14.0 and gcc 8.1.0 (MinGW)
Windows Server 2022
Kernel: 10.0.20348.2031
Compiler: clang 15.0.7, gcc 8.1.0 (MinGW), and MSVC VS 17.9
CentOS Stream 8
Kernel: 5.4.0-167-generic
Compiler: gcc 8.5.0 20210514
FreeBSD 13.3
Kernel: 13.3-RELEASE-p1
Compiler: clang 17.0.6
CentOS Stream 9
Kernel: 5.4.0-167-generic
Compiler: gcc 11.4.1 20230605
FreeBSD 14.0
Kernel: 14.0
Compiler: clang 16.0.6
Debian Bullseye
Kernel: 5.4.0-167-generic
Compiler: gcc 10.2.1-6
Fedora 37
Kernel: Depends on container host system
Compiler: gcc 12.3.1
Fedora 38
Kernel: Depends on container host
Compiler: clang 16.0.6
openSUSE Leap 15
Kernel: 5.4.0-167-generic
Compiler: gcc 7.5.0
Fedora 39
Kernel: Depends on container host
Compiler: gcc 13.2.1
To view detailed results, visit:
https://lab.dpdk.org/results/dashboard/tarballs/29152/
UNH-IOL DPDK Community Lab
To manage your email subscriptions, visit:
https://lab.dpdk.org/results/dashboard/preferences/subscriptions/
^ permalink raw reply [flat|nested] 73+ messages in thread
* |SUCCESS| [GIT MASTER] eb6e71e757155f219721086599a294cbd3b51ea9
@ 2024-05-21 7:07 dpdklab
0 siblings, 0 replies; 73+ messages in thread
From: dpdklab @ 2024-05-21 7:07 UTC (permalink / raw)
To: Test Report; +Cc: dpdk-test-reports, Andrew Rybchenko, Ferruh Yigit
_Functional Testing PASS_
Branch: dpdk-next-net
eb6e71e757155f219721086599a294cbd3b51ea9 --> functional testing pass
Test environment and result as below:
Ubuntu 20.04
Kernel: 5.4.0-122-generic
Compiler: gcc 9.4.0
NIC: Intel Corporation Ethernet Converged Network Adapter XL710-QDA2 40000 Mbps
Target: x86_64-native-linuxapp-gcc
Fail/Total: 0/4
Ubuntu 20.04
Kernel: 5.4.0-122-generic
Compiler: gcc 9.4.0
NIC: Intel Corporation Ethernet Converged Network Adapter 82599ES 10000 Mbps
Target: x86_64-native-linuxapp-gcc
Fail/Total: 0/4
Ubuntu 20.04 ARM
Kernel: 5.15.0-97-generic
Compiler: gcc 11.4.0
NIC: Arm Intel Corporation Ethernet Converged Network Adapter XL710-QDA2 40000 Mbps
Target: x86_64-native-linuxapp-gcc
Fail/Total: 0/2
To view detailed results, visit:
https://lab.dpdk.org/results/dashboard/tarballs/29152/
UNH-IOL DPDK Community Lab
To manage your email subscriptions, visit:
https://lab.dpdk.org/results/dashboard/preferences/subscriptions/
^ permalink raw reply [flat|nested] 73+ messages in thread
* |SUCCESS| [GIT MASTER] eb6e71e757155f219721086599a294cbd3b51ea9
@ 2024-05-21 7:07 dpdklab
0 siblings, 0 replies; 73+ messages in thread
From: dpdklab @ 2024-05-21 7:07 UTC (permalink / raw)
To: Test Report; +Cc: dpdk-test-reports, Andrew Rybchenko, Ferruh Yigit
_Testing PASS_
Branch: dpdk-next-net
eb6e71e757155f219721086599a294cbd3b51ea9 --> testing pass
Test environment and result as below:
+---------------------+--------------------+------------------+----------------------+-------------------+
| Environment | dpdk_meson_compile | dpdk_compile_ovs | dpdk_mingw64_compile | dpdk_msvc_compile |
+=====================+====================+==================+======================+===================+
| Windows Server 2019 | PASS | SKIPPED | PASS | SKIPPED |
+---------------------+--------------------+------------------+----------------------+-------------------+
| Windows Server 2022 | PASS | SKIPPED | PASS | PASS |
+---------------------+--------------------+------------------+----------------------+-------------------+
| CentOS Stream 8 | PASS | PASS | SKIPPED | SKIPPED |
+---------------------+--------------------+------------------+----------------------+-------------------+
| FreeBSD 13.3 | PASS | SKIPPED | SKIPPED | SKIPPED |
+---------------------+--------------------+------------------+----------------------+-------------------+
| CentOS Stream 9 | PASS | PASS | SKIPPED | SKIPPED |
+---------------------+--------------------+------------------+----------------------+-------------------+
| FreeBSD 14.0 | PASS | SKIPPED | SKIPPED | SKIPPED |
+---------------------+--------------------+------------------+----------------------+-------------------+
| Debian Bullseye | PASS | PASS | SKIPPED | SKIPPED |
+---------------------+--------------------+------------------+----------------------+-------------------+
| Fedora 37 | PASS | PASS | SKIPPED | SKIPPED |
+---------------------+--------------------+------------------+----------------------+-------------------+
| Fedora 38 | PASS | PASS | SKIPPED | SKIPPED |
+---------------------+--------------------+------------------+----------------------+-------------------+
| openSUSE Leap 15 | PASS | PASS | SKIPPED | SKIPPED |
+---------------------+--------------------+------------------+----------------------+-------------------+
| Fedora 39 | PASS | PASS | SKIPPED | SKIPPED |
+---------------------+--------------------+------------------+----------------------+-------------------+
Windows Server 2019
Kernel: 10.0.17763
Compiler: clang 14.0 and gcc 8.1.0 (MinGW)
Windows Server 2022
Kernel: 10.0.20348.2031
Compiler: clang 15.0.7, gcc 8.1.0 (MinGW), and MSVC VS 17.9
CentOS Stream 8
Kernel: 5.4.0-167-generic
Compiler: gcc 8.5.0 20210514
FreeBSD 13.3
Kernel: 13.3-RELEASE-p1
Compiler: clang 17.0.6
CentOS Stream 9
Kernel: 5.4.0-167-generic
Compiler: gcc 11.4.1 20230605
FreeBSD 14.0
Kernel: 14.0
Compiler: clang 16.0.6
Debian Bullseye
Kernel: 5.4.0-167-generic
Compiler: gcc 10.2.1-6
Fedora 37
Kernel: Depends on container host system
Compiler: gcc 12.3.1
Fedora 38
Kernel: Depends on container host
Compiler: clang 16.0.6
openSUSE Leap 15
Kernel: 5.4.0-167-generic
Compiler: gcc 7.5.0
Fedora 39
Kernel: Depends on container host
Compiler: gcc 13.2.1
To view detailed results, visit:
https://lab.dpdk.org/results/dashboard/tarballs/29152/
UNH-IOL DPDK Community Lab
To manage your email subscriptions, visit:
https://lab.dpdk.org/results/dashboard/preferences/subscriptions/
^ permalink raw reply [flat|nested] 73+ messages in thread
* |SUCCESS| [GIT MASTER] eb6e71e757155f219721086599a294cbd3b51ea9
@ 2024-05-21 7:07 dpdklab
0 siblings, 0 replies; 73+ messages in thread
From: dpdklab @ 2024-05-21 7:07 UTC (permalink / raw)
To: Test Report; +Cc: dpdk-test-reports, Andrew Rybchenko, Ferruh Yigit
_Testing PASS_
Branch: dpdk-next-net
eb6e71e757155f219721086599a294cbd3b51ea9 --> testing pass
Test environment and result as below:
+---------------------+----------------+
| Environment | dpdk_unit_test |
+=====================+================+
| CentOS Stream 8 | PASS |
+---------------------+----------------+
| Windows Server 2019 | PASS |
+---------------------+----------------+
| CentOS Stream 9 | PASS |
+---------------------+----------------+
| Debian Bullseye | PASS |
+---------------------+----------------+
| Fedora 37 | PASS |
+---------------------+----------------+
| Debian 12 | PASS |
+---------------------+----------------+
| openSUSE Leap 15 | PASS |
+---------------------+----------------+
| Fedora 39 | PASS |
+---------------------+----------------+
CentOS Stream 8
Kernel: 5.4.0-167-generic
Compiler: gcc 8.5.0 20210514
Windows Server 2019
Kernel: 10.0.17763
Compiler: clang 14.0 and gcc 8.1.0 (MinGW)
CentOS Stream 9
Kernel: 5.4.0-167-generic
Compiler: gcc 11.4.1 20230605
Debian Bullseye
Kernel: 5.4.0-167-generic
Compiler: gcc 10.2.1-6
Fedora 37
Kernel: Depends on container host system
Compiler: gcc 12.3.1
Debian 12
Kernel: Container Host Kernel
Compiler: gcc 10.2.1
openSUSE Leap 15
Kernel: 5.4.0-167-generic
Compiler: gcc 7.5.0
Fedora 39
Kernel: Depends on container host
Compiler: gcc 13.2.1
To view detailed results, visit:
https://lab.dpdk.org/results/dashboard/tarballs/29152/
UNH-IOL DPDK Community Lab
To manage your email subscriptions, visit:
https://lab.dpdk.org/results/dashboard/preferences/subscriptions/
^ permalink raw reply [flat|nested] 73+ messages in thread
* |SUCCESS| [GIT MASTER] eb6e71e757155f219721086599a294cbd3b51ea9
@ 2024-05-21 7:06 dpdklab
0 siblings, 0 replies; 73+ messages in thread
From: dpdklab @ 2024-05-21 7:06 UTC (permalink / raw)
To: Test Report; +Cc: dpdk-test-reports, Andrew Rybchenko, Ferruh Yigit
_Testing PASS_
Branch: dpdk-next-net
eb6e71e757155f219721086599a294cbd3b51ea9 --> testing pass
Test environment and result as below:
+----------------------------------------+--------------------+
| Environment | dpdk_meson_compile |
+========================================+====================+
| Ubuntu 20.04 ARM SVE | PASS |
+----------------------------------------+--------------------+
| Debian 12 with MUSDK | PASS |
+----------------------------------------+--------------------+
| Ubuntu 20.04 aarch32 GCC Cross Compile | PASS |
+----------------------------------------+--------------------+
| Fedora 37 (ARM) | PASS |
+----------------------------------------+--------------------+
Ubuntu 20.04 ARM SVE
Kernel: 5.4.0-167-generic
Compiler: gcc (Ubuntu 10.5.0-1ubuntu1~20.04) 10.5.0
Debian 12 with MUSDK
Kernel: Container Host Kernel
Compiler: gcc 12.2.0
Ubuntu 20.04 aarch32 GCC Cross Compile
Kernel: 5.4.0-167-generic
Compiler: gcc 9.4.0
Fedora 37 (ARM)
Kernel: Depends on container host
Compiler: gcc 12.3.1
To view detailed results, visit:
https://lab.dpdk.org/results/dashboard/tarballs/29152/
UNH-IOL DPDK Community Lab
To manage your email subscriptions, visit:
https://lab.dpdk.org/results/dashboard/preferences/subscriptions/
^ permalink raw reply [flat|nested] 73+ messages in thread
* |SUCCESS| [GIT MASTER] eb6e71e757155f219721086599a294cbd3b51ea9
@ 2024-05-21 7:06 dpdklab
0 siblings, 0 replies; 73+ messages in thread
From: dpdklab @ 2024-05-21 7:06 UTC (permalink / raw)
To: Test Report; +Cc: dpdk-test-reports, Andrew Rybchenko, Ferruh Yigit
_Testing PASS_
Branch: dpdk-next-net
eb6e71e757155f219721086599a294cbd3b51ea9 --> testing pass
Test environment and result as below:
+---------------------+----------------+
| Environment | dpdk_unit_test |
+=====================+================+
| CentOS Stream 8 | PASS |
+---------------------+----------------+
| Windows Server 2019 | PASS |
+---------------------+----------------+
| CentOS Stream 9 | PASS |
+---------------------+----------------+
| Debian Bullseye | PASS |
+---------------------+----------------+
| Fedora 37 | PASS |
+---------------------+----------------+
| Debian 12 | PASS |
+---------------------+----------------+
| openSUSE Leap 15 | PASS |
+---------------------+----------------+
| Fedora 39 | PASS |
+---------------------+----------------+
CentOS Stream 8
Kernel: 5.4.0-167-generic
Compiler: gcc 8.5.0 20210514
Windows Server 2019
Kernel: 10.0.17763
Compiler: clang 14.0 and gcc 8.1.0 (MinGW)
CentOS Stream 9
Kernel: 5.4.0-167-generic
Compiler: gcc 11.4.1 20230605
Debian Bullseye
Kernel: 5.4.0-167-generic
Compiler: gcc 10.2.1-6
Fedora 37
Kernel: Depends on container host system
Compiler: gcc 12.3.1
Debian 12
Kernel: Container Host Kernel
Compiler: gcc 10.2.1
openSUSE Leap 15
Kernel: 5.4.0-167-generic
Compiler: gcc 7.5.0
Fedora 39
Kernel: Depends on container host
Compiler: gcc 13.2.1
To view detailed results, visit:
https://lab.dpdk.org/results/dashboard/tarballs/29152/
UNH-IOL DPDK Community Lab
To manage your email subscriptions, visit:
https://lab.dpdk.org/results/dashboard/preferences/subscriptions/
^ permalink raw reply [flat|nested] 73+ messages in thread
* |SUCCESS| [GIT MASTER] eb6e71e757155f219721086599a294cbd3b51ea9
@ 2024-05-21 7:06 dpdklab
0 siblings, 0 replies; 73+ messages in thread
From: dpdklab @ 2024-05-21 7:06 UTC (permalink / raw)
To: Test Report; +Cc: dpdk-test-reports, Andrew Rybchenko, Ferruh Yigit
_Performance Testing PASS_
Branch: dpdk-next-net
eb6e71e757155f219721086599a294cbd3b51ea9 --> performance testing pass
Test environment and result as below:
Ubuntu 20.04
Kernel: 5.4.0-122-generic
Compiler: gcc 9.4.0
NIC: Intel Corporation Ethernet Converged Network Adapter XL710-QDA2 40000 Mbps
Target: x86_64-native-linuxapp-gcc
Fail/Total: 0/4
Detail performance results:
+----------+-------------+---------+------------+------------------------------+
| num_cpus | num_threads | txd/rxd | frame_size | throughput difference from |
| | | | | expected |
+==========+=============+=========+============+==============================+
| 1 | 2 | 512 | 64 | 0.3% |
+----------+-------------+---------+------------+------------------------------+
| 1 | 2 | 2048 | 64 | -2.3% |
+----------+-------------+---------+------------+------------------------------+
| 1 | 1 | 512 | 64 | -2.4% |
+----------+-------------+---------+------------+------------------------------+
| 1 | 1 | 2048 | 64 | 4.1% |
+----------+-------------+---------+------------+------------------------------+
Ubuntu 20.04 ARM
Kernel: 5.15.0-97-generic
Compiler: gcc 11.4.0
NIC: Arm Intel Corporation Ethernet Converged Network Adapter XL710-QDA2 40000 Mbps
Target: x86_64-native-linuxapp-gcc
Fail/Total: 0/2
Detail performance results:
+------------+---------+----------+-------------+------------------------------+
| frame_size | txd/rxd | num_cpus | num_threads | throughput difference from |
| | | | | expected |
+============+=========+==========+=============+==============================+
| 64 | 512 | 1 | 1 | -0.4% |
+------------+---------+----------+-------------+------------------------------+
| 64 | 2048 | 1 | 1 | -0.4% |
+------------+---------+----------+-------------+------------------------------+
Ubuntu 20.04
Kernel: 5.4.0-122-generic
Compiler: gcc 9.4.0
NIC: Intel Corporation Ethernet Converged Network Adapter 82599ES 10000 Mbps
Target: x86_64-native-linuxapp-gcc
Fail/Total: 0/6
Detail performance results:
+----------+-------------+---------+------------+------------------------------+
| num_cpus | num_threads | txd/rxd | frame_size | throughput difference from |
| | | | | expected |
+==========+=============+=========+============+==============================+
| 1 | 2 | 128 | 64 | 0.6% |
+----------+-------------+---------+------------+------------------------------+
| 1 | 2 | 512 | 64 | -0.1% |
+----------+-------------+---------+------------+------------------------------+
| 1 | 2 | 2048 | 64 | 0.2% |
+----------+-------------+---------+------------+------------------------------+
| 1 | 1 | 128 | 64 | 0.5% |
+----------+-------------+---------+------------+------------------------------+
| 1 | 1 | 512 | 64 | -0.2% |
+----------+-------------+---------+------------+------------------------------+
| 1 | 1 | 2048 | 64 | 0.3% |
+----------+-------------+---------+------------+------------------------------+
To view detailed results, visit:
https://lab.dpdk.org/results/dashboard/tarballs/29152/
UNH-IOL DPDK Community Lab
To manage your email subscriptions, visit:
https://lab.dpdk.org/results/dashboard/preferences/subscriptions/
^ permalink raw reply [flat|nested] 73+ messages in thread
* |SUCCESS| [GIT MASTER] eb6e71e757155f219721086599a294cbd3b51ea9
@ 2024-05-21 7:04 dpdklab
0 siblings, 0 replies; 73+ messages in thread
From: dpdklab @ 2024-05-21 7:04 UTC (permalink / raw)
To: Test Report; +Cc: dpdk-test-reports, Andrew Rybchenko, Ferruh Yigit
_Testing PASS_
Branch: dpdk-next-net
eb6e71e757155f219721086599a294cbd3b51ea9 --> testing pass
Test environment and result as below:
+---------------------+--------------------+------------------+----------------------+-------------------+
| Environment | dpdk_meson_compile | dpdk_compile_ovs | dpdk_mingw64_compile | dpdk_msvc_compile |
+=====================+====================+==================+======================+===================+
| Windows Server 2019 | PASS | SKIPPED | PASS | SKIPPED |
+---------------------+--------------------+------------------+----------------------+-------------------+
| Windows Server 2022 | PASS | SKIPPED | PASS | PASS |
+---------------------+--------------------+------------------+----------------------+-------------------+
| CentOS Stream 8 | PASS | PASS | SKIPPED | SKIPPED |
+---------------------+--------------------+------------------+----------------------+-------------------+
| FreeBSD 13.3 | PASS | SKIPPED | SKIPPED | SKIPPED |
+---------------------+--------------------+------------------+----------------------+-------------------+
| CentOS Stream 9 | PASS | PASS | SKIPPED | SKIPPED |
+---------------------+--------------------+------------------+----------------------+-------------------+
| FreeBSD 14.0 | PASS | SKIPPED | SKIPPED | SKIPPED |
+---------------------+--------------------+------------------+----------------------+-------------------+
| Debian Bullseye | PASS | PASS | SKIPPED | SKIPPED |
+---------------------+--------------------+------------------+----------------------+-------------------+
| Fedora 37 | PASS | PASS | SKIPPED | SKIPPED |
+---------------------+--------------------+------------------+----------------------+-------------------+
| Fedora 38 | PASS | PASS | SKIPPED | SKIPPED |
+---------------------+--------------------+------------------+----------------------+-------------------+
| openSUSE Leap 15 | PASS | PASS | SKIPPED | SKIPPED |
+---------------------+--------------------+------------------+----------------------+-------------------+
Windows Server 2019
Kernel: 10.0.17763
Compiler: clang 14.0 and gcc 8.1.0 (MinGW)
Windows Server 2022
Kernel: 10.0.20348.2031
Compiler: clang 15.0.7, gcc 8.1.0 (MinGW), and MSVC VS 17.9
CentOS Stream 8
Kernel: 5.4.0-167-generic
Compiler: gcc 8.5.0 20210514
FreeBSD 13.3
Kernel: 13.3-RELEASE-p1
Compiler: clang 17.0.6
CentOS Stream 9
Kernel: 5.4.0-167-generic
Compiler: gcc 11.4.1 20230605
FreeBSD 14.0
Kernel: 14.0
Compiler: clang 16.0.6
Debian Bullseye
Kernel: 5.4.0-167-generic
Compiler: gcc 10.2.1-6
Fedora 37
Kernel: Depends on container host system
Compiler: gcc 12.3.1
Fedora 38
Kernel: Depends on container host
Compiler: clang 16.0.6
openSUSE Leap 15
Kernel: 5.4.0-167-generic
Compiler: gcc 7.5.0
To view detailed results, visit:
https://lab.dpdk.org/results/dashboard/tarballs/29152/
UNH-IOL DPDK Community Lab
To manage your email subscriptions, visit:
https://lab.dpdk.org/results/dashboard/preferences/subscriptions/
^ permalink raw reply [flat|nested] 73+ messages in thread
* |SUCCESS| [GIT MASTER] eb6e71e757155f219721086599a294cbd3b51ea9
@ 2024-05-21 7:04 dpdklab
0 siblings, 0 replies; 73+ messages in thread
From: dpdklab @ 2024-05-21 7:04 UTC (permalink / raw)
To: Test Report; +Cc: dpdk-test-reports, Andrew Rybchenko, Ferruh Yigit
_Testing PASS_
Branch: dpdk-next-net
eb6e71e757155f219721086599a294cbd3b51ea9 --> testing pass
Test environment and result as below:
+---------------------+----------------+
| Environment | dpdk_unit_test |
+=====================+================+
| CentOS Stream 8 | PASS |
+---------------------+----------------+
| Windows Server 2019 | PASS |
+---------------------+----------------+
| CentOS Stream 9 | PASS |
+---------------------+----------------+
| Debian Bullseye | PASS |
+---------------------+----------------+
| Fedora 37 | PASS |
+---------------------+----------------+
| Debian 12 | PASS |
+---------------------+----------------+
| openSUSE Leap 15 | PASS |
+---------------------+----------------+
| Fedora 39 | PASS |
+---------------------+----------------+
CentOS Stream 8
Kernel: 5.4.0-167-generic
Compiler: gcc 8.5.0 20210514
Windows Server 2019
Kernel: 10.0.17763
Compiler: clang 14.0 and gcc 8.1.0 (MinGW)
CentOS Stream 9
Kernel: 5.4.0-167-generic
Compiler: gcc 11.4.1 20230605
Debian Bullseye
Kernel: 5.4.0-167-generic
Compiler: gcc 10.2.1-6
Fedora 37
Kernel: Depends on container host system
Compiler: gcc 12.3.1
Debian 12
Kernel: Container Host Kernel
Compiler: gcc 10.2.1
openSUSE Leap 15
Kernel: 5.4.0-167-generic
Compiler: gcc 7.5.0
Fedora 39
Kernel: Depends on container host
Compiler: gcc 13.2.1
To view detailed results, visit:
https://lab.dpdk.org/results/dashboard/tarballs/29152/
UNH-IOL DPDK Community Lab
To manage your email subscriptions, visit:
https://lab.dpdk.org/results/dashboard/preferences/subscriptions/
^ permalink raw reply [flat|nested] 73+ messages in thread
* |SUCCESS| [GIT MASTER] eb6e71e757155f219721086599a294cbd3b51ea9
@ 2024-05-21 7:03 dpdklab
0 siblings, 0 replies; 73+ messages in thread
From: dpdklab @ 2024-05-21 7:03 UTC (permalink / raw)
To: Test Report; +Cc: dpdk-test-reports, Andrew Rybchenko, Ferruh Yigit
_Testing PASS_
Branch: dpdk-next-net
eb6e71e757155f219721086599a294cbd3b51ea9 --> testing pass
Test environment and result as below:
+-----------------------------+--------------+------------------------------+----------------+
| Environment | lpm_autotest | cryptodev_sw_snow3g_autotest | dpdk_unit_test |
+=============================+==============+==============================+================+
| Ubuntu 20.04 ARM SVE | PASS | SKIPPED | SKIPPED |
+-----------------------------+--------------+------------------------------+----------------+
| Debian 12 (arm) | SKIPPED | PASS | SKIPPED |
+-----------------------------+--------------+------------------------------+----------------+
| Debian 11 (Buster) (ARM) | SKIPPED | SKIPPED | PASS |
+-----------------------------+--------------+------------------------------+----------------+
| 32-bit Ubuntu 20.04.4 (ARM) | SKIPPED | SKIPPED | PASS |
+-----------------------------+--------------+------------------------------+----------------+
Ubuntu 20.04 ARM SVE
Kernel: 5.4.0-167-generic
Compiler: gcc (Ubuntu 10.5.0-1ubuntu1~20.04) 10.5.0
Debian 12 (arm)
Kernel: Container Host Kernel
Compiler: gcc 12.2.0
Debian 11 (Buster) (ARM)
Kernel: Container Host Kernel
Compiler: gcc 10.2.1
32-bit Ubuntu 20.04.4 (ARM)
Kernel: 5.4.0-155-generic aarch64
Compiler: gcc 9.4
To view detailed results, visit:
https://lab.dpdk.org/results/dashboard/tarballs/29152/
UNH-IOL DPDK Community Lab
To manage your email subscriptions, visit:
https://lab.dpdk.org/results/dashboard/preferences/subscriptions/
^ permalink raw reply [flat|nested] 73+ messages in thread
* |SUCCESS| [GIT MASTER] eb6e71e757155f219721086599a294cbd3b51ea9
@ 2024-05-21 7:02 dpdklab
0 siblings, 0 replies; 73+ messages in thread
From: dpdklab @ 2024-05-21 7:02 UTC (permalink / raw)
To: Test Report; +Cc: dpdk-test-reports, Andrew Rybchenko, Ferruh Yigit
_Testing PASS_
Branch: dpdk-next-net
eb6e71e757155f219721086599a294cbd3b51ea9 --> testing pass
Test environment and result as below:
+---------------------+--------------------+------------------+----------------------+-------------------+
| Environment | dpdk_meson_compile | dpdk_compile_ovs | dpdk_mingw64_compile | dpdk_msvc_compile |
+=====================+====================+==================+======================+===================+
| Windows Server 2019 | PASS | SKIPPED | PASS | SKIPPED |
+---------------------+--------------------+------------------+----------------------+-------------------+
| Windows Server 2022 | PASS | SKIPPED | PASS | PASS |
+---------------------+--------------------+------------------+----------------------+-------------------+
| CentOS Stream 8 | PASS | PASS | SKIPPED | SKIPPED |
+---------------------+--------------------+------------------+----------------------+-------------------+
| FreeBSD 13.3 | PASS | SKIPPED | SKIPPED | SKIPPED |
+---------------------+--------------------+------------------+----------------------+-------------------+
| CentOS Stream 9 | PASS | PASS | SKIPPED | SKIPPED |
+---------------------+--------------------+------------------+----------------------+-------------------+
| FreeBSD 14.0 | PASS | SKIPPED | SKIPPED | SKIPPED |
+---------------------+--------------------+------------------+----------------------+-------------------+
| Debian Bullseye | PASS | PASS | SKIPPED | SKIPPED |
+---------------------+--------------------+------------------+----------------------+-------------------+
| Fedora 37 | PASS | PASS | SKIPPED | SKIPPED |
+---------------------+--------------------+------------------+----------------------+-------------------+
| Fedora 38 | PASS | PASS | SKIPPED | SKIPPED |
+---------------------+--------------------+------------------+----------------------+-------------------+
Windows Server 2019
Kernel: 10.0.17763
Compiler: clang 14.0 and gcc 8.1.0 (MinGW)
Windows Server 2022
Kernel: 10.0.20348.2031
Compiler: clang 15.0.7, gcc 8.1.0 (MinGW), and MSVC VS 17.9
CentOS Stream 8
Kernel: 5.4.0-167-generic
Compiler: gcc 8.5.0 20210514
FreeBSD 13.3
Kernel: 13.3-RELEASE-p1
Compiler: clang 17.0.6
CentOS Stream 9
Kernel: 5.4.0-167-generic
Compiler: gcc 11.4.1 20230605
FreeBSD 14.0
Kernel: 14.0
Compiler: clang 16.0.6
Debian Bullseye
Kernel: 5.4.0-167-generic
Compiler: gcc 10.2.1-6
Fedora 37
Kernel: Depends on container host system
Compiler: gcc 12.3.1
Fedora 38
Kernel: Depends on container host
Compiler: clang 16.0.6
To view detailed results, visit:
https://lab.dpdk.org/results/dashboard/tarballs/29152/
UNH-IOL DPDK Community Lab
To manage your email subscriptions, visit:
https://lab.dpdk.org/results/dashboard/preferences/subscriptions/
^ permalink raw reply [flat|nested] 73+ messages in thread
* |SUCCESS| [GIT MASTER] eb6e71e757155f219721086599a294cbd3b51ea9
@ 2024-05-21 7:01 dpdklab
0 siblings, 0 replies; 73+ messages in thread
From: dpdklab @ 2024-05-21 7:01 UTC (permalink / raw)
To: Test Report; +Cc: dpdk-test-reports, Andrew Rybchenko, Ferruh Yigit
_Performance Testing PASS_
Branch: dpdk-next-net
eb6e71e757155f219721086599a294cbd3b51ea9 --> performance testing pass
Test environment and result as below:
Ubuntu 20.04
Kernel: 5.4.0-122-generic
Compiler: gcc 9.4.0
NIC: Intel Corporation Ethernet Converged Network Adapter XL710-QDA2 40000 Mbps
Target: x86_64-native-linuxapp-gcc
Fail/Total: 0/4
Detail performance results:
+----------+-------------+---------+------------+------------------------------+
| num_cpus | num_threads | txd/rxd | frame_size | throughput difference from |
| | | | | expected |
+==========+=============+=========+============+==============================+
| 1 | 2 | 512 | 64 | 0.3% |
+----------+-------------+---------+------------+------------------------------+
| 1 | 2 | 2048 | 64 | -2.3% |
+----------+-------------+---------+------------+------------------------------+
| 1 | 1 | 512 | 64 | -2.4% |
+----------+-------------+---------+------------+------------------------------+
| 1 | 1 | 2048 | 64 | 4.1% |
+----------+-------------+---------+------------+------------------------------+
Ubuntu 20.04 ARM
Kernel: 5.15.0-97-generic
Compiler: gcc 11.4.0
NIC: Arm Intel Corporation Ethernet Converged Network Adapter XL710-QDA2 40000 Mbps
Target: x86_64-native-linuxapp-gcc
Fail/Total: 0/2
Detail performance results:
+------------+---------+----------+-------------+------------------------------+
| frame_size | txd/rxd | num_cpus | num_threads | throughput difference from |
| | | | | expected |
+============+=========+==========+=============+==============================+
| 64 | 512 | 1 | 1 | -0.4% |
+------------+---------+----------+-------------+------------------------------+
| 64 | 2048 | 1 | 1 | -0.4% |
+------------+---------+----------+-------------+------------------------------+
Ubuntu 20.04
Kernel: 5.4.0-122-generic
Compiler: gcc 9.4.0
NIC: Intel Corporation Ethernet Converged Network Adapter 82599ES 10000 Mbps
Target: x86_64-native-linuxapp-gcc
Fail/Total: 0/6
Detail performance results:
+----------+-------------+---------+------------+------------------------------+
| num_cpus | num_threads | txd/rxd | frame_size | throughput difference from |
| | | | | expected |
+==========+=============+=========+============+==============================+
| 1 | 2 | 128 | 64 | 0.6% |
+----------+-------------+---------+------------+------------------------------+
| 1 | 2 | 512 | 64 | -0.1% |
+----------+-------------+---------+------------+------------------------------+
| 1 | 2 | 2048 | 64 | 0.2% |
+----------+-------------+---------+------------+------------------------------+
| 1 | 1 | 128 | 64 | 0.5% |
+----------+-------------+---------+------------+------------------------------+
| 1 | 1 | 512 | 64 | -0.2% |
+----------+-------------+---------+------------+------------------------------+
| 1 | 1 | 2048 | 64 | 0.3% |
+----------+-------------+---------+------------+------------------------------+
To view detailed results, visit:
https://lab.dpdk.org/results/dashboard/tarballs/29152/
UNH-IOL DPDK Community Lab
To manage your email subscriptions, visit:
https://lab.dpdk.org/results/dashboard/preferences/subscriptions/
^ permalink raw reply [flat|nested] 73+ messages in thread
* |SUCCESS| [GIT MASTER] eb6e71e757155f219721086599a294cbd3b51ea9
@ 2024-05-21 7:01 dpdklab
0 siblings, 0 replies; 73+ messages in thread
From: dpdklab @ 2024-05-21 7:01 UTC (permalink / raw)
To: Test Report; +Cc: dpdk-test-reports, Andrew Rybchenko, Ferruh Yigit
_Performance Testing PASS_
Branch: dpdk-next-net
eb6e71e757155f219721086599a294cbd3b51ea9 --> performance testing pass
Test environment and result as below:
Ubuntu 20.04
Kernel: 5.4.0-122-generic
Compiler: gcc 9.4.0
NIC: Intel Corporation Ethernet Converged Network Adapter XL710-QDA2 40000 Mbps
Target: x86_64-native-linuxapp-gcc
Fail/Total: 0/4
Detail performance results:
+----------+-------------+---------+------------+------------------------------+
| num_cpus | num_threads | txd/rxd | frame_size | throughput difference from |
| | | | | expected |
+==========+=============+=========+============+==============================+
| 1 | 2 | 512 | 64 | 0.3% |
+----------+-------------+---------+------------+------------------------------+
| 1 | 2 | 2048 | 64 | -2.3% |
+----------+-------------+---------+------------+------------------------------+
| 1 | 1 | 512 | 64 | -2.4% |
+----------+-------------+---------+------------+------------------------------+
| 1 | 1 | 2048 | 64 | 4.1% |
+----------+-------------+---------+------------+------------------------------+
Ubuntu 20.04 ARM
Kernel: 5.15.0-97-generic
Compiler: gcc 11.4.0
NIC: Arm Intel Corporation Ethernet Converged Network Adapter XL710-QDA2 40000 Mbps
Target: x86_64-native-linuxapp-gcc
Fail/Total: 0/2
Detail performance results:
+------------+---------+----------+-------------+------------------------------+
| frame_size | txd/rxd | num_cpus | num_threads | throughput difference from |
| | | | | expected |
+============+=========+==========+=============+==============================+
| 64 | 512 | 1 | 1 | -0.4% |
+------------+---------+----------+-------------+------------------------------+
| 64 | 2048 | 1 | 1 | -0.4% |
+------------+---------+----------+-------------+------------------------------+
Ubuntu 20.04
Kernel: 5.4.0-122-generic
Compiler: gcc 9.4.0
NIC: Intel Corporation Ethernet Converged Network Adapter 82599ES 10000 Mbps
Target: x86_64-native-linuxapp-gcc
Fail/Total: 0/6
Detail performance results:
+----------+-------------+---------+------------+------------------------------+
| num_cpus | num_threads | txd/rxd | frame_size | throughput difference from |
| | | | | expected |
+==========+=============+=========+============+==============================+
| 1 | 2 | 128 | 64 | 0.6% |
+----------+-------------+---------+------------+------------------------------+
| 1 | 2 | 512 | 64 | -0.1% |
+----------+-------------+---------+------------+------------------------------+
| 1 | 2 | 2048 | 64 | 0.2% |
+----------+-------------+---------+------------+------------------------------+
| 1 | 1 | 128 | 64 | 0.5% |
+----------+-------------+---------+------------+------------------------------+
| 1 | 1 | 512 | 64 | -0.2% |
+----------+-------------+---------+------------+------------------------------+
| 1 | 1 | 2048 | 64 | 0.3% |
+----------+-------------+---------+------------+------------------------------+
To view detailed results, visit:
https://lab.dpdk.org/results/dashboard/tarballs/29152/
UNH-IOL DPDK Community Lab
To manage your email subscriptions, visit:
https://lab.dpdk.org/results/dashboard/preferences/subscriptions/
^ permalink raw reply [flat|nested] 73+ messages in thread
* |SUCCESS| [GIT MASTER] eb6e71e757155f219721086599a294cbd3b51ea9
@ 2024-05-21 7:01 dpdklab
0 siblings, 0 replies; 73+ messages in thread
From: dpdklab @ 2024-05-21 7:01 UTC (permalink / raw)
To: Test Report; +Cc: dpdk-test-reports, Andrew Rybchenko, Ferruh Yigit
_Testing PASS_
Branch: dpdk-next-net
eb6e71e757155f219721086599a294cbd3b51ea9 --> testing pass
Test environment and result as below:
+---------------------+--------------------+------------------+----------------------+-------------------+
| Environment | dpdk_meson_compile | dpdk_compile_ovs | dpdk_mingw64_compile | dpdk_msvc_compile |
+=====================+====================+==================+======================+===================+
| Windows Server 2019 | PASS | SKIPPED | PASS | SKIPPED |
+---------------------+--------------------+------------------+----------------------+-------------------+
| Windows Server 2022 | PASS | SKIPPED | PASS | PASS |
+---------------------+--------------------+------------------+----------------------+-------------------+
| CentOS Stream 8 | PASS | PASS | SKIPPED | SKIPPED |
+---------------------+--------------------+------------------+----------------------+-------------------+
| FreeBSD 13.3 | PASS | SKIPPED | SKIPPED | SKIPPED |
+---------------------+--------------------+------------------+----------------------+-------------------+
| CentOS Stream 9 | PASS | PASS | SKIPPED | SKIPPED |
+---------------------+--------------------+------------------+----------------------+-------------------+
| FreeBSD 14.0 | PASS | SKIPPED | SKIPPED | SKIPPED |
+---------------------+--------------------+------------------+----------------------+-------------------+
| Debian Bullseye | PASS | PASS | SKIPPED | SKIPPED |
+---------------------+--------------------+------------------+----------------------+-------------------+
| Fedora 37 | PASS | PASS | SKIPPED | SKIPPED |
+---------------------+--------------------+------------------+----------------------+-------------------+
| Fedora 38 | PASS | PASS | SKIPPED | SKIPPED |
+---------------------+--------------------+------------------+----------------------+-------------------+
Windows Server 2019
Kernel: 10.0.17763
Compiler: clang 14.0 and gcc 8.1.0 (MinGW)
Windows Server 2022
Kernel: 10.0.20348.2031
Compiler: clang 15.0.7, gcc 8.1.0 (MinGW), and MSVC VS 17.9
CentOS Stream 8
Kernel: 5.4.0-167-generic
Compiler: gcc 8.5.0 20210514
FreeBSD 13.3
Kernel: 13.3-RELEASE-p1
Compiler: clang 17.0.6
CentOS Stream 9
Kernel: 5.4.0-167-generic
Compiler: gcc 11.4.1 20230605
FreeBSD 14.0
Kernel: 14.0
Compiler: clang 16.0.6
Debian Bullseye
Kernel: 5.4.0-167-generic
Compiler: gcc 10.2.1-6
Fedora 37
Kernel: Depends on container host system
Compiler: gcc 12.3.1
Fedora 38
Kernel: Depends on container host
Compiler: clang 16.0.6
To view detailed results, visit:
https://lab.dpdk.org/results/dashboard/tarballs/29152/
UNH-IOL DPDK Community Lab
To manage your email subscriptions, visit:
https://lab.dpdk.org/results/dashboard/preferences/subscriptions/
^ permalink raw reply [flat|nested] 73+ messages in thread
* |SUCCESS| [GIT MASTER] eb6e71e757155f219721086599a294cbd3b51ea9
@ 2024-05-21 7:00 dpdklab
0 siblings, 0 replies; 73+ messages in thread
From: dpdklab @ 2024-05-21 7:00 UTC (permalink / raw)
To: Test Report; +Cc: dpdk-test-reports, Andrew Rybchenko, Ferruh Yigit
_Testing PASS_
Branch: dpdk-next-net
eb6e71e757155f219721086599a294cbd3b51ea9 --> testing pass
Test environment and result as below:
+---------------------+--------------------+------------------+----------------------+-------------------+
| Environment | dpdk_meson_compile | dpdk_compile_ovs | dpdk_mingw64_compile | dpdk_msvc_compile |
+=====================+====================+==================+======================+===================+
| Windows Server 2019 | PASS | SKIPPED | PASS | SKIPPED |
+---------------------+--------------------+------------------+----------------------+-------------------+
| Windows Server 2022 | PASS | SKIPPED | PASS | PASS |
+---------------------+--------------------+------------------+----------------------+-------------------+
| CentOS Stream 8 | PASS | PASS | SKIPPED | SKIPPED |
+---------------------+--------------------+------------------+----------------------+-------------------+
| FreeBSD 13.3 | PASS | SKIPPED | SKIPPED | SKIPPED |
+---------------------+--------------------+------------------+----------------------+-------------------+
| CentOS Stream 9 | PASS | PASS | SKIPPED | SKIPPED |
+---------------------+--------------------+------------------+----------------------+-------------------+
| FreeBSD 14.0 | PASS | SKIPPED | SKIPPED | SKIPPED |
+---------------------+--------------------+------------------+----------------------+-------------------+
| Debian Bullseye | PASS | PASS | SKIPPED | SKIPPED |
+---------------------+--------------------+------------------+----------------------+-------------------+
| Fedora 37 | PASS | PASS | SKIPPED | SKIPPED |
+---------------------+--------------------+------------------+----------------------+-------------------+
| Fedora 38 | PASS | PASS | SKIPPED | SKIPPED |
+---------------------+--------------------+------------------+----------------------+-------------------+
Windows Server 2019
Kernel: 10.0.17763
Compiler: clang 14.0 and gcc 8.1.0 (MinGW)
Windows Server 2022
Kernel: 10.0.20348.2031
Compiler: clang 15.0.7, gcc 8.1.0 (MinGW), and MSVC VS 17.9
CentOS Stream 8
Kernel: 5.4.0-167-generic
Compiler: gcc 8.5.0 20210514
FreeBSD 13.3
Kernel: 13.3-RELEASE-p1
Compiler: clang 17.0.6
CentOS Stream 9
Kernel: 5.4.0-167-generic
Compiler: gcc 11.4.1 20230605
FreeBSD 14.0
Kernel: 14.0
Compiler: clang 16.0.6
Debian Bullseye
Kernel: 5.4.0-167-generic
Compiler: gcc 10.2.1-6
Fedora 37
Kernel: Depends on container host system
Compiler: gcc 12.3.1
Fedora 38
Kernel: Depends on container host
Compiler: clang 16.0.6
To view detailed results, visit:
https://lab.dpdk.org/results/dashboard/tarballs/29152/
UNH-IOL DPDK Community Lab
To manage your email subscriptions, visit:
https://lab.dpdk.org/results/dashboard/preferences/subscriptions/
^ permalink raw reply [flat|nested] 73+ messages in thread
* |SUCCESS| [GIT MASTER] eb6e71e757155f219721086599a294cbd3b51ea9
@ 2024-05-21 7:00 dpdklab
0 siblings, 0 replies; 73+ messages in thread
From: dpdklab @ 2024-05-21 7:00 UTC (permalink / raw)
To: Test Report; +Cc: dpdk-test-reports, Andrew Rybchenko, Ferruh Yigit
_Testing PASS_
Branch: dpdk-next-net
eb6e71e757155f219721086599a294cbd3b51ea9 --> testing pass
Test environment and result as below:
+---------------------+----------------+
| Environment | dpdk_unit_test |
+=====================+================+
| CentOS Stream 8 | PASS |
+---------------------+----------------+
| Windows Server 2019 | PASS |
+---------------------+----------------+
| CentOS Stream 9 | PASS |
+---------------------+----------------+
| Debian Bullseye | PASS |
+---------------------+----------------+
| Fedora 37 | PASS |
+---------------------+----------------+
| Debian 12 | PASS |
+---------------------+----------------+
CentOS Stream 8
Kernel: 5.4.0-167-generic
Compiler: gcc 8.5.0 20210514
Windows Server 2019
Kernel: 10.0.17763
Compiler: clang 14.0 and gcc 8.1.0 (MinGW)
CentOS Stream 9
Kernel: 5.4.0-167-generic
Compiler: gcc 11.4.1 20230605
Debian Bullseye
Kernel: 5.4.0-167-generic
Compiler: gcc 10.2.1-6
Fedora 37
Kernel: Depends on container host system
Compiler: gcc 12.3.1
Debian 12
Kernel: Container Host Kernel
Compiler: gcc 10.2.1
To view detailed results, visit:
https://lab.dpdk.org/results/dashboard/tarballs/29152/
UNH-IOL DPDK Community Lab
To manage your email subscriptions, visit:
https://lab.dpdk.org/results/dashboard/preferences/subscriptions/
^ permalink raw reply [flat|nested] 73+ messages in thread
* |SUCCESS| [GIT MASTER] eb6e71e757155f219721086599a294cbd3b51ea9
@ 2024-05-21 6:59 dpdklab
0 siblings, 0 replies; 73+ messages in thread
From: dpdklab @ 2024-05-21 6:59 UTC (permalink / raw)
To: Test Report; +Cc: dpdk-test-reports, Andrew Rybchenko, Ferruh Yigit
_Testing PASS_
Branch: dpdk-next-net
eb6e71e757155f219721086599a294cbd3b51ea9 --> testing pass
Test environment and result as below:
+---------------------+--------------------+------------------+----------------------+-------------------+
| Environment | dpdk_meson_compile | dpdk_compile_ovs | dpdk_mingw64_compile | dpdk_msvc_compile |
+=====================+====================+==================+======================+===================+
| Windows Server 2019 | PASS | SKIPPED | PASS | SKIPPED |
+---------------------+--------------------+------------------+----------------------+-------------------+
| Windows Server 2022 | PASS | SKIPPED | PASS | PASS |
+---------------------+--------------------+------------------+----------------------+-------------------+
| CentOS Stream 8 | PASS | PASS | SKIPPED | SKIPPED |
+---------------------+--------------------+------------------+----------------------+-------------------+
| FreeBSD 13.3 | PASS | SKIPPED | SKIPPED | SKIPPED |
+---------------------+--------------------+------------------+----------------------+-------------------+
| CentOS Stream 9 | PASS | PASS | SKIPPED | SKIPPED |
+---------------------+--------------------+------------------+----------------------+-------------------+
| FreeBSD 14.0 | PASS | SKIPPED | SKIPPED | SKIPPED |
+---------------------+--------------------+------------------+----------------------+-------------------+
| Debian Bullseye | PASS | PASS | SKIPPED | SKIPPED |
+---------------------+--------------------+------------------+----------------------+-------------------+
| Fedora 37 | PASS | PASS | SKIPPED | SKIPPED |
+---------------------+--------------------+------------------+----------------------+-------------------+
| Fedora 38 | PASS | PASS | SKIPPED | SKIPPED |
+---------------------+--------------------+------------------+----------------------+-------------------+
Windows Server 2019
Kernel: 10.0.17763
Compiler: clang 14.0 and gcc 8.1.0 (MinGW)
Windows Server 2022
Kernel: 10.0.20348.2031
Compiler: clang 15.0.7, gcc 8.1.0 (MinGW), and MSVC VS 17.9
CentOS Stream 8
Kernel: 5.4.0-167-generic
Compiler: gcc 8.5.0 20210514
FreeBSD 13.3
Kernel: 13.3-RELEASE-p1
Compiler: clang 17.0.6
CentOS Stream 9
Kernel: 5.4.0-167-generic
Compiler: gcc 11.4.1 20230605
FreeBSD 14.0
Kernel: 14.0
Compiler: clang 16.0.6
Debian Bullseye
Kernel: 5.4.0-167-generic
Compiler: gcc 10.2.1-6
Fedora 37
Kernel: Depends on container host system
Compiler: gcc 12.3.1
Fedora 38
Kernel: Depends on container host
Compiler: clang 16.0.6
To view detailed results, visit:
https://lab.dpdk.org/results/dashboard/tarballs/29152/
UNH-IOL DPDK Community Lab
To manage your email subscriptions, visit:
https://lab.dpdk.org/results/dashboard/preferences/subscriptions/
^ permalink raw reply [flat|nested] 73+ messages in thread
* |SUCCESS| [GIT MASTER] eb6e71e757155f219721086599a294cbd3b51ea9
@ 2024-05-21 6:59 dpdklab
0 siblings, 0 replies; 73+ messages in thread
From: dpdklab @ 2024-05-21 6:59 UTC (permalink / raw)
To: Test Report; +Cc: dpdk-test-reports, Andrew Rybchenko, Ferruh Yigit
_Testing PASS_
Branch: dpdk-next-net
eb6e71e757155f219721086599a294cbd3b51ea9 --> testing pass
Test environment and result as below:
+-----------------------------+--------------+------------------------------+----------------+
| Environment | lpm_autotest | cryptodev_sw_snow3g_autotest | dpdk_unit_test |
+=============================+==============+==============================+================+
| Ubuntu 20.04 ARM SVE | PASS | SKIPPED | SKIPPED |
+-----------------------------+--------------+------------------------------+----------------+
| Debian 12 (arm) | SKIPPED | PASS | SKIPPED |
+-----------------------------+--------------+------------------------------+----------------+
| Debian 11 (Buster) (ARM) | SKIPPED | SKIPPED | PASS |
+-----------------------------+--------------+------------------------------+----------------+
| 32-bit Ubuntu 20.04.4 (ARM) | SKIPPED | SKIPPED | PASS |
+-----------------------------+--------------+------------------------------+----------------+
Ubuntu 20.04 ARM SVE
Kernel: 5.4.0-167-generic
Compiler: gcc (Ubuntu 10.5.0-1ubuntu1~20.04) 10.5.0
Debian 12 (arm)
Kernel: Container Host Kernel
Compiler: gcc 12.2.0
Debian 11 (Buster) (ARM)
Kernel: Container Host Kernel
Compiler: gcc 10.2.1
32-bit Ubuntu 20.04.4 (ARM)
Kernel: 5.4.0-155-generic aarch64
Compiler: gcc 9.4
To view detailed results, visit:
https://lab.dpdk.org/results/dashboard/tarballs/29152/
UNH-IOL DPDK Community Lab
To manage your email subscriptions, visit:
https://lab.dpdk.org/results/dashboard/preferences/subscriptions/
^ permalink raw reply [flat|nested] 73+ messages in thread
* |SUCCESS| [GIT MASTER] eb6e71e757155f219721086599a294cbd3b51ea9
@ 2024-05-21 6:59 dpdklab
0 siblings, 0 replies; 73+ messages in thread
From: dpdklab @ 2024-05-21 6:59 UTC (permalink / raw)
To: Test Report; +Cc: dpdk-test-reports, Andrew Rybchenko, Ferruh Yigit
_Testing PASS_
Branch: dpdk-next-net
eb6e71e757155f219721086599a294cbd3b51ea9 --> testing pass
Test environment and result as below:
+---------------------+--------------------+------------------+----------------------+-------------------+
| Environment | dpdk_meson_compile | dpdk_compile_ovs | dpdk_mingw64_compile | dpdk_msvc_compile |
+=====================+====================+==================+======================+===================+
| Windows Server 2019 | PASS | SKIPPED | PASS | SKIPPED |
+---------------------+--------------------+------------------+----------------------+-------------------+
| Windows Server 2022 | PASS | SKIPPED | PASS | PASS |
+---------------------+--------------------+------------------+----------------------+-------------------+
| CentOS Stream 8 | PASS | PASS | SKIPPED | SKIPPED |
+---------------------+--------------------+------------------+----------------------+-------------------+
| FreeBSD 13.3 | PASS | SKIPPED | SKIPPED | SKIPPED |
+---------------------+--------------------+------------------+----------------------+-------------------+
| CentOS Stream 9 | PASS | PASS | SKIPPED | SKIPPED |
+---------------------+--------------------+------------------+----------------------+-------------------+
| FreeBSD 14.0 | PASS | SKIPPED | SKIPPED | SKIPPED |
+---------------------+--------------------+------------------+----------------------+-------------------+
| Debian Bullseye | PASS | PASS | SKIPPED | SKIPPED |
+---------------------+--------------------+------------------+----------------------+-------------------+
| Fedora 37 | PASS | PASS | SKIPPED | SKIPPED |
+---------------------+--------------------+------------------+----------------------+-------------------+
| Fedora 38 | PASS | PASS | SKIPPED | SKIPPED |
+---------------------+--------------------+------------------+----------------------+-------------------+
Windows Server 2019
Kernel: 10.0.17763
Compiler: clang 14.0 and gcc 8.1.0 (MinGW)
Windows Server 2022
Kernel: 10.0.20348.2031
Compiler: clang 15.0.7, gcc 8.1.0 (MinGW), and MSVC VS 17.9
CentOS Stream 8
Kernel: 5.4.0-167-generic
Compiler: gcc 8.5.0 20210514
FreeBSD 13.3
Kernel: 13.3-RELEASE-p1
Compiler: clang 17.0.6
CentOS Stream 9
Kernel: 5.4.0-167-generic
Compiler: gcc 11.4.1 20230605
FreeBSD 14.0
Kernel: 14.0
Compiler: clang 16.0.6
Debian Bullseye
Kernel: 5.4.0-167-generic
Compiler: gcc 10.2.1-6
Fedora 37
Kernel: Depends on container host system
Compiler: gcc 12.3.1
Fedora 38
Kernel: Depends on container host
Compiler: clang 16.0.6
To view detailed results, visit:
https://lab.dpdk.org/results/dashboard/tarballs/29152/
UNH-IOL DPDK Community Lab
To manage your email subscriptions, visit:
https://lab.dpdk.org/results/dashboard/preferences/subscriptions/
^ permalink raw reply [flat|nested] 73+ messages in thread
* |SUCCESS| [GIT MASTER] eb6e71e757155f219721086599a294cbd3b51ea9
@ 2024-05-21 6:59 dpdklab
0 siblings, 0 replies; 73+ messages in thread
From: dpdklab @ 2024-05-21 6:59 UTC (permalink / raw)
To: Test Report; +Cc: dpdk-test-reports, Andrew Rybchenko, Ferruh Yigit
_Testing PASS_
Branch: dpdk-next-net
eb6e71e757155f219721086599a294cbd3b51ea9 --> testing pass
Test environment and result as below:
+---------------------+--------------------+------------------+----------------------+-------------------+
| Environment | dpdk_meson_compile | dpdk_compile_ovs | dpdk_mingw64_compile | dpdk_msvc_compile |
+=====================+====================+==================+======================+===================+
| Windows Server 2019 | PASS | SKIPPED | PASS | SKIPPED |
+---------------------+--------------------+------------------+----------------------+-------------------+
| Windows Server 2022 | PASS | SKIPPED | PASS | PASS |
+---------------------+--------------------+------------------+----------------------+-------------------+
| CentOS Stream 8 | PASS | PASS | SKIPPED | SKIPPED |
+---------------------+--------------------+------------------+----------------------+-------------------+
| FreeBSD 13.3 | PASS | SKIPPED | SKIPPED | SKIPPED |
+---------------------+--------------------+------------------+----------------------+-------------------+
| CentOS Stream 9 | PASS | PASS | SKIPPED | SKIPPED |
+---------------------+--------------------+------------------+----------------------+-------------------+
| FreeBSD 14.0 | PASS | SKIPPED | SKIPPED | SKIPPED |
+---------------------+--------------------+------------------+----------------------+-------------------+
| Debian Bullseye | PASS | PASS | SKIPPED | SKIPPED |
+---------------------+--------------------+------------------+----------------------+-------------------+
| Fedora 37 | PASS | PASS | SKIPPED | SKIPPED |
+---------------------+--------------------+------------------+----------------------+-------------------+
| Fedora 38 | PASS | PASS | SKIPPED | SKIPPED |
+---------------------+--------------------+------------------+----------------------+-------------------+
Windows Server 2019
Kernel: 10.0.17763
Compiler: clang 14.0 and gcc 8.1.0 (MinGW)
Windows Server 2022
Kernel: 10.0.20348.2031
Compiler: clang 15.0.7, gcc 8.1.0 (MinGW), and MSVC VS 17.9
CentOS Stream 8
Kernel: 5.4.0-167-generic
Compiler: gcc 8.5.0 20210514
FreeBSD 13.3
Kernel: 13.3-RELEASE-p1
Compiler: clang 17.0.6
CentOS Stream 9
Kernel: 5.4.0-167-generic
Compiler: gcc 11.4.1 20230605
FreeBSD 14.0
Kernel: 14.0
Compiler: clang 16.0.6
Debian Bullseye
Kernel: 5.4.0-167-generic
Compiler: gcc 10.2.1-6
Fedora 37
Kernel: Depends on container host system
Compiler: gcc 12.3.1
Fedora 38
Kernel: Depends on container host
Compiler: clang 16.0.6
To view detailed results, visit:
https://lab.dpdk.org/results/dashboard/tarballs/29152/
UNH-IOL DPDK Community Lab
To manage your email subscriptions, visit:
https://lab.dpdk.org/results/dashboard/preferences/subscriptions/
^ permalink raw reply [flat|nested] 73+ messages in thread
* |SUCCESS| [GIT MASTER] eb6e71e757155f219721086599a294cbd3b51ea9
@ 2024-05-21 6:58 dpdklab
0 siblings, 0 replies; 73+ messages in thread
From: dpdklab @ 2024-05-21 6:58 UTC (permalink / raw)
To: Test Report; +Cc: dpdk-test-reports, Andrew Rybchenko, Ferruh Yigit
_Testing PASS_
Branch: dpdk-next-net
eb6e71e757155f219721086599a294cbd3b51ea9 --> testing pass
Test environment and result as below:
+---------------------+--------------------+------------------+----------------------+-------------------+
| Environment | dpdk_meson_compile | dpdk_compile_ovs | dpdk_mingw64_compile | dpdk_msvc_compile |
+=====================+====================+==================+======================+===================+
| Windows Server 2019 | PASS | SKIPPED | PASS | SKIPPED |
+---------------------+--------------------+------------------+----------------------+-------------------+
| Windows Server 2022 | PASS | SKIPPED | PASS | PASS |
+---------------------+--------------------+------------------+----------------------+-------------------+
| CentOS Stream 8 | PASS | PASS | SKIPPED | SKIPPED |
+---------------------+--------------------+------------------+----------------------+-------------------+
| FreeBSD 13.3 | PASS | SKIPPED | SKIPPED | SKIPPED |
+---------------------+--------------------+------------------+----------------------+-------------------+
| CentOS Stream 9 | PASS | PASS | SKIPPED | SKIPPED |
+---------------------+--------------------+------------------+----------------------+-------------------+
| FreeBSD 14.0 | PASS | SKIPPED | SKIPPED | SKIPPED |
+---------------------+--------------------+------------------+----------------------+-------------------+
| Debian Bullseye | PASS | PASS | SKIPPED | SKIPPED |
+---------------------+--------------------+------------------+----------------------+-------------------+
| Fedora 37 | PASS | PASS | SKIPPED | SKIPPED |
+---------------------+--------------------+------------------+----------------------+-------------------+
| Fedora 38 | PASS | PASS | SKIPPED | SKIPPED |
+---------------------+--------------------+------------------+----------------------+-------------------+
Windows Server 2019
Kernel: 10.0.17763
Compiler: clang 14.0 and gcc 8.1.0 (MinGW)
Windows Server 2022
Kernel: 10.0.20348.2031
Compiler: clang 15.0.7, gcc 8.1.0 (MinGW), and MSVC VS 17.9
CentOS Stream 8
Kernel: 5.4.0-167-generic
Compiler: gcc 8.5.0 20210514
FreeBSD 13.3
Kernel: 13.3-RELEASE-p1
Compiler: clang 17.0.6
CentOS Stream 9
Kernel: 5.4.0-167-generic
Compiler: gcc 11.4.1 20230605
FreeBSD 14.0
Kernel: 14.0
Compiler: clang 16.0.6
Debian Bullseye
Kernel: 5.4.0-167-generic
Compiler: gcc 10.2.1-6
Fedora 37
Kernel: Depends on container host system
Compiler: gcc 12.3.1
Fedora 38
Kernel: Depends on container host
Compiler: clang 16.0.6
To view detailed results, visit:
https://lab.dpdk.org/results/dashboard/tarballs/29152/
UNH-IOL DPDK Community Lab
To manage your email subscriptions, visit:
https://lab.dpdk.org/results/dashboard/preferences/subscriptions/
^ permalink raw reply [flat|nested] 73+ messages in thread
* |SUCCESS| [GIT MASTER] eb6e71e757155f219721086599a294cbd3b51ea9
@ 2024-05-21 6:58 dpdklab
0 siblings, 0 replies; 73+ messages in thread
From: dpdklab @ 2024-05-21 6:58 UTC (permalink / raw)
To: Test Report; +Cc: dpdk-test-reports, Andrew Rybchenko, Ferruh Yigit
_Testing PASS_
Branch: dpdk-next-net
eb6e71e757155f219721086599a294cbd3b51ea9 --> testing pass
Test environment and result as below:
+---------------------+--------------------+------------------+----------------------+-------------------+
| Environment | dpdk_meson_compile | dpdk_compile_ovs | dpdk_mingw64_compile | dpdk_msvc_compile |
+=====================+====================+==================+======================+===================+
| Windows Server 2019 | PASS | SKIPPED | PASS | SKIPPED |
+---------------------+--------------------+------------------+----------------------+-------------------+
| Windows Server 2022 | PASS | SKIPPED | PASS | PASS |
+---------------------+--------------------+------------------+----------------------+-------------------+
| CentOS Stream 8 | PASS | PASS | SKIPPED | SKIPPED |
+---------------------+--------------------+------------------+----------------------+-------------------+
| FreeBSD 13.3 | PASS | SKIPPED | SKIPPED | SKIPPED |
+---------------------+--------------------+------------------+----------------------+-------------------+
| CentOS Stream 9 | PASS | PASS | SKIPPED | SKIPPED |
+---------------------+--------------------+------------------+----------------------+-------------------+
| FreeBSD 14.0 | PASS | SKIPPED | SKIPPED | SKIPPED |
+---------------------+--------------------+------------------+----------------------+-------------------+
| Debian Bullseye | PASS | PASS | SKIPPED | SKIPPED |
+---------------------+--------------------+------------------+----------------------+-------------------+
| Fedora 37 | PASS | PASS | SKIPPED | SKIPPED |
+---------------------+--------------------+------------------+----------------------+-------------------+
| Fedora 38 | PASS | PASS | SKIPPED | SKIPPED |
+---------------------+--------------------+------------------+----------------------+-------------------+
Windows Server 2019
Kernel: 10.0.17763
Compiler: clang 14.0 and gcc 8.1.0 (MinGW)
Windows Server 2022
Kernel: 10.0.20348.2031
Compiler: clang 15.0.7, gcc 8.1.0 (MinGW), and MSVC VS 17.9
CentOS Stream 8
Kernel: 5.4.0-167-generic
Compiler: gcc 8.5.0 20210514
FreeBSD 13.3
Kernel: 13.3-RELEASE-p1
Compiler: clang 17.0.6
CentOS Stream 9
Kernel: 5.4.0-167-generic
Compiler: gcc 11.4.1 20230605
FreeBSD 14.0
Kernel: 14.0
Compiler: clang 16.0.6
Debian Bullseye
Kernel: 5.4.0-167-generic
Compiler: gcc 10.2.1-6
Fedora 37
Kernel: Depends on container host system
Compiler: gcc 12.3.1
Fedora 38
Kernel: Depends on container host
Compiler: clang 16.0.6
To view detailed results, visit:
https://lab.dpdk.org/results/dashboard/tarballs/29152/
UNH-IOL DPDK Community Lab
To manage your email subscriptions, visit:
https://lab.dpdk.org/results/dashboard/preferences/subscriptions/
^ permalink raw reply [flat|nested] 73+ messages in thread
* |SUCCESS| [GIT MASTER] eb6e71e757155f219721086599a294cbd3b51ea9
@ 2024-05-21 6:58 dpdklab
0 siblings, 0 replies; 73+ messages in thread
From: dpdklab @ 2024-05-21 6:58 UTC (permalink / raw)
To: Test Report; +Cc: dpdk-test-reports, Andrew Rybchenko, Ferruh Yigit
_Testing PASS_
Branch: dpdk-next-net
eb6e71e757155f219721086599a294cbd3b51ea9 --> testing pass
Test environment and result as below:
+---------------------+----------------+
| Environment | dpdk_unit_test |
+=====================+================+
| CentOS Stream 8 | PASS |
+---------------------+----------------+
| Windows Server 2019 | PASS |
+---------------------+----------------+
| CentOS Stream 9 | PASS |
+---------------------+----------------+
| Debian Bullseye | PASS |
+---------------------+----------------+
| Fedora 37 | PASS |
+---------------------+----------------+
| Debian 12 | PASS |
+---------------------+----------------+
CentOS Stream 8
Kernel: 5.4.0-167-generic
Compiler: gcc 8.5.0 20210514
Windows Server 2019
Kernel: 10.0.17763
Compiler: clang 14.0 and gcc 8.1.0 (MinGW)
CentOS Stream 9
Kernel: 5.4.0-167-generic
Compiler: gcc 11.4.1 20230605
Debian Bullseye
Kernel: 5.4.0-167-generic
Compiler: gcc 10.2.1-6
Fedora 37
Kernel: Depends on container host system
Compiler: gcc 12.3.1
Debian 12
Kernel: Container Host Kernel
Compiler: gcc 10.2.1
To view detailed results, visit:
https://lab.dpdk.org/results/dashboard/tarballs/29152/
UNH-IOL DPDK Community Lab
To manage your email subscriptions, visit:
https://lab.dpdk.org/results/dashboard/preferences/subscriptions/
^ permalink raw reply [flat|nested] 73+ messages in thread
* |SUCCESS| [GIT MASTER] eb6e71e757155f219721086599a294cbd3b51ea9
@ 2024-05-21 6:57 dpdklab
0 siblings, 0 replies; 73+ messages in thread
From: dpdklab @ 2024-05-21 6:57 UTC (permalink / raw)
To: Test Report; +Cc: dpdk-test-reports, Andrew Rybchenko, Ferruh Yigit
_Testing PASS_
Branch: dpdk-next-net
eb6e71e757155f219721086599a294cbd3b51ea9 --> testing pass
Test environment and result as below:
+---------------------+--------------------+------------------+----------------------+-------------------+
| Environment | dpdk_meson_compile | dpdk_compile_ovs | dpdk_mingw64_compile | dpdk_msvc_compile |
+=====================+====================+==================+======================+===================+
| Windows Server 2019 | PASS | SKIPPED | PASS | SKIPPED |
+---------------------+--------------------+------------------+----------------------+-------------------+
| Windows Server 2022 | PASS | SKIPPED | PASS | PASS |
+---------------------+--------------------+------------------+----------------------+-------------------+
| CentOS Stream 8 | PASS | PASS | SKIPPED | SKIPPED |
+---------------------+--------------------+------------------+----------------------+-------------------+
| FreeBSD 13.3 | PASS | SKIPPED | SKIPPED | SKIPPED |
+---------------------+--------------------+------------------+----------------------+-------------------+
| CentOS Stream 9 | PASS | PASS | SKIPPED | SKIPPED |
+---------------------+--------------------+------------------+----------------------+-------------------+
| FreeBSD 14.0 | PASS | SKIPPED | SKIPPED | SKIPPED |
+---------------------+--------------------+------------------+----------------------+-------------------+
| Debian Bullseye | PASS | PASS | SKIPPED | SKIPPED |
+---------------------+--------------------+------------------+----------------------+-------------------+
| Fedora 37 | PASS | PASS | SKIPPED | SKIPPED |
+---------------------+--------------------+------------------+----------------------+-------------------+
| Fedora 38 | PASS | SKIPPED | SKIPPED | SKIPPED |
+---------------------+--------------------+------------------+----------------------+-------------------+
Windows Server 2019
Kernel: 10.0.17763
Compiler: clang 14.0 and gcc 8.1.0 (MinGW)
Windows Server 2022
Kernel: 10.0.20348.2031
Compiler: clang 15.0.7, gcc 8.1.0 (MinGW), and MSVC VS 17.9
CentOS Stream 8
Kernel: 5.4.0-167-generic
Compiler: gcc 8.5.0 20210514
FreeBSD 13.3
Kernel: 13.3-RELEASE-p1
Compiler: clang 17.0.6
CentOS Stream 9
Kernel: 5.4.0-167-generic
Compiler: gcc 11.4.1 20230605
FreeBSD 14.0
Kernel: 14.0
Compiler: clang 16.0.6
Debian Bullseye
Kernel: 5.4.0-167-generic
Compiler: gcc 10.2.1-6
Fedora 37
Kernel: Depends on container host system
Compiler: gcc 12.3.1
Fedora 38
Kernel: Depends on container host
Compiler: clang 16.0.6
To view detailed results, visit:
https://lab.dpdk.org/results/dashboard/tarballs/29152/
UNH-IOL DPDK Community Lab
To manage your email subscriptions, visit:
https://lab.dpdk.org/results/dashboard/preferences/subscriptions/
^ permalink raw reply [flat|nested] 73+ messages in thread
* |SUCCESS| [GIT MASTER] eb6e71e757155f219721086599a294cbd3b51ea9
@ 2024-05-21 6:57 dpdklab
0 siblings, 0 replies; 73+ messages in thread
From: dpdklab @ 2024-05-21 6:57 UTC (permalink / raw)
To: Test Report; +Cc: dpdk-test-reports, Andrew Rybchenko, Ferruh Yigit
_Testing PASS_
Branch: dpdk-next-net
eb6e71e757155f219721086599a294cbd3b51ea9 --> testing pass
Test environment and result as below:
+-----------------------------+--------------+------------------------------+----------------+
| Environment | lpm_autotest | cryptodev_sw_snow3g_autotest | dpdk_unit_test |
+=============================+==============+==============================+================+
| Ubuntu 20.04 ARM SVE | PASS | SKIPPED | SKIPPED |
+-----------------------------+--------------+------------------------------+----------------+
| Debian 12 (arm) | SKIPPED | PASS | SKIPPED |
+-----------------------------+--------------+------------------------------+----------------+
| Debian 11 (Buster) (ARM) | SKIPPED | SKIPPED | PASS |
+-----------------------------+--------------+------------------------------+----------------+
| 32-bit Ubuntu 20.04.4 (ARM) | SKIPPED | SKIPPED | PASS |
+-----------------------------+--------------+------------------------------+----------------+
Ubuntu 20.04 ARM SVE
Kernel: 5.4.0-167-generic
Compiler: gcc (Ubuntu 10.5.0-1ubuntu1~20.04) 10.5.0
Debian 12 (arm)
Kernel: Container Host Kernel
Compiler: gcc 12.2.0
Debian 11 (Buster) (ARM)
Kernel: Container Host Kernel
Compiler: gcc 10.2.1
32-bit Ubuntu 20.04.4 (ARM)
Kernel: 5.4.0-155-generic aarch64
Compiler: gcc 9.4
To view detailed results, visit:
https://lab.dpdk.org/results/dashboard/tarballs/29152/
UNH-IOL DPDK Community Lab
To manage your email subscriptions, visit:
https://lab.dpdk.org/results/dashboard/preferences/subscriptions/
^ permalink raw reply [flat|nested] 73+ messages in thread
* |SUCCESS| [GIT MASTER] eb6e71e757155f219721086599a294cbd3b51ea9
@ 2024-05-21 6:56 dpdklab
0 siblings, 0 replies; 73+ messages in thread
From: dpdklab @ 2024-05-21 6:56 UTC (permalink / raw)
To: Test Report; +Cc: dpdk-test-reports, Andrew Rybchenko, Ferruh Yigit
_Testing PASS_
Branch: dpdk-next-net
eb6e71e757155f219721086599a294cbd3b51ea9 --> testing pass
Test environment and result as below:
+---------------------+----------------+
| Environment | dpdk_unit_test |
+=====================+================+
| CentOS Stream 8 | PASS |
+---------------------+----------------+
| Windows Server 2019 | PASS |
+---------------------+----------------+
| CentOS Stream 9 | PASS |
+---------------------+----------------+
| Debian Bullseye | PASS |
+---------------------+----------------+
| Fedora 37 | PASS |
+---------------------+----------------+
CentOS Stream 8
Kernel: 5.4.0-167-generic
Compiler: gcc 8.5.0 20210514
Windows Server 2019
Kernel: 10.0.17763
Compiler: clang 14.0 and gcc 8.1.0 (MinGW)
CentOS Stream 9
Kernel: 5.4.0-167-generic
Compiler: gcc 11.4.1 20230605
Debian Bullseye
Kernel: 5.4.0-167-generic
Compiler: gcc 10.2.1-6
Fedora 37
Kernel: Depends on container host system
Compiler: gcc 12.3.1
To view detailed results, visit:
https://lab.dpdk.org/results/dashboard/tarballs/29152/
UNH-IOL DPDK Community Lab
To manage your email subscriptions, visit:
https://lab.dpdk.org/results/dashboard/preferences/subscriptions/
^ permalink raw reply [flat|nested] 73+ messages in thread
* |SUCCESS| [GIT MASTER] eb6e71e757155f219721086599a294cbd3b51ea9
@ 2024-05-21 6:53 dpdklab
0 siblings, 0 replies; 73+ messages in thread
From: dpdklab @ 2024-05-21 6:53 UTC (permalink / raw)
To: Test Report; +Cc: dpdk-test-reports, Andrew Rybchenko, Ferruh Yigit
_Testing PASS_
Branch: dpdk-next-net
eb6e71e757155f219721086599a294cbd3b51ea9 --> testing pass
Test environment and result as below:
+---------------------+----------------+
| Environment | dpdk_unit_test |
+=====================+================+
| CentOS Stream 8 | PASS |
+---------------------+----------------+
| Windows Server 2019 | PASS |
+---------------------+----------------+
| CentOS Stream 9 | PASS |
+---------------------+----------------+
| Debian Bullseye | PASS |
+---------------------+----------------+
| Fedora 37 | PASS |
+---------------------+----------------+
CentOS Stream 8
Kernel: 5.4.0-167-generic
Compiler: gcc 8.5.0 20210514
Windows Server 2019
Kernel: 10.0.17763
Compiler: clang 14.0 and gcc 8.1.0 (MinGW)
CentOS Stream 9
Kernel: 5.4.0-167-generic
Compiler: gcc 11.4.1 20230605
Debian Bullseye
Kernel: 5.4.0-167-generic
Compiler: gcc 10.2.1-6
Fedora 37
Kernel: Depends on container host system
Compiler: gcc 12.3.1
To view detailed results, visit:
https://lab.dpdk.org/results/dashboard/tarballs/29152/
UNH-IOL DPDK Community Lab
To manage your email subscriptions, visit:
https://lab.dpdk.org/results/dashboard/preferences/subscriptions/
^ permalink raw reply [flat|nested] 73+ messages in thread
* |SUCCESS| [GIT MASTER] eb6e71e757155f219721086599a294cbd3b51ea9
@ 2024-05-21 6:52 dpdklab
0 siblings, 0 replies; 73+ messages in thread
From: dpdklab @ 2024-05-21 6:52 UTC (permalink / raw)
To: Test Report; +Cc: dpdk-test-reports, Andrew Rybchenko, Ferruh Yigit
_Performance Testing PASS_
Branch: dpdk-next-net
eb6e71e757155f219721086599a294cbd3b51ea9 --> performance testing pass
Test environment and result as below:
Ubuntu 22.04
Kernel: 5.15.0-94-generic
Compiler: gcc 11.4.0
NIC: Mellanox ConnectX-6 Lx 25000 Mbps
Target: x86_64-native-linuxapp-gcc
Fail/Total: 0/6
Detail performance results:
+------------+---------+----------+-------------+------------------------------+
| frame_size | txd/rxd | num_cpus | num_threads | throughput difference from |
| | | | | expected |
+============+=========+==========+=============+==============================+
| 64 | 256 | 1 | 1 | 0.3% |
+------------+---------+----------+-------------+------------------------------+
| 128 | 256 | 1 | 1 | -0.1% |
+------------+---------+----------+-------------+------------------------------+
| 1024 | 256 | 1 | 1 | 0.2% |
+------------+---------+----------+-------------+------------------------------+
| 256 | 256 | 1 | 1 | -0.2% |
+------------+---------+----------+-------------+------------------------------+
| 1518 | 256 | 1 | 1 | 0.1% |
+------------+---------+----------+-------------+------------------------------+
| 512 | 256 | 1 | 1 | 0.0% |
+------------+---------+----------+-------------+------------------------------+
To view detailed results, visit:
https://lab.dpdk.org/results/dashboard/tarballs/29152/
UNH-IOL DPDK Community Lab
To manage your email subscriptions, visit:
https://lab.dpdk.org/results/dashboard/preferences/subscriptions/
^ permalink raw reply [flat|nested] 73+ messages in thread
* |SUCCESS| [GIT MASTER] eb6e71e757155f219721086599a294cbd3b51ea9
@ 2024-05-21 6:50 dpdklab
0 siblings, 0 replies; 73+ messages in thread
From: dpdklab @ 2024-05-21 6:50 UTC (permalink / raw)
To: Test Report; +Cc: dpdk-test-reports, Andrew Rybchenko, Ferruh Yigit
_Testing PASS_
Branch: dpdk-next-net
eb6e71e757155f219721086599a294cbd3b51ea9 --> testing pass
Test environment and result as below:
+----------------------+--------------+------------------------------+
| Environment | lpm_autotest | cryptodev_sw_snow3g_autotest |
+======================+==============+==============================+
| Ubuntu 20.04 ARM SVE | PASS | SKIPPED |
+----------------------+--------------+------------------------------+
| Debian 12 (arm) | SKIPPED | PASS |
+----------------------+--------------+------------------------------+
Ubuntu 20.04 ARM SVE
Kernel: 5.4.0-167-generic
Compiler: gcc (Ubuntu 10.5.0-1ubuntu1~20.04) 10.5.0
Debian 12 (arm)
Kernel: Container Host Kernel
Compiler: gcc 12.2.0
To view detailed results, visit:
https://lab.dpdk.org/results/dashboard/tarballs/29152/
UNH-IOL DPDK Community Lab
To manage your email subscriptions, visit:
https://lab.dpdk.org/results/dashboard/preferences/subscriptions/
^ permalink raw reply [flat|nested] 73+ messages in thread
* |SUCCESS| [GIT MASTER] eb6e71e757155f219721086599a294cbd3b51ea9
@ 2024-05-21 6:50 dpdklab
0 siblings, 0 replies; 73+ messages in thread
From: dpdklab @ 2024-05-21 6:50 UTC (permalink / raw)
To: Test Report; +Cc: dpdk-test-reports, Andrew Rybchenko, Ferruh Yigit
_Functional Testing PASS_
Branch: dpdk-next-net
eb6e71e757155f219721086599a294cbd3b51ea9 --> functional testing pass
Test environment and result as below:
Ubuntu 20.04
Kernel: 5.4.0-122-generic
Compiler: gcc 9.4.0
NIC: Intel Corporation Ethernet Converged Network Adapter XL710-QDA2 40000 Mbps
Target: x86_64-native-linuxapp-gcc
Fail/Total: 0/4
Ubuntu 20.04
Kernel: 5.4.0-122-generic
Compiler: gcc 9.4.0
NIC: Intel Corporation Ethernet Converged Network Adapter 82599ES 10000 Mbps
Target: x86_64-native-linuxapp-gcc
Fail/Total: 0/4
To view detailed results, visit:
https://lab.dpdk.org/results/dashboard/tarballs/29152/
UNH-IOL DPDK Community Lab
To manage your email subscriptions, visit:
https://lab.dpdk.org/results/dashboard/preferences/subscriptions/
^ permalink raw reply [flat|nested] 73+ messages in thread
* |SUCCESS| [GIT MASTER] eb6e71e757155f219721086599a294cbd3b51ea9
@ 2024-05-21 6:49 dpdklab
0 siblings, 0 replies; 73+ messages in thread
From: dpdklab @ 2024-05-21 6:49 UTC (permalink / raw)
To: Test Report; +Cc: dpdk-test-reports, Andrew Rybchenko, Ferruh Yigit
_Testing PASS_
Branch: dpdk-next-net
eb6e71e757155f219721086599a294cbd3b51ea9 --> testing pass
Test environment and result as below:
+----------------------+--------------------+
| Environment | dpdk_meson_compile |
+======================+====================+
| Ubuntu 20.04 ARM SVE | PASS |
+----------------------+--------------------+
| Debian 12 with MUSDK | PASS |
+----------------------+--------------------+
Ubuntu 20.04 ARM SVE
Kernel: 5.4.0-167-generic
Compiler: gcc (Ubuntu 10.5.0-1ubuntu1~20.04) 10.5.0
Debian 12 with MUSDK
Kernel: Container Host Kernel
Compiler: gcc 12.2.0
To view detailed results, visit:
https://lab.dpdk.org/results/dashboard/tarballs/29152/
UNH-IOL DPDK Community Lab
To manage your email subscriptions, visit:
https://lab.dpdk.org/results/dashboard/preferences/subscriptions/
^ permalink raw reply [flat|nested] 73+ messages in thread
* |SUCCESS| [GIT MASTER] eb6e71e757155f219721086599a294cbd3b51ea9
@ 2024-05-21 6:48 dpdklab
0 siblings, 0 replies; 73+ messages in thread
From: dpdklab @ 2024-05-21 6:48 UTC (permalink / raw)
To: Test Report; +Cc: dpdk-test-reports, Andrew Rybchenko, Ferruh Yigit
_Functional Testing PASS_
Branch: dpdk-next-net
eb6e71e757155f219721086599a294cbd3b51ea9 --> functional testing pass
Test environment and result as below:
Ubuntu 20.04
Kernel: 5.4.0-122-generic
Compiler: gcc 9.4.0
NIC: Intel Corporation Ethernet Converged Network Adapter XL710-QDA2 40000 Mbps
Target: x86_64-native-linuxapp-gcc
Fail/Total: 0/4
Ubuntu 20.04
Kernel: 5.4.0-122-generic
Compiler: gcc 9.4.0
NIC: Intel Corporation Ethernet Converged Network Adapter 82599ES 10000 Mbps
Target: x86_64-native-linuxapp-gcc
Fail/Total: 0/4
To view detailed results, visit:
https://lab.dpdk.org/results/dashboard/tarballs/29152/
UNH-IOL DPDK Community Lab
To manage your email subscriptions, visit:
https://lab.dpdk.org/results/dashboard/preferences/subscriptions/
^ permalink raw reply [flat|nested] 73+ messages in thread
* |SUCCESS| [GIT MASTER] eb6e71e757155f219721086599a294cbd3b51ea9
@ 2024-05-21 6:47 dpdklab
0 siblings, 0 replies; 73+ messages in thread
From: dpdklab @ 2024-05-21 6:47 UTC (permalink / raw)
To: Test Report; +Cc: dpdk-test-reports, Andrew Rybchenko, Ferruh Yigit
_Testing PASS_
Branch: dpdk-next-net
eb6e71e757155f219721086599a294cbd3b51ea9 --> testing pass
Test environment and result as below:
+----------------------+--------------------+
| Environment | dpdk_meson_compile |
+======================+====================+
| Ubuntu 20.04 ARM SVE | PASS |
+----------------------+--------------------+
| Debian 12 with MUSDK | PASS |
+----------------------+--------------------+
Ubuntu 20.04 ARM SVE
Kernel: 5.4.0-167-generic
Compiler: gcc (Ubuntu 10.5.0-1ubuntu1~20.04) 10.5.0
Debian 12 with MUSDK
Kernel: Container Host Kernel
Compiler: gcc 12.2.0
To view detailed results, visit:
https://lab.dpdk.org/results/dashboard/tarballs/29152/
UNH-IOL DPDK Community Lab
To manage your email subscriptions, visit:
https://lab.dpdk.org/results/dashboard/preferences/subscriptions/
^ permalink raw reply [flat|nested] 73+ messages in thread
end of thread, other threads:[~2024-05-21 9:48 UTC | newest]
Thread overview: 73+ messages (download: mbox.gz / follow: Atom feed)
-- links below jump to the message on this page --
2024-05-21 8:27 |SUCCESS| [GIT MASTER] eb6e71e757155f219721086599a294cbd3b51ea9 dpdklab
-- strict thread matches above, loose matches on Subject: below --
2024-05-21 9:48 dpdklab
2024-05-21 9:34 dpdklab
2024-05-21 9:33 dpdklab
2024-05-21 8:58 dpdklab
2024-05-21 8:41 dpdklab
2024-05-21 8:29 dpdklab
2024-05-21 8:10 dpdklab
2024-05-21 7:58 dpdklab
2024-05-21 7:57 dpdklab
2024-05-21 7:54 dpdklab
2024-05-21 7:49 dpdklab
2024-05-21 7:44 dpdklab
2024-05-21 7:38 dpdklab
2024-05-21 7:37 dpdklab
2024-05-21 7:36 dpdklab
2024-05-21 7:35 dpdklab
2024-05-21 7:34 dpdklab
2024-05-21 7:31 dpdklab
2024-05-21 7:29 dpdklab
2024-05-21 7:26 dpdklab
2024-05-21 7:21 dpdklab
2024-05-21 7:20 dpdklab
2024-05-21 7:20 dpdklab
2024-05-21 7:18 dpdklab
2024-05-21 7:17 dpdklab
2024-05-21 7:14 dpdklab
2024-05-21 7:12 dpdklab
2024-05-21 7:12 dpdklab
2024-05-21 7:12 dpdklab
2024-05-21 7:11 dpdklab
2024-05-21 7:10 dpdklab
2024-05-21 7:10 dpdklab
2024-05-21 7:09 dpdklab
2024-05-21 7:09 dpdklab
2024-05-21 7:09 dpdklab
2024-05-21 7:08 dpdklab
2024-05-21 7:08 dpdklab
2024-05-21 7:08 dpdklab
2024-05-21 7:08 dpdklab
2024-05-21 7:08 dpdklab
2024-05-21 7:07 dpdklab
2024-05-21 7:07 dpdklab
2024-05-21 7:07 dpdklab
2024-05-21 7:06 dpdklab
2024-05-21 7:06 dpdklab
2024-05-21 7:06 dpdklab
2024-05-21 7:04 dpdklab
2024-05-21 7:04 dpdklab
2024-05-21 7:03 dpdklab
2024-05-21 7:02 dpdklab
2024-05-21 7:01 dpdklab
2024-05-21 7:01 dpdklab
2024-05-21 7:01 dpdklab
2024-05-21 7:00 dpdklab
2024-05-21 7:00 dpdklab
2024-05-21 6:59 dpdklab
2024-05-21 6:59 dpdklab
2024-05-21 6:59 dpdklab
2024-05-21 6:59 dpdklab
2024-05-21 6:58 dpdklab
2024-05-21 6:58 dpdklab
2024-05-21 6:58 dpdklab
2024-05-21 6:57 dpdklab
2024-05-21 6:57 dpdklab
2024-05-21 6:56 dpdklab
2024-05-21 6:53 dpdklab
2024-05-21 6:52 dpdklab
2024-05-21 6:50 dpdklab
2024-05-21 6:50 dpdklab
2024-05-21 6:49 dpdklab
2024-05-21 6:48 dpdklab
2024-05-21 6:47 dpdklab
This is a public inbox, see mirroring instructions
for how to clone and mirror all data and code used for this inbox;
as well as URLs for NNTP newsgroup(s).