From mboxrd@z Thu Jan  1 00:00:00 1970
Return-Path: <test-report-bounces@dpdk.org>
Received: from mails.dpdk.org (mails.dpdk.org [217.70.189.124])
	by inbox.dpdk.org (Postfix) with ESMTP id A978B4408E
	for <public@inbox.dpdk.org>; Tue, 21 May 2024 19:53:02 +0200 (CEST)
Received: from mails.dpdk.org (localhost [127.0.0.1])
	by mails.dpdk.org (Postfix) with ESMTP id A57554028B;
	Tue, 21 May 2024 19:53:02 +0200 (CEST)
Received: from mail-pf1-f228.google.com (mail-pf1-f228.google.com
 [209.85.210.228])
 by mails.dpdk.org (Postfix) with ESMTP id 1CFAC4025C
 for <test-report@dpdk.org>; Tue, 21 May 2024 19:53:02 +0200 (CEST)
Received: by mail-pf1-f228.google.com with SMTP id
 d2e1a72fcca58-6f44a2d1e3dso682668b3a.3
 for <test-report@dpdk.org>; Tue, 21 May 2024 10:53:02 -0700 (PDT)
DKIM-Signature: v=1; a=rsa-sha256; c=relaxed/relaxed;
 d=iol.unh.edu; s=unh-iol; t=1716313981; x=1716918781; darn=dpdk.org;
 h=references:in-reply-to:cc:to:from:subject:message-id:date:from:to
 :cc:subject:date:message-id:reply-to;
 bh=PJCZMrVZlr82D8jrFXLI2XXrjlwTA3DI+zJi/BW2tcE=;
 b=EKAkx+v3MyrKZkeogV+HUczHdXNEgcT8cQ/AlJGGyNSha55RE5NswAoX3mLMzGxN2I
 9X+EniMOvIngZOd9JTZWJQCYuBAPTuUa7VFlyjQ3YI6jebZZLZmNt4NN0sJL1Bwv+lWk
 GeeIerm5Wra2mXArDWf1vp3C1T8Ee1aLf7mwY=
X-Google-DKIM-Signature: v=1; a=rsa-sha256; c=relaxed/relaxed;
 d=1e100.net; s=20230601; t=1716313981; x=1716918781;
 h=references:in-reply-to:cc:to:from:subject:message-id:date
 :x-gm-message-state:from:to:cc:subject:date:message-id:reply-to;
 bh=PJCZMrVZlr82D8jrFXLI2XXrjlwTA3DI+zJi/BW2tcE=;
 b=RJhJh2hyEAZpHseDahnTUJc0TH/dZdb0j7+3ojI9Tnq/c0PY+PRylx2EgRGpmg6k6b
 1iL+ecNRsWLUh0Xsuv+8eP92QedaKx5PHpj2+YKyZymhTCrhHQKOlfCGE5FQchr5E9Sd
 RdD7EL3hf12HiDuWuN0AMsEWKJHEJbBx5+MbFtSCclYQ41W4RnOuZvbT9yHMFxpdpw/w
 MB/TxsZLOyibyMpkh397hURQ9m2ErNmXaKw4YjbnIMGB7KY/J65QSCAt9lRkiwHkvt7p
 tcY3DIlcSUx0bvlBYrMTj99C3y6CgRKQN/7a7l0HdRO049XKskXrVE+QxcjgrpH7rd3X
 AUDg==
X-Gm-Message-State: AOJu0YyxmZIY26AV30Ojlt5Q8l5Gqky+iQgGxFfRg0dYNQgyz/nmvOjB
 2HTAJuuiZBdY2IGFvxGoiaStZkj3i2qwDyqOtYay6y8MWjUfjyV4NTtPvMiOlN0Ci1qOK7g1kQh
 WpwQDctQZT+AVM8NyZ0A1WFddDO8hM7lz98jhNvTg
X-Google-Smtp-Source: AGHT+IFnTR6GHMChxLQljew0E+IPAvAqiDgieIaF7K23xQLSCfHNmS6xx0o/RK3rQWUflPP+JOrNyc3g/WH+
X-Received: by 2002:a05:6a20:e607:b0:1af:fe9e:5e43 with SMTP id
 adf61e73a8af0-1affe9e608fmr22365264637.11.1716313981252; 
 Tue, 21 May 2024 10:53:01 -0700 (PDT)
Received: from postal.iol.unh.edu (postal.iol.unh.edu. [132.177.123.84])
 by smtp-relay.gmail.com with ESMTPS id
 41be03b00d2f7-6578a743430sm891386a12.21.2024.05.21.10.53.01
 (version=TLS1_2 cipher=ECDHE-ECDSA-AES128-GCM-SHA256 bits=128/128);
 Tue, 21 May 2024 10:53:01 -0700 (PDT)
X-Relaying-Domain: iol.unh.edu
Date: Tue, 21 May 2024 10:53:01 -0700 (PDT)
Message-ID: <664cdf7d.630a0220.3000d.d2c2SMTPIN_ADDED_MISSING@mx.google.com>
Received: from [172.21.0.6] (unknown [172.18.0.240])
 by postal.iol.unh.edu (Postfix) with ESMTP id 59656605C380;
 Tue, 21 May 2024 13:53:00 -0400 (EDT)
Subject: |SUCCESS| pw140207-140217 [PATCH] [v14,11/11] net/tap: update docume
From: dpdklab@iol.unh.edu
To: Test Report <test-report@dpdk.org>
Cc: dpdk-test-reports@iol.unh.edu
In-Reply-To: <20240521170746.119330-12-stephen@networkplumber.org>
References: <20240521170746.119330-12-stephen@networkplumber.org>
Content-Type: text/plain
X-BeenThere: test-report@dpdk.org
X-Mailman-Version: 2.1.29
Precedence: list
List-Id: automatic DPDK test reports <test-report.dpdk.org>
List-Unsubscribe: <https://mails.dpdk.org/options/test-report>,
 <mailto:test-report-request@dpdk.org?subject=unsubscribe>
List-Archive: <http://mails.dpdk.org/archives/test-report/>
List-Post: <mailto:test-report@dpdk.org>
List-Help: <mailto:test-report-request@dpdk.org?subject=help>
List-Subscribe: <https://mails.dpdk.org/listinfo/test-report>,
 <mailto:test-report-request@dpdk.org?subject=subscribe>
Errors-To: test-report-bounces@dpdk.org

Test-Label: iol-compile-amd64-testing
Test-Status: SUCCESS
http://dpdk.org/patch/140217

_Testing PASS_

Submitter: Stephen Hemminger <stephen@networkplumber.org>
Date: Tuesday, May 21 2024 17:06:11 
DPDK git baseline: Repo:dpdk
  Branch: master
  CommitID:6f80df8cb0f889203d7cd27766abcc6ebc720e33

140207-140217 --> testing pass

Test environment and result as below:

+---------------------+--------------------+----------------------+-------------------+
|     Environment     | dpdk_meson_compile | dpdk_mingw64_compile | dpdk_msvc_compile |
+=====================+====================+======================+===================+
| FreeBSD 13.3        | PASS               | SKIPPED              | SKIPPED           |
+---------------------+--------------------+----------------------+-------------------+
| Windows Server 2022 | PASS               | PASS                 | PASS              |
+---------------------+--------------------+----------------------+-------------------+
| Windows Server 2019 | PASS               | PASS                 | SKIPPED           |
+---------------------+--------------------+----------------------+-------------------+
| FreeBSD 14.0        | PASS               | SKIPPED              | SKIPPED           |
+---------------------+--------------------+----------------------+-------------------+


FreeBSD 13.3
	Kernel: 13.3-RELEASE-p1
	Compiler: clang 17.0.6

Windows Server 2022
	Kernel: 10.0.20348.2031
	Compiler: clang 15.0.7, gcc 8.1.0 (MinGW), and MSVC VS 17.9

Windows Server 2019
	Kernel: 10.0.17763
	Compiler: clang 14.0 and gcc 8.1.0 (MinGW)

FreeBSD 14.0
	Kernel: 14.0
	Compiler: clang 16.0.6

To view detailed results, visit:
https://lab.dpdk.org/results/dashboard/patchsets/29983/

UNH-IOL DPDK Community Lab

To manage your email subscriptions, visit: 
https://lab.dpdk.org/results/dashboard/preferences/subscriptions/