From mboxrd@z Thu Jan  1 00:00:00 1970
Return-Path: <test-report-bounces@dpdk.org>
Received: from mails.dpdk.org (mails.dpdk.org [217.70.189.124])
	by inbox.dpdk.org (Postfix) with ESMTP id 7A8094408F
	for <public@inbox.dpdk.org>; Tue, 21 May 2024 20:04:15 +0200 (CEST)
Received: from mails.dpdk.org (localhost [127.0.0.1])
	by mails.dpdk.org (Postfix) with ESMTP id 74F4D402F0;
	Tue, 21 May 2024 20:04:15 +0200 (CEST)
Received: from mail-pf1-f228.google.com (mail-pf1-f228.google.com
 [209.85.210.228])
 by mails.dpdk.org (Postfix) with ESMTP id 4227F4025C
 for <test-report@dpdk.org>; Tue, 21 May 2024 20:04:14 +0200 (CEST)
Received: by mail-pf1-f228.google.com with SMTP id
 d2e1a72fcca58-6f4603237e0so83442b3a.0
 for <test-report@dpdk.org>; Tue, 21 May 2024 11:04:14 -0700 (PDT)
DKIM-Signature: v=1; a=rsa-sha256; c=relaxed/relaxed;
 d=iol.unh.edu; s=unh-iol; t=1716314653; x=1716919453; darn=dpdk.org;
 h=references:in-reply-to:cc:to:from:subject:message-id:date:from:to
 :cc:subject:date:message-id:reply-to;
 bh=c2243PzU4Fe/KiaT6pO4GqtLQlEEP1+nPTaXcYyLM/s=;
 b=i7CclWwwvJiBXWrk9QFOIXMDHk8K2K+6mLOqYTcOSNJ3dU3venvuEEV0Q5JMrAJjit
 tVTd1sdJ34IvL2gfLSWiNCEHdWlwho6q6dqfKZoTXWZ/6ExjS/4yU2x9DIU2fmxJP+u7
 kpi/hNuiZ7b7Hv+o6QrYGIIN41C13jDNHQu10=
X-Google-DKIM-Signature: v=1; a=rsa-sha256; c=relaxed/relaxed;
 d=1e100.net; s=20230601; t=1716314653; x=1716919453;
 h=references:in-reply-to:cc:to:from:subject:message-id:date
 :x-gm-message-state:from:to:cc:subject:date:message-id:reply-to;
 bh=c2243PzU4Fe/KiaT6pO4GqtLQlEEP1+nPTaXcYyLM/s=;
 b=OnQSnVIC821G929vdAA97fuRvxsWs/GjD+93YLVgkY3bkPj0kDx9xhnj7aCCVTb0it
 OkA//rvAm3o3RRh7AcvlIuzjQHvw0PQ6eLPSFl+WzR0NTLhz6c/wGIKtedfYkwcsvbd5
 OJJWMw+FL5Ka5JF3Tlg3KLvC4zoclkjf+H1dadaYm8NaiMjaboA/QvlGNE8UxbOm+OD4
 VZwCBVIkF7zvD3lWcf7On4wDkvfnEfxsW3yQmJ/TrM+L2hK3Kn6bt8WWcz4tDEjk/7ee
 DUWnY1BRBuWU7xtzQpTNTWzTxSN4oXOVnJ/9l0SfcJ473Pl2g1PPAg+bQyW3WQ/Qq47L
 0zVw==
X-Gm-Message-State: AOJu0YwqNjpH+Uz6HBjMjpsUvaoJeOQZKC1RUfEPitrdDW3p1+1GNRfK
 ysy4AlMeNhi87ta2zMBVC050/i0l+ICtHySXR4dYsrb9i+jzhxTqCHG7YSzITXWtmTMu+yTyLXe
 0rFsEh9aJ9k0M9engZGKd8/a6fukwykVTWHqGpYB2Y31KioPff3QEzFUy
X-Google-Smtp-Source: AGHT+IF37FmVOdp9XkUi+tD38fLA+JGL8naMMgAJQ6m3c3RbRzPKKBGyGJwJ7qhKjUvxV2o4RjQ5ZAMj3hXr
X-Received: by 2002:a05:6a00:1496:b0:6f3:eb71:af90 with SMTP id
 d2e1a72fcca58-6f69fb7ac11mr13896336b3a.4.1716314653410; 
 Tue, 21 May 2024 11:04:13 -0700 (PDT)
Received: from postal.iol.unh.edu (postal.iol.unh.edu.
 [2606:4100:3880:1234::84]) by smtp-relay.gmail.com with ESMTPS id
 d2e1a72fcca58-6f4d2b4842asm1533549b3a.28.2024.05.21.11.04.13
 (version=TLS1_2 cipher=ECDHE-ECDSA-AES128-GCM-SHA256 bits=128/128);
 Tue, 21 May 2024 11:04:13 -0700 (PDT)
X-Relaying-Domain: iol.unh.edu
Date: Tue, 21 May 2024 11:04:13 -0700 (PDT)
Message-ID: <664ce21d.050a0220.9f70e.162eSMTPIN_ADDED_MISSING@mx.google.com>
Received: from [172.21.0.6] (unknown [172.18.0.240])
 by postal.iol.unh.edu (Postfix) with ESMTP id 7F564605C380;
 Tue, 21 May 2024 14:04:12 -0400 (EDT)
Subject: |SUCCESS| pw140207-140217 [PATCH] [v14,11/11] net/tap: update docume
From: dpdklab@iol.unh.edu
To: Test Report <test-report@dpdk.org>
Cc: dpdk-test-reports@iol.unh.edu
In-Reply-To: <20240521170746.119330-12-stephen@networkplumber.org>
References: <20240521170746.119330-12-stephen@networkplumber.org>
Content-Type: text/plain
X-BeenThere: test-report@dpdk.org
X-Mailman-Version: 2.1.29
Precedence: list
List-Id: automatic DPDK test reports <test-report.dpdk.org>
List-Unsubscribe: <https://mails.dpdk.org/options/test-report>,
 <mailto:test-report-request@dpdk.org?subject=unsubscribe>
List-Archive: <http://mails.dpdk.org/archives/test-report/>
List-Post: <mailto:test-report@dpdk.org>
List-Help: <mailto:test-report-request@dpdk.org?subject=help>
List-Subscribe: <https://mails.dpdk.org/listinfo/test-report>,
 <mailto:test-report-request@dpdk.org?subject=subscribe>
Errors-To: test-report-bounces@dpdk.org

Test-Label: iol-unit-arm64-testing
Test-Status: SUCCESS
http://dpdk.org/patch/140217

_Testing PASS_

Submitter: Stephen Hemminger <stephen@networkplumber.org>
Date: Tuesday, May 21 2024 17:06:11 
DPDK git baseline: Repo:dpdk
  Branch: master
  CommitID:6f80df8cb0f889203d7cd27766abcc6ebc720e33

140207-140217 --> testing pass

Test environment and result as below:

+-----------------------------+---------------------------+------------------------------+----------------+--------------+
|         Environment         | cryptodev_sw_zuc_autotest | cryptodev_sw_snow3g_autotest | dpdk_unit_test | lpm_autotest |
+=============================+===========================+==============================+================+==============+
| Debian 12 (arm)             | PASS                      | PASS                         | PASS           | SKIPPED      |
+-----------------------------+---------------------------+------------------------------+----------------+--------------+
| Debian 11 (Buster) (ARM)    | SKIPPED                   | SKIPPED                      | PASS           | SKIPPED      |
+-----------------------------+---------------------------+------------------------------+----------------+--------------+
| Fedora 37 (ARM)             | SKIPPED                   | SKIPPED                      | PASS           | SKIPPED      |
+-----------------------------+---------------------------+------------------------------+----------------+--------------+
| CentOS Stream 9 (ARM)       | SKIPPED                   | SKIPPED                      | PASS           | SKIPPED      |
+-----------------------------+---------------------------+------------------------------+----------------+--------------+
| Fedora 38 (ARM)             | SKIPPED                   | SKIPPED                      | PASS           | SKIPPED      |
+-----------------------------+---------------------------+------------------------------+----------------+--------------+
| 32-bit Ubuntu 20.04.4 (ARM) | SKIPPED                   | SKIPPED                      | PASS           | SKIPPED      |
+-----------------------------+---------------------------+------------------------------+----------------+--------------+
| Ubuntu 20.04 (ARM)          | SKIPPED                   | SKIPPED                      | PASS           | SKIPPED      |
+-----------------------------+---------------------------+------------------------------+----------------+--------------+
| Ubuntu 20.04 ARM SVE        | SKIPPED                   | SKIPPED                      | SKIPPED        | PASS         |
+-----------------------------+---------------------------+------------------------------+----------------+--------------+


Debian 12 (arm)
	Kernel: Container Host Kernel
	Compiler: gcc 12.2.0

Debian 11 (Buster) (ARM)
	Kernel: Container Host Kernel
	Compiler: gcc 10.2.1

Fedora 37 (ARM)
	Kernel: Depends on container host
	Compiler: gcc 12.3.1

CentOS Stream 9 (ARM)
	Kernel: Container Host Kernel
	Compiler: gcc 11.4.1

Fedora 38 (ARM)
	Kernel: Depends on container host
	Compiler: gcc 13.2.1

32-bit Ubuntu 20.04.4 (ARM)
	Kernel: 5.4.0-155-generic aarch64
	Compiler: gcc 9.4

Ubuntu 20.04 (ARM)
	Kernel: Container Host Kernel
	Compiler: gcc 9.4.0

Ubuntu 20.04 ARM SVE
	Kernel: 5.4.0-167-generic
	Compiler: gcc (Ubuntu 10.5.0-1ubuntu1~20.04) 10.5.0

To view detailed results, visit:
https://lab.dpdk.org/results/dashboard/patchsets/29983/

UNH-IOL DPDK Community Lab

To manage your email subscriptions, visit: 
https://lab.dpdk.org/results/dashboard/preferences/subscriptions/