From mboxrd@z Thu Jan  1 00:00:00 1970
Return-Path: <test-report-bounces@dpdk.org>
Received: from mails.dpdk.org (mails.dpdk.org [217.70.189.124])
	by inbox.dpdk.org (Postfix) with ESMTP id C40354408C
	for <public@inbox.dpdk.org>; Tue, 21 May 2024 21:08:08 +0200 (CEST)
Received: from mails.dpdk.org (localhost [127.0.0.1])
	by mails.dpdk.org (Postfix) with ESMTP id BDB7E4021F;
	Tue, 21 May 2024 21:08:08 +0200 (CEST)
Received: from mail-pl1-f225.google.com (mail-pl1-f225.google.com
 [209.85.214.225])
 by mails.dpdk.org (Postfix) with ESMTP id D3E08400D7
 for <test-report@dpdk.org>; Tue, 21 May 2024 21:08:07 +0200 (CEST)
Received: by mail-pl1-f225.google.com with SMTP id
 d9443c01a7336-1ed012c1afbso1250415ad.1
 for <test-report@dpdk.org>; Tue, 21 May 2024 12:08:07 -0700 (PDT)
DKIM-Signature: v=1; a=rsa-sha256; c=relaxed/relaxed;
 d=iol.unh.edu; s=unh-iol; t=1716318487; x=1716923287; darn=dpdk.org;
 h=references:in-reply-to:cc:to:from:subject:message-id:date:from:to
 :cc:subject:date:message-id:reply-to;
 bh=boPpud7mlUWHn7oOnEyVP4+zaOGiZswQuX85X5aMDz8=;
 b=Htu13GbJVp53vBtY0iLlGO0srKwbjtPsFGdZnk5wOm8XpRdIL5ScrlZYcXCVWWS1Ok
 dUxpCO6IvNY5QZjyfn7CSLuzeqTUfr+1yaeLWFNRTyY4SYXftnsYd99K/vAlljQr2aHM
 r6Aus7U2xvD1Mg/2HGb+NaPPXM9y8vQyZOXS4=
X-Google-DKIM-Signature: v=1; a=rsa-sha256; c=relaxed/relaxed;
 d=1e100.net; s=20230601; t=1716318487; x=1716923287;
 h=references:in-reply-to:cc:to:from:subject:message-id:date
 :x-gm-message-state:from:to:cc:subject:date:message-id:reply-to;
 bh=boPpud7mlUWHn7oOnEyVP4+zaOGiZswQuX85X5aMDz8=;
 b=OcmaBYz/FkIXIP/DF9rsYpZydMZsUc97Da8PZfv9TtJeM6hbjBpX+rc1AlugN5QtJH
 +H2n3Gj9TlsxrX4RKGzB2PfUiV9GpewHt2ijD8oKquTPoJsFX9itrUSH9PNR0SKDVT23
 qfZsOmaFzctX0T9YD2o3VTEk8zyirSshD3jMdg9kTr6ZS6yWgeqpJmJVsBotUOebm3to
 he0kp42/DbKppCj2qq5gmzUjgFH4F2BLIGhIKeDQ9EI1DIrk4soQ2lSQRnE5IQTqyN6r
 MyFSDG4UJmchE9povKET5IT4B5mLzrMGvRe5/dlcmLTktKo3iU+l6M2p1qnDE94BHWXc
 T5sA==
X-Gm-Message-State: AOJu0YxCvA2hIPlTE2HDv0wvxNIzHE3A5Rs8x7dihr9u2zqqJQDR7Z4u
 i882IAG1y/veKlgQH2ZVEWCxUrKwQwYE59pDpHexOgHeUTW/02fjeN4P5sQW7kYzfEsuXmzeSPF
 HN6C7VzTNDpxThuc+vVy1Jvs5S9B/qOiVSRotKEJs
X-Google-Smtp-Source: AGHT+IExaN3cTcvIB86Z2w5plW12sA3bPFpfPoZ+BjMo/ellxlP6uh2lyjz6VZumLxrLCdEA+Pyg+073TGmD
X-Received: by 2002:a17:902:da85:b0:1f2:fc06:4978 with SMTP id
 d9443c01a7336-1f31acebc33mr342175ad.12.1716318482654; 
 Tue, 21 May 2024 12:08:02 -0700 (PDT)
Received: from postal.iol.unh.edu (postal.iol.unh.edu. [132.177.123.84])
 by smtp-relay.gmail.com with ESMTPS id
 d9443c01a7336-1f096618045sm3403175ad.4.2024.05.21.12.08.02
 (version=TLS1_2 cipher=ECDHE-ECDSA-AES128-GCM-SHA256 bits=128/128);
 Tue, 21 May 2024 12:08:02 -0700 (PDT)
X-Relaying-Domain: iol.unh.edu
Date: Tue, 21 May 2024 12:08:02 -0700 (PDT)
Message-ID: <664cf112.170a0220.35b6.14eaSMTPIN_ADDED_MISSING@mx.google.com>
Received: from [172.21.0.6] (unknown [172.18.0.240])
 by postal.iol.unh.edu (Postfix) with ESMTP id CD16B605C380;
 Tue, 21 May 2024 15:08:01 -0400 (EDT)
Subject: |SUCCESS| pw140199-140206 [PATCH] [v8,8/8] net/null: use generic SW 
From: dpdklab@iol.unh.edu
To: Test Report <test-report@dpdk.org>
Cc: dpdk-test-reports@iol.unh.edu
In-Reply-To: <20240521170453.119036-9-stephen@networkplumber.org>
References: <20240521170453.119036-9-stephen@networkplumber.org>
Content-Type: text/plain
X-BeenThere: test-report@dpdk.org
X-Mailman-Version: 2.1.29
Precedence: list
List-Id: automatic DPDK test reports <test-report.dpdk.org>
List-Unsubscribe: <https://mails.dpdk.org/options/test-report>,
 <mailto:test-report-request@dpdk.org?subject=unsubscribe>
List-Archive: <http://mails.dpdk.org/archives/test-report/>
List-Post: <mailto:test-report@dpdk.org>
List-Help: <mailto:test-report-request@dpdk.org?subject=help>
List-Subscribe: <https://mails.dpdk.org/listinfo/test-report>,
 <mailto:test-report-request@dpdk.org?subject=subscribe>
Errors-To: test-report-bounces@dpdk.org

Test-Label: iol-unit-amd64-testing
Test-Status: SUCCESS
http://dpdk.org/patch/140206

_Testing PASS_

Submitter: Stephen Hemminger <stephen@networkplumber.org>
Date: Tuesday, May 21 2024 17:00:55 
DPDK git baseline: Repo:dpdk
  Branch: master
  CommitID:6f80df8cb0f889203d7cd27766abcc6ebc720e33

140199-140206 --> testing pass

Test environment and result as below:

+---------------------+----------------+
|     Environment     | dpdk_unit_test |
+=====================+================+
| Windows Server 2019 | PASS           |
+---------------------+----------------+
| Debian Bullseye     | PASS           |
+---------------------+----------------+
| Fedora 37           | PASS           |
+---------------------+----------------+


Windows Server 2019
	Kernel: 10.0.17763
	Compiler: clang 14.0 and gcc 8.1.0 (MinGW)

Debian Bullseye
	Kernel: 5.4.0-167-generic
	Compiler: gcc 10.2.1-6

Fedora 37
	Kernel: Depends on container host system
	Compiler: gcc 12.3.1

To view detailed results, visit:
https://lab.dpdk.org/results/dashboard/patchsets/29982/

UNH-IOL DPDK Community Lab

To manage your email subscriptions, visit: 
https://lab.dpdk.org/results/dashboard/preferences/subscriptions/