From mboxrd@z Thu Jan  1 00:00:00 1970
Return-Path: <test-report-bounces@dpdk.org>
Received: from mails.dpdk.org (mails.dpdk.org [217.70.189.124])
	by inbox.dpdk.org (Postfix) with ESMTP id 3134144091
	for <public@inbox.dpdk.org>; Wed, 22 May 2024 00:38:34 +0200 (CEST)
Received: from mails.dpdk.org (localhost [127.0.0.1])
	by mails.dpdk.org (Postfix) with ESMTP id 2873240273;
	Wed, 22 May 2024 00:38:34 +0200 (CEST)
Received: from mail-yw1-f227.google.com (mail-yw1-f227.google.com
 [209.85.128.227])
 by mails.dpdk.org (Postfix) with ESMTP id 3BC1D4026B
 for <test-report@dpdk.org>; Wed, 22 May 2024 00:38:33 +0200 (CEST)
Received: by mail-yw1-f227.google.com with SMTP id
 00721157ae682-61816fc256dso2335007b3.0
 for <test-report@dpdk.org>; Tue, 21 May 2024 15:38:33 -0700 (PDT)
DKIM-Signature: v=1; a=rsa-sha256; c=relaxed/relaxed;
 d=iol.unh.edu; s=unh-iol; t=1716331112; x=1716935912; darn=dpdk.org;
 h=references:in-reply-to:cc:to:from:subject:message-id:date:from:to
 :cc:subject:date:message-id:reply-to;
 bh=ZP9p8DAOw30o4mF5vVGMwyvw07ETU3IjVTbKrA0Wlis=;
 b=Z1aGrsm1Bfpy0AGqn3v4TH3DY/DTFPF48BWdfaS2qBC+EHZFz3dzwoyYFmNYUemTmM
 jh8TXJ6Alng4exHLqSybw5xByLSZotBS0hihFOg8VRjCuQ2oRXymsZkBxQyDErZQCb/w
 5KGNhMLjZh1wAbbwmVqqY6frCaZODHOP6HwVQ=
X-Google-DKIM-Signature: v=1; a=rsa-sha256; c=relaxed/relaxed;
 d=1e100.net; s=20230601; t=1716331112; x=1716935912;
 h=references:in-reply-to:cc:to:from:subject:message-id:date
 :x-gm-message-state:from:to:cc:subject:date:message-id:reply-to;
 bh=ZP9p8DAOw30o4mF5vVGMwyvw07ETU3IjVTbKrA0Wlis=;
 b=kCDEq/vGx6nF5J7AXLhuJvaXWQbefAhwRr6GNvzvoIG+jQCaNzKEKJ7F/yuoRAPnQ7
 OFlgiz2s8j6DLTOf5FpHiYvH0c47fsmP9bKAj5ZmU31vzumbsMOVAmrTxTnVlUFQnK/7
 GAOGQDTuyjeLvkj3dTAyZYLU9oOq7ZKkzAdLIiD/Uqpho/SAbbuoc0ftB9/0QgbZMc3G
 oBhXqxW9As9gdLB6MvWXSvr03UGQtAQWGsu2RQW8xqtZp7aum9yB/TvyH5vv6muVpuAV
 sSkVjn28gy0BUWzQ6t52aUzlaAB8ykGDJH6eb7X64Umta1owLJPhnTi2LvjkxJVwM7Ho
 MwUg==
X-Gm-Message-State: AOJu0YzWxaLgO81UA8RY5sKphZIvqOE3bSTlcBP6cCmOjrbpOpqB5KeM
 My3x9p3MkIVK90jycg9vwVnhZejYqy3VeVuxaNqWW+VQYTKczP79XwWvMmMUqN6HwratAzWIwjW
 SNbVyD7XivcTCXHSv+bQuWiR8EjyC/LX62y4yPCrZFgMh94j+nBT6hR9H
X-Google-Smtp-Source: AGHT+IFMAmz2Ff3LRfuOg7rG+fX0/h2TKu1JBA7xKkpyQ1r+qDjSK1HcMs0/nmPpGYi1ADTqfDl7NycSkNrq
X-Received: by 2002:a81:84c9:0:b0:615:35e1:e512 with SMTP id
 00721157ae682-627e45133a5mr5428037b3.0.1716331112670; 
 Tue, 21 May 2024 15:38:32 -0700 (PDT)
Received: from postal.iol.unh.edu (postal.iol.unh.edu.
 [2606:4100:3880:1234::84]) by smtp-relay.gmail.com with ESMTPS id
 00721157ae682-6209e25159dsm13689497b3.25.2024.05.21.15.38.32
 (version=TLS1_2 cipher=ECDHE-ECDSA-AES128-GCM-SHA256 bits=128/128);
 Tue, 21 May 2024 15:38:32 -0700 (PDT)
X-Relaying-Domain: iol.unh.edu
Date: Tue, 21 May 2024 15:38:32 -0700 (PDT)
Message-ID: <664d2268.810a0220.30c6eb.3cb0SMTPIN_ADDED_MISSING@mx.google.com>
Received: from [172.21.0.6] (unknown [172.18.0.240])
 by postal.iol.unh.edu (Postfix) with ESMTP id 60C4C605C373;
 Tue, 21 May 2024 18:38:32 -0400 (EDT)
Subject: |SUCCESS| pw140218-140228 [PATCH] [v15,11/11] net/tap: update docume
From: dpdklab@iol.unh.edu
To: Test Report <test-report@dpdk.org>
Cc: dpdk-test-reports@iol.unh.edu
In-Reply-To: <20240521201410.126116-12-stephen@networkplumber.org>
References: <20240521201410.126116-12-stephen@networkplumber.org>
Content-Type: text/plain
X-BeenThere: test-report@dpdk.org
X-Mailman-Version: 2.1.29
Precedence: list
List-Id: automatic DPDK test reports <test-report.dpdk.org>
List-Unsubscribe: <https://mails.dpdk.org/options/test-report>,
 <mailto:test-report-request@dpdk.org?subject=unsubscribe>
List-Archive: <http://mails.dpdk.org/archives/test-report/>
List-Post: <mailto:test-report@dpdk.org>
List-Help: <mailto:test-report-request@dpdk.org?subject=help>
List-Subscribe: <https://mails.dpdk.org/listinfo/test-report>,
 <mailto:test-report-request@dpdk.org?subject=subscribe>
Errors-To: test-report-bounces@dpdk.org

Test-Label: iol-compile-arm64-testing
Test-Status: SUCCESS
http://dpdk.org/patch/140228

_Testing PASS_

Submitter: Stephen Hemminger <stephen@networkplumber.org>
Date: Tuesday, May 21 2024 20:12:56 
DPDK git baseline: Repo:dpdk
  Branch: master
  CommitID:6f80df8cb0f889203d7cd27766abcc6ebc720e33

140218-140228 --> testing pass

Test environment and result as below:

+----------------------------------------+--------------------+
|              Environment               | dpdk_meson_compile |
+========================================+====================+
| Ubuntu 20.04 ARM SVE                   | PASS               |
+----------------------------------------+--------------------+
| Debian 12 with MUSDK                   | PASS               |
+----------------------------------------+--------------------+
| Fedora 38 (ARM)                        | PASS               |
+----------------------------------------+--------------------+
| Fedora 37 (ARM)                        | PASS               |
+----------------------------------------+--------------------+
| Ubuntu 20.04 aarch32 GCC Cross Compile | PASS               |
+----------------------------------------+--------------------+
| Fedora 39 (ARM)                        | PASS               |
+----------------------------------------+--------------------+
| Debian 11 (Buster) (ARM)               | PASS               |
+----------------------------------------+--------------------+
| Debian 12 (arm)                        | PASS               |
+----------------------------------------+--------------------+
| Ubuntu 20.04 ARM Clang Cross Compile   | PASS               |
+----------------------------------------+--------------------+
| CentOS Stream 9 (ARM)                  | PASS               |
+----------------------------------------+--------------------+
| Ubuntu 20.04 (ARM)                     | PASS               |
+----------------------------------------+--------------------+


Ubuntu 20.04 ARM SVE
	Kernel: 5.4.0-167-generic
	Compiler: gcc (Ubuntu 10.5.0-1ubuntu1~20.04) 10.5.0

Debian 12 with MUSDK
	Kernel: Container Host Kernel
	Compiler: gcc 12.2.0

Fedora 38 (ARM)
	Kernel: Depends on container host
	Compiler: gcc 13.2.1

Fedora 37 (ARM)
	Kernel: Depends on container host
	Compiler: gcc 12.3.1

Ubuntu 20.04 aarch32 GCC Cross Compile
	Kernel: 5.4.0-167-generic
	Compiler: gcc 9.4.0

Fedora 39 (ARM)
	Kernel: Depends on container host
	Compiler: gcc 13.2.1

Debian 11 (Buster) (ARM)
	Kernel: Container Host Kernel
	Compiler: gcc 10.2.1

Debian 12 (arm)
	Kernel: Container Host Kernel
	Compiler: gcc 12.2.0

Ubuntu 20.04 ARM Clang Cross Compile
	Kernel: 5.4.0-72-generic
	Compiler: clang 10.0.0-4ubuntu1

CentOS Stream 9 (ARM)
	Kernel: Container Host Kernel
	Compiler: gcc 11.4.1

Ubuntu 20.04 (ARM)
	Kernel: Container Host Kernel
	Compiler: gcc 9.4.0

To view detailed results, visit:
https://lab.dpdk.org/results/dashboard/patchsets/29984/

UNH-IOL DPDK Community Lab

To manage your email subscriptions, visit: 
https://lab.dpdk.org/results/dashboard/preferences/subscriptions/