From mboxrd@z Thu Jan  1 00:00:00 1970
Return-Path: <test-report-bounces@dpdk.org>
Received: from mails.dpdk.org (mails.dpdk.org [217.70.189.124])
	by inbox.dpdk.org (Postfix) with ESMTP id 6F5FD44091
	for <public@inbox.dpdk.org>; Wed, 22 May 2024 01:35:30 +0200 (CEST)
Received: from mails.dpdk.org (localhost [127.0.0.1])
	by mails.dpdk.org (Postfix) with ESMTP id 3B34C40273;
	Wed, 22 May 2024 01:35:30 +0200 (CEST)
Received: from mail-qv1-f99.google.com (mail-qv1-f99.google.com
 [209.85.219.99]) by mails.dpdk.org (Postfix) with ESMTP id AC2414026B
 for <test-report@dpdk.org>; Wed, 22 May 2024 01:35:28 +0200 (CEST)
Received: by mail-qv1-f99.google.com with SMTP id
 6a1803df08f44-6aad7449f22so15074906d6.2
 for <test-report@dpdk.org>; Tue, 21 May 2024 16:35:28 -0700 (PDT)
DKIM-Signature: v=1; a=rsa-sha256; c=relaxed/relaxed;
 d=iol.unh.edu; s=unh-iol; t=1716334528; x=1716939328; darn=dpdk.org;
 h=references:in-reply-to:cc:to:from:subject:message-id:date:from:to
 :cc:subject:date:message-id:reply-to;
 bh=82bKYaiL7v3pPwq5EHVocw9VLb6wC5MRh2ltvDScL/M=;
 b=LDMNE5TgCWqUbeSd9sDlXavGVS5tJTDHxqrWQJjHZNrp+vmRF5vmiUirG5TIGdo3iS
 9z5d3YrCtn1Yw9vyQV6BK4fB0XWKDHmCIAn1f8wbCeBYJfcz4KVdJO+H015g0/79croT
 +FcVNlS0+f8KNg8b3aMkjsj5MDMwlh1aYs/aw=
X-Google-DKIM-Signature: v=1; a=rsa-sha256; c=relaxed/relaxed;
 d=1e100.net; s=20230601; t=1716334528; x=1716939328;
 h=references:in-reply-to:cc:to:from:subject:message-id:date
 :x-gm-message-state:from:to:cc:subject:date:message-id:reply-to;
 bh=82bKYaiL7v3pPwq5EHVocw9VLb6wC5MRh2ltvDScL/M=;
 b=XZkzdQjsdrbqF2k76ZzR2LdxYY3NMLBQPN8E8nK3P+iiEDy5qURybiLtOCNTAGavN5
 MDdQtU7RyTzXTS25TDWh2Xa/ECoSZkihnsNnyx5JhHcraUQ4Se3U2G0nwBEGOyRpSojU
 NgjNIhxC4l4hrtgVyyq6dMIz3PpLT0Li4rwDBVNXxq7QW0ljsFuxNWKjeqkdEH2yA5o0
 Y0Ctdhy9WaqBw+GXY0vW9JE+nNTU2gAsVwAmUrHPjanijmU5+LTBAHWxcbhF/+pAV6fE
 jXMUNup9m/5R21daXEbBFCjsng+xMToktb302Nt/2PtnoBz8VKaJaZAvcn7asFZatWON
 mUlQ==
X-Gm-Message-State: AOJu0Yym0JYrqt9TrWcbnRVGUM6vfl/TAHL7IXrM+jbq0K96AZ/N2Lih
 VQln2dBNOjRmhFMwsL62S3tL3GpW4P+D8PUUeKZ3V/g330Izsiz5pobShFVuEfxLny+WvvzyCda
 Ot/NtM8ICHxrTeGRRKL6xWYq/XhQf4R53WLCd4PSj
X-Google-Smtp-Source: AGHT+IF8h84fVifyYQZW7acpTCxgyMir9Bzx9pjh3cTJ7GZJVutnULIgjAzAPk563n72pKkpPFxKoACJQT02
X-Received: by 2002:a05:6214:5707:b0:6ab:1b6b:c8bb with SMTP id
 6a1803df08f44-6ab7f373b35mr5457616d6.36.1716334528008; 
 Tue, 21 May 2024 16:35:28 -0700 (PDT)
Received: from postal.iol.unh.edu (postal.iol.unh.edu. [132.177.123.84])
 by smtp-relay.gmail.com with ESMTPS id
 6a1803df08f44-6ab7adb253esm818556d6.25.2024.05.21.16.35.27
 (version=TLS1_2 cipher=ECDHE-ECDSA-AES128-GCM-SHA256 bits=128/128);
 Tue, 21 May 2024 16:35:27 -0700 (PDT)
X-Relaying-Domain: iol.unh.edu
Date: Tue, 21 May 2024 16:35:27 -0700 (PDT)
Message-ID: <664d2fbf.d40a0220.6c140.442dSMTPIN_ADDED_MISSING@mx.google.com>
Received: from [172.17.0.2] (unknown [172.18.0.217])
 by postal.iol.unh.edu (Postfix) with ESMTP id AA3B6605C373;
 Tue, 21 May 2024 19:35:27 -0400 (EDT)
Subject: |SUCCESS| pw140218-140228 [PATCH] [v15,11/11] net/tap: update docume
From: dpdklab@iol.unh.edu
To: Test Report <test-report@dpdk.org>
Cc: dpdk-test-reports@iol.unh.edu
In-Reply-To: <20240521201410.126116-12-stephen@networkplumber.org>
References: <20240521201410.126116-12-stephen@networkplumber.org>
Content-Type: text/plain
X-BeenThere: test-report@dpdk.org
X-Mailman-Version: 2.1.29
Precedence: list
List-Id: automatic DPDK test reports <test-report.dpdk.org>
List-Unsubscribe: <https://mails.dpdk.org/options/test-report>,
 <mailto:test-report-request@dpdk.org?subject=unsubscribe>
List-Archive: <http://mails.dpdk.org/archives/test-report/>
List-Post: <mailto:test-report@dpdk.org>
List-Help: <mailto:test-report-request@dpdk.org?subject=help>
List-Subscribe: <https://mails.dpdk.org/listinfo/test-report>,
 <mailto:test-report-request@dpdk.org?subject=subscribe>
Errors-To: test-report-bounces@dpdk.org

Test-Label: iol-unit-arm64-testing
Test-Status: SUCCESS
http://dpdk.org/patch/140228

_Testing PASS_

Submitter: Stephen Hemminger <stephen@networkplumber.org>
Date: Tuesday, May 21 2024 20:12:56 
DPDK git baseline: Repo:dpdk
  Branch: master
  CommitID:6f80df8cb0f889203d7cd27766abcc6ebc720e33

140218-140228 --> testing pass

Test environment and result as below:

+-----------------------------+----------------+---------------------------+--------------+------------------------------+
|         Environment         | dpdk_unit_test | cryptodev_sw_zuc_autotest | lpm_autotest | cryptodev_sw_snow3g_autotest |
+=============================+================+===========================+==============+==============================+
| Fedora 37 (ARM)             | PASS           | SKIPPED                   | SKIPPED      | SKIPPED                      |
+-----------------------------+----------------+---------------------------+--------------+------------------------------+
| Debian 11 (Buster) (ARM)    | PASS           | SKIPPED                   | SKIPPED      | SKIPPED                      |
+-----------------------------+----------------+---------------------------+--------------+------------------------------+
| Debian 12 (arm)             | PASS           | PASS                      | SKIPPED      | PASS                         |
+-----------------------------+----------------+---------------------------+--------------+------------------------------+
| CentOS Stream 9 (ARM)       | PASS           | SKIPPED                   | SKIPPED      | SKIPPED                      |
+-----------------------------+----------------+---------------------------+--------------+------------------------------+
| Fedora 38 (ARM)             | PASS           | SKIPPED                   | SKIPPED      | SKIPPED                      |
+-----------------------------+----------------+---------------------------+--------------+------------------------------+
| Fedora 39 (ARM)             | PASS           | SKIPPED                   | SKIPPED      | SKIPPED                      |
+-----------------------------+----------------+---------------------------+--------------+------------------------------+
| Ubuntu 20.04 (ARM)          | PASS           | SKIPPED                   | SKIPPED      | SKIPPED                      |
+-----------------------------+----------------+---------------------------+--------------+------------------------------+
| 32-bit Ubuntu 20.04.4 (ARM) | PASS           | SKIPPED                   | SKIPPED      | SKIPPED                      |
+-----------------------------+----------------+---------------------------+--------------+------------------------------+
| Fedora 38 (ARM Clang)       | PASS           | SKIPPED                   | SKIPPED      | SKIPPED                      |
+-----------------------------+----------------+---------------------------+--------------+------------------------------+
| Fedora 39 (ARM Clang)       | PASS           | SKIPPED                   | SKIPPED      | SKIPPED                      |
+-----------------------------+----------------+---------------------------+--------------+------------------------------+
| Ubuntu 20.04 ARM SVE        | SKIPPED        | SKIPPED                   | PASS         | SKIPPED                      |
+-----------------------------+----------------+---------------------------+--------------+------------------------------+


Fedora 37 (ARM)
	Kernel: Depends on container host
	Compiler: gcc 12.3.1

Debian 11 (Buster) (ARM)
	Kernel: Container Host Kernel
	Compiler: gcc 10.2.1

Debian 12 (arm)
	Kernel: Container Host Kernel
	Compiler: gcc 12.2.0

CentOS Stream 9 (ARM)
	Kernel: Container Host Kernel
	Compiler: gcc 11.4.1

Fedora 38 (ARM)
	Kernel: Depends on container host
	Compiler: gcc 13.2.1

Fedora 39 (ARM)
	Kernel: Depends on container host
	Compiler: gcc 13.2.1

Ubuntu 20.04 (ARM)
	Kernel: Container Host Kernel
	Compiler: gcc 9.4.0

32-bit Ubuntu 20.04.4 (ARM)
	Kernel: 5.4.0-155-generic aarch64
	Compiler: gcc 9.4

Fedora 38 (ARM Clang)
	Kernel: Depends on container host
	Compiler: clang 16.0.6

Fedora 39 (ARM Clang)
	Kernel: Depends on container host
	Compiler: clang 17.0.6

Ubuntu 20.04 ARM SVE
	Kernel: 5.4.0-167-generic
	Compiler: gcc (Ubuntu 10.5.0-1ubuntu1~20.04) 10.5.0

To view detailed results, visit:
https://lab.dpdk.org/results/dashboard/patchsets/29984/

UNH-IOL DPDK Community Lab

To manage your email subscriptions, visit: 
https://lab.dpdk.org/results/dashboard/preferences/subscriptions/