From mboxrd@z Thu Jan  1 00:00:00 1970
Return-Path: <test-report-bounces@dpdk.org>
Received: from mails.dpdk.org (mails.dpdk.org [217.70.189.124])
	by inbox.dpdk.org (Postfix) with ESMTP id BF14044094
	for <public@inbox.dpdk.org>; Wed, 22 May 2024 06:37:36 +0200 (CEST)
Received: from mails.dpdk.org (localhost [127.0.0.1])
	by mails.dpdk.org (Postfix) with ESMTP id B676E40273;
	Wed, 22 May 2024 06:37:36 +0200 (CEST)
Received: from mail-qk1-f227.google.com (mail-qk1-f227.google.com
 [209.85.222.227])
 by mails.dpdk.org (Postfix) with ESMTP id D2277400D6
 for <test-report@dpdk.org>; Wed, 22 May 2024 06:37:34 +0200 (CEST)
Received: by mail-qk1-f227.google.com with SMTP id
 af79cd13be357-792bc48f6beso328903085a.2
 for <test-report@dpdk.org>; Tue, 21 May 2024 21:37:34 -0700 (PDT)
DKIM-Signature: v=1; a=rsa-sha256; c=relaxed/relaxed;
 d=iol.unh.edu; s=unh-iol; t=1716352654; x=1716957454; darn=dpdk.org;
 h=references:in-reply-to:cc:to:from:subject:message-id:date:from:to
 :cc:subject:date:message-id:reply-to;
 bh=Ozz4gr0cs6idvrI8VZ1uNhDFx3rMv5RerPpzB/rUnc4=;
 b=Zq+OsO70uEq6hCRG14eEbPhmqORUdrwIhqcUtatJFdrxDuMbzin2BJwVWsUZ/uz7aA
 wgLsbVOVhAHcRCFoM8TMgqCwO4JKsSbxWhK20REC+zFnZffhNAsQzyE7+ns5HHlblaEq
 BUu5z0IIRh2lH5SnsmLnIqw3Y6qGN/FjOBgvE=
X-Google-DKIM-Signature: v=1; a=rsa-sha256; c=relaxed/relaxed;
 d=1e100.net; s=20230601; t=1716352654; x=1716957454;
 h=references:in-reply-to:cc:to:from:subject:message-id:date
 :x-gm-message-state:from:to:cc:subject:date:message-id:reply-to;
 bh=Ozz4gr0cs6idvrI8VZ1uNhDFx3rMv5RerPpzB/rUnc4=;
 b=ZOKw9NPsvSk+gxWtExEN9rrxpG510IOcmw5+fSezbXKGxf5onvfYTHUOfavzqdqL+V
 ZMMcSXf8AO05p1Atm7VRlayjqeoVFddRFPVSLYhixPILKX02pKZVzA6tEUtjG15kQFCS
 L/0+oHuoYKkaukOP4kFRBHf3uPxSqZ+tu7f9COBf+qhiK9/ZJRqnfNm1ZpBdTYVHNCfI
 ktvlk5ZQF1z7i/uE2J2ktfN+f3HySGm6vwciVQEtMUBvsgMqq2rwb6Ro7mVYWzuQY+bm
 zJTSwvJIcPfI8eA0zEcsK/BGDtUdNGu6r51vITddaG40NXYB1jQd9f/f4RucqZnb8C0A
 RqEw==
X-Gm-Message-State: AOJu0YxJ4EcJGTP7fHDRz1hQ61+pRboLVsDD9hMB76TTZY5GiziTb2Rz
 ytgioknRHMr0DeYW70ieCemQYcAF6uk17RFFuKOeO2wHVWSANHUmzl29ntLXhoiq+oXq7SIGVFM
 ESmV1y50HrHiRHtIM7+N/Lnv7SUFVl4+Jc27zvq0B
X-Google-Smtp-Source: AGHT+IE1RUrEFjQZlr+Vmepx6jO78u7Lq3S7UOgME56fFf7Ylj0p8R8O/4oljrw8qYoH7zN2utbf3xlenukP
X-Received: by 2002:a05:6214:498b:b0:6ab:6c4e:7c63 with SMTP id
 6a1803df08f44-6ab808f2d0amr9503926d6.44.1716352654312; 
 Tue, 21 May 2024 21:37:34 -0700 (PDT)
Received: from postal.iol.unh.edu (postal.iol.unh.edu. [132.177.123.84])
 by smtp-relay.gmail.com with ESMTPS id
 6a1803df08f44-6aab783b676sm4024986d6.45.2024.05.21.21.37.34
 (version=TLS1_2 cipher=ECDHE-ECDSA-AES128-GCM-SHA256 bits=128/128);
 Tue, 21 May 2024 21:37:34 -0700 (PDT)
X-Relaying-Domain: iol.unh.edu
Date: Tue, 21 May 2024 21:37:34 -0700 (PDT)
Message-ID: <664d768e.050a0220.b2063.5828SMTPIN_ADDED_MISSING@mx.google.com>
Received: from [172.21.0.6] (unknown [172.18.0.240])
 by postal.iol.unh.edu (Postfix) with ESMTP id 0887B605C373;
 Wed, 22 May 2024 00:37:34 -0400 (EDT)
Subject: |SUCCESS| pw140238-140269 [PATCH] [v5,32/32] net/af_xdp:: replace us
From: dpdklab@iol.unh.edu
To: Test Report <test-report@dpdk.org>
Cc: dpdk-test-reports@iol.unh.edu
In-Reply-To: <20240522033009.143100-33-stephen@networkplumber.org>
References: <20240522033009.143100-33-stephen@networkplumber.org>
Content-Type: text/plain
X-BeenThere: test-report@dpdk.org
X-Mailman-Version: 2.1.29
Precedence: list
List-Id: automatic DPDK test reports <test-report.dpdk.org>
List-Unsubscribe: <https://mails.dpdk.org/options/test-report>,
 <mailto:test-report-request@dpdk.org?subject=unsubscribe>
List-Archive: <http://mails.dpdk.org/archives/test-report/>
List-Post: <mailto:test-report@dpdk.org>
List-Help: <mailto:test-report-request@dpdk.org?subject=help>
List-Subscribe: <https://mails.dpdk.org/listinfo/test-report>,
 <mailto:test-report-request@dpdk.org?subject=subscribe>
Errors-To: test-report-bounces@dpdk.org

Test-Label: iol-compile-amd64-testing
Test-Status: SUCCESS
http://dpdk.org/patch/140269

_Testing PASS_

Submitter: Stephen Hemminger <stephen@networkplumber.org>
Date: Wednesday, May 22 2024 03:27:59 
DPDK git baseline: Repo:dpdk
  Branch: master
  CommitID:6f80df8cb0f889203d7cd27766abcc6ebc720e33

140238-140269 --> testing pass

Test environment and result as below:

+---------------------+--------------------+------------------+-------------------+----------------------+
|     Environment     | dpdk_meson_compile | dpdk_compile_ovs | dpdk_msvc_compile | dpdk_mingw64_compile |
+=====================+====================+==================+===================+======================+
| FreeBSD 13.3        | PASS               | SKIPPED          | SKIPPED           | SKIPPED              |
+---------------------+--------------------+------------------+-------------------+----------------------+
| CentOS Stream 8     | PASS               | PASS             | SKIPPED           | SKIPPED              |
+---------------------+--------------------+------------------+-------------------+----------------------+
| Windows Server 2019 | PASS               | SKIPPED          | SKIPPED           | PASS                 |
+---------------------+--------------------+------------------+-------------------+----------------------+
| Windows Server 2022 | PASS               | SKIPPED          | PASS              | PASS                 |
+---------------------+--------------------+------------------+-------------------+----------------------+
| Debian Bullseye     | PASS               | PASS             | SKIPPED           | SKIPPED              |
+---------------------+--------------------+------------------+-------------------+----------------------+
| FreeBSD 14.0        | PASS               | SKIPPED          | SKIPPED           | SKIPPED              |
+---------------------+--------------------+------------------+-------------------+----------------------+
| CentOS Stream 9     | PASS               | PASS             | SKIPPED           | SKIPPED              |
+---------------------+--------------------+------------------+-------------------+----------------------+
| Fedora 37           | PASS               | PASS             | SKIPPED           | SKIPPED              |
+---------------------+--------------------+------------------+-------------------+----------------------+
| Fedora 38           | PASS               | PASS             | SKIPPED           | SKIPPED              |
+---------------------+--------------------+------------------+-------------------+----------------------+
| openSUSE Leap 15    | PASS               | PASS             | SKIPPED           | SKIPPED              |
+---------------------+--------------------+------------------+-------------------+----------------------+
| Debian 12           | PASS               | PASS             | SKIPPED           | SKIPPED              |
+---------------------+--------------------+------------------+-------------------+----------------------+
| RHEL8               | PASS               | PASS             | SKIPPED           | SKIPPED              |
+---------------------+--------------------+------------------+-------------------+----------------------+
| Fedora 39           | PASS               | PASS             | SKIPPED           | SKIPPED              |
+---------------------+--------------------+------------------+-------------------+----------------------+
| Alpine              | PASS               | SKIPPED          | SKIPPED           | SKIPPED              |
+---------------------+--------------------+------------------+-------------------+----------------------+
| Ubuntu 22.04        | PASS               | PASS             | SKIPPED           | SKIPPED              |
+---------------------+--------------------+------------------+-------------------+----------------------+
| Ubuntu 20.04        | PASS               | PASS             | SKIPPED           | SKIPPED              |
+---------------------+--------------------+------------------+-------------------+----------------------+


FreeBSD 13.3
	Kernel: 13.3-RELEASE-p1
	Compiler: clang 17.0.6

CentOS Stream 8
	Kernel: 5.4.0-167-generic
	Compiler: gcc 8.5.0 20210514

Windows Server 2019
	Kernel: 10.0.17763
	Compiler: clang 14.0 and gcc 8.1.0 (MinGW)

Windows Server 2022
	Kernel: 10.0.20348.2031
	Compiler: clang 15.0.7, gcc 8.1.0 (MinGW), and MSVC VS 17.9

Debian Bullseye
	Kernel: 5.4.0-167-generic
	Compiler: gcc 10.2.1-6

FreeBSD 14.0
	Kernel: 14.0
	Compiler: clang 16.0.6

CentOS Stream 9
	Kernel: 5.4.0-167-generic
	Compiler: gcc 11.4.1 20230605

Fedora 37
	Kernel: Depends on container host system
	Compiler: gcc 12.3.1

Fedora 38
	Kernel: Depends on container host
	Compiler: gcc 13.2.1

openSUSE Leap 15
	Kernel: 5.4.0-167-generic
	Compiler: gcc 7.5.0

Debian 12
	Kernel: Container Host Kernel
	Compiler: gcc 10.2.1

RHEL8
	Kernel: 5.4.0-167-generic
	Compiler: gcc 8.5.0 20210514 (Red Hat 8.5.0-20)

Fedora 39
	Kernel: Depends on container host
	Compiler: gcc 13.2.1

Alpine
	Kernel: 5.4.0-167-generic
	Compiler: gcc (Alpine 13.2.1_git20231014) 13.2.1 20231014

Ubuntu 22.04
	Kernel: 5.4.0-167-generic
	Compiler: gcc 11.4.0

Ubuntu 20.04
	Kernel: 5.4.0-167-generic
	Compiler: gcc 9.4.0-1ubuntu1~20.04.1

To view detailed results, visit:
https://lab.dpdk.org/results/dashboard/patchsets/29987/

UNH-IOL DPDK Community Lab

To manage your email subscriptions, visit: 
https://lab.dpdk.org/results/dashboard/preferences/subscriptions/