From mboxrd@z Thu Jan  1 00:00:00 1970
Return-Path: <test-report-bounces@dpdk.org>
Received: from mails.dpdk.org (mails.dpdk.org [217.70.189.124])
	by inbox.dpdk.org (Postfix) with ESMTP id E2EC844094
	for <public@inbox.dpdk.org>; Wed, 22 May 2024 06:39:02 +0200 (CEST)
Received: from mails.dpdk.org (localhost [127.0.0.1])
	by mails.dpdk.org (Postfix) with ESMTP id DEB8A40273;
	Wed, 22 May 2024 06:39:02 +0200 (CEST)
Received: from mail-yw1-f225.google.com (mail-yw1-f225.google.com
 [209.85.128.225])
 by mails.dpdk.org (Postfix) with ESMTP id A40F7400D6
 for <test-report@dpdk.org>; Wed, 22 May 2024 06:39:01 +0200 (CEST)
Received: by mail-yw1-f225.google.com with SMTP id
 00721157ae682-622f5a0badcso49379427b3.2
 for <test-report@dpdk.org>; Tue, 21 May 2024 21:39:01 -0700 (PDT)
DKIM-Signature: v=1; a=rsa-sha256; c=relaxed/relaxed;
 d=iol.unh.edu; s=unh-iol; t=1716352741; x=1716957541; darn=dpdk.org;
 h=references:in-reply-to:cc:to:from:subject:message-id:date:from:to
 :cc:subject:date:message-id:reply-to;
 bh=BT2OSGeXC5ieqiGiZOy3erbMcG/zyUMlD+5hQ93mxkA=;
 b=JdFz+TbgOROIKW1RrhE/MiLzxq7SbOYXNtAfsmM42VAoHILtemnbtdUmQVHEfXCkja
 PC9CaAr09FhDKlDRC89ejVdU6RPpg7ZGZNiKmH3F4zUBGZM5CgvcOkPsIXtA9AhEAdMv
 hTIMgsEGQE44B1ZAKLm4EiQYq97QXnqOs/iag=
X-Google-DKIM-Signature: v=1; a=rsa-sha256; c=relaxed/relaxed;
 d=1e100.net; s=20230601; t=1716352741; x=1716957541;
 h=references:in-reply-to:cc:to:from:subject:message-id:date
 :x-gm-message-state:from:to:cc:subject:date:message-id:reply-to;
 bh=BT2OSGeXC5ieqiGiZOy3erbMcG/zyUMlD+5hQ93mxkA=;
 b=QPn66NO4UIirKyQzfEccN4pcx+MqbWrOqdBxzm3nhDJKMaVtU7Tvf+cgjcBLQO24mQ
 KQJDkYKpoaU+37f+hb4BfltLvlU+cbUZZ9nGDF92048EstjUJk2c/0ktreitxpoUczAW
 b6y2kNui+a+SK2H3Q9k3Pei6JjuDWxUzQu9bH0K07nhx8jZQlbSkntTz5E/F+d9fbByb
 39Rh5qUAviD4vBJWHpfhaqHaaj6ulQ8OLysCn8QvbYQEhbXGHR4AdFNRjvwZmv7rtgCC
 MzRuGckrGhQubKpBgPTgQG+DLDaCqXkbzkaVMamhQ1Txaz4vXNJD5ci+prOiyK0mL2Ov
 Hsaw==
X-Gm-Message-State: AOJu0YzABPLGLqMHk6qv9Tx4N5ddZu3Yy61v9MfuSeT2UbnNXRKj11xk
 4rXas5kJIE++UWxmNUx+RHRbuAdrBYqVFC5YuGODResPey/INOkLQvbt41gFnVskzh8ka9t3Tzz
 S3Smf2z+wfRn/b73G0eHLMmxkDnDBiVXAwSt1+VIoCFZQXTHwYWc0tEnb
X-Google-Smtp-Source: AGHT+IG7MJ0hS2481MCxIol9tkaYMcNtERSvbQvWw3HL1IkP0QY4RhUSLEJ+TokQsXxKzvU3F1zH/bnqEvga
X-Received: by 2002:a0d:e28b:0:b0:627:956b:dbca with SMTP id
 00721157ae682-627e48660f5mr10525077b3.40.1716352741131; 
 Tue, 21 May 2024 21:39:01 -0700 (PDT)
Received: from postal.iol.unh.edu (postal.iol.unh.edu.
 [2606:4100:3880:1234::84]) by smtp-relay.gmail.com with ESMTPS id
 6a1803df08f44-6ab7104d1fasm2176816d6.30.2024.05.21.21.39.01
 (version=TLS1_2 cipher=ECDHE-ECDSA-AES128-GCM-SHA256 bits=128/128);
 Tue, 21 May 2024 21:39:01 -0700 (PDT)
X-Relaying-Domain: iol.unh.edu
Date: Tue, 21 May 2024 21:39:01 -0700 (PDT)
Message-ID: <664d76e5.050a0220.2dafc.c8cdSMTPIN_ADDED_MISSING@mx.google.com>
Received: from [172.17.0.3] (unknown [172.18.0.217])
 by postal.iol.unh.edu (Postfix) with ESMTP id D641E605C373;
 Wed, 22 May 2024 00:39:00 -0400 (EDT)
Subject: |SUCCESS| pw140238-140269 [PATCH] [v5,32/32] net/af_xdp:: replace us
From: dpdklab@iol.unh.edu
To: Test Report <test-report@dpdk.org>
Cc: dpdk-test-reports@iol.unh.edu
In-Reply-To: <20240522033009.143100-33-stephen@networkplumber.org>
References: <20240522033009.143100-33-stephen@networkplumber.org>
Content-Type: text/plain
X-BeenThere: test-report@dpdk.org
X-Mailman-Version: 2.1.29
Precedence: list
List-Id: automatic DPDK test reports <test-report.dpdk.org>
List-Unsubscribe: <https://mails.dpdk.org/options/test-report>,
 <mailto:test-report-request@dpdk.org?subject=unsubscribe>
List-Archive: <http://mails.dpdk.org/archives/test-report/>
List-Post: <mailto:test-report@dpdk.org>
List-Help: <mailto:test-report-request@dpdk.org?subject=help>
List-Subscribe: <https://mails.dpdk.org/listinfo/test-report>,
 <mailto:test-report-request@dpdk.org?subject=subscribe>
Errors-To: test-report-bounces@dpdk.org

Test-Label: iol-compile-arm64-testing
Test-Status: SUCCESS
http://dpdk.org/patch/140269

_Testing PASS_

Submitter: Stephen Hemminger <stephen@networkplumber.org>
Date: Wednesday, May 22 2024 03:27:59 
DPDK git baseline: Repo:dpdk
  Branch: master
  CommitID:6f80df8cb0f889203d7cd27766abcc6ebc720e33

140238-140269 --> testing pass

Test environment and result as below:

+----------------------------------------+--------------------+
|              Environment               | dpdk_meson_compile |
+========================================+====================+
| Ubuntu 20.04 ARM SVE                   | PASS               |
+----------------------------------------+--------------------+
| Debian 12 with MUSDK                   | PASS               |
+----------------------------------------+--------------------+
| Fedora 37 (ARM)                        | PASS               |
+----------------------------------------+--------------------+
| CentOS Stream 9 (ARM)                  | PASS               |
+----------------------------------------+--------------------+
| Fedora 39 (ARM)                        | PASS               |
+----------------------------------------+--------------------+
| Ubuntu 20.04 aarch32 GCC Cross Compile | PASS               |
+----------------------------------------+--------------------+
| Ubuntu 20.04 ARM GCC Cross Compile     | PASS               |
+----------------------------------------+--------------------+
| Debian 11 (Buster) (ARM)               | PASS               |
+----------------------------------------+--------------------+
| Ubuntu 20.04 ARM Clang Cross Compile   | PASS               |
+----------------------------------------+--------------------+
| Debian 12 (arm)                        | PASS               |
+----------------------------------------+--------------------+


Ubuntu 20.04 ARM SVE
	Kernel: 5.4.0-167-generic
	Compiler: gcc (Ubuntu 10.5.0-1ubuntu1~20.04) 10.5.0

Debian 12 with MUSDK
	Kernel: Container Host Kernel
	Compiler: gcc 12.2.0

Fedora 37 (ARM)
	Kernel: Depends on container host
	Compiler: gcc 12.3.1

CentOS Stream 9 (ARM)
	Kernel: Container Host Kernel
	Compiler: gcc 11.4.1

Fedora 39 (ARM)
	Kernel: Depends on container host
	Compiler: gcc 13.2.1

Ubuntu 20.04 aarch32 GCC Cross Compile
	Kernel: 5.4.0-167-generic
	Compiler: gcc 9.4.0

Ubuntu 20.04 ARM GCC Cross Compile
	Kernel: 5.4.0-167-generic
	Compiler: aarch64-linux-gnu-gcc (Ubuntu 9.4.0-1ubuntu1~20.04.2) 9.4.0

Debian 11 (Buster) (ARM)
	Kernel: Container Host Kernel
	Compiler: gcc 10.2.1

Ubuntu 20.04 ARM Clang Cross Compile
	Kernel: 5.4.0-72-generic
	Compiler: clang 10.0.0-4ubuntu1

Debian 12 (arm)
	Kernel: Container Host Kernel
	Compiler: gcc 12.2.0

To view detailed results, visit:
https://lab.dpdk.org/results/dashboard/patchsets/29987/

UNH-IOL DPDK Community Lab

To manage your email subscriptions, visit: 
https://lab.dpdk.org/results/dashboard/preferences/subscriptions/